BEGIN:VCALENDAR
VERSION:2.0
PRODID:-//Neighbourhood Unitarian Universalist Congregation - ECPv6.15.20//NONSGML v1.0//EN
CALSCALE:GREGORIAN
METHOD:PUBLISH
X-WR-CALNAME:Neighbourhood Unitarian Universalist Congregation
X-ORIGINAL-URL:https://www.nuuc.ca
X-WR-CALDESC:Events for Neighbourhood Unitarian Universalist Congregation
REFRESH-INTERVAL;VALUE=DURATION:PT1H
X-Robots-Tag:noindex
X-PUBLISHED-TTL:PT1H
BEGIN:VTIMEZONE
TZID:America/Toronto
BEGIN:DAYLIGHT
TZOFFSETFROM:-0500
TZOFFSETTO:-0400
TZNAME:EDT
DTSTART:20280312T070000
END:DAYLIGHT
BEGIN:STANDARD
TZOFFSETFROM:-0400
TZOFFSETTO:-0500
TZNAME:EST
DTSTART:20281105T060000
END:STANDARD
BEGIN:DAYLIGHT
TZOFFSETFROM:-0500
TZOFFSETTO:-0400
TZNAME:EDT
DTSTART:20290311T070000
END:DAYLIGHT
BEGIN:STANDARD
TZOFFSETFROM:-0400
TZOFFSETTO:-0500
TZNAME:EST
DTSTART:20291104T060000
END:STANDARD
BEGIN:DAYLIGHT
TZOFFSETFROM:-0500
TZOFFSETTO:-0400
TZNAME:EDT
DTSTART:20300310T070000
END:DAYLIGHT
BEGIN:STANDARD
TZOFFSETFROM:-0400
TZOFFSETTO:-0500
TZNAME:EST
DTSTART:20301103T060000
END:STANDARD
BEGIN:DAYLIGHT
TZOFFSETFROM:-0500
TZOFFSETTO:-0400
TZNAME:EDT
DTSTART:20310309T070000
END:DAYLIGHT
BEGIN:STANDARD
TZOFFSETFROM:-0400
TZOFFSETTO:-0500
TZNAME:EST
DTSTART:20311102T060000
END:STANDARD
END:VTIMEZONE
BEGIN:VEVENT
DTSTART;TZID=America/Toronto:20291210T210000
DTEND;TZID=America/Toronto:20291210T230000
DTSTAMP:20260423T111912
CREATED:20250307T172335Z
LAST-MODIFIED:20250307T172335Z
UID:10001434-1891630800-1891638000@www.nuuc.ca
SUMMARY:Spirit Band Rehearsal
DESCRIPTION:
URL:https://www.nuuc.ca/event/spirit-band-rehearsal-4/2029-12-10/
END:VEVENT
BEGIN:VEVENT
DTSTART;TZID=America/Toronto:20291216T103000
DTEND;TZID=America/Toronto:20291216T120000
DTSTAMP:20260423T111912
CREATED:20250207T200538Z
LAST-MODIFIED:20250207T200538Z
UID:10000845-1892111400-1892116800@www.nuuc.ca
SUMMARY:Sunday Service
DESCRIPTION:  \n 
URL:https://www.nuuc.ca/event/sunday-service-19/2029-12-16/
LOCATION:Rafos Hall\, 310 Danforth Ave\, Toronto\, Ontario\, M4K 2X4\, Canada
CATEGORIES:Worship Service
ATTACH;FMTTYPE=image/jpeg:https://www.nuuc.ca/wp-content/uploads/2023/11/Chalice-white-candles-scaled.jpg
END:VEVENT
BEGIN:VEVENT
DTSTART;TZID=America/Toronto:20291217T183000
DTEND;TZID=America/Toronto:20291217T210000
DTSTAMP:20260423T111912
CREATED:20260211T163230Z
LAST-MODIFIED:20260211T163230Z
UID:10001984-1892226600-1892235600@www.nuuc.ca
SUMMARY:Spirit Choir Rehearsal
DESCRIPTION:
URL:https://www.nuuc.ca/event/spirit-choir-rehearsal-5/2029-12-17/
CATEGORIES:Rehearsal only
ATTACH;FMTTYPE=image/jpeg:https://www.nuuc.ca/wp-content/uploads/2025/01/music-rainbow-1.jpg
END:VEVENT
BEGIN:VEVENT
DTSTART;TZID=America/Toronto:20291217T210000
DTEND;TZID=America/Toronto:20291217T230000
DTSTAMP:20260423T111912
CREATED:20250307T172335Z
LAST-MODIFIED:20250307T172335Z
UID:10001435-1892235600-1892242800@www.nuuc.ca
SUMMARY:Spirit Band Rehearsal
DESCRIPTION:
URL:https://www.nuuc.ca/event/spirit-band-rehearsal-4/2029-12-17/
END:VEVENT
BEGIN:VEVENT
DTSTART;TZID=America/Toronto:20291223T103000
DTEND;TZID=America/Toronto:20291223T120000
DTSTAMP:20260423T111912
CREATED:20250207T200538Z
LAST-MODIFIED:20250207T200538Z
UID:10000846-1892716200-1892721600@www.nuuc.ca
SUMMARY:Sunday Service
DESCRIPTION:  \n 
URL:https://www.nuuc.ca/event/sunday-service-19/2029-12-23/
LOCATION:Rafos Hall\, 310 Danforth Ave\, Toronto\, Ontario\, M4K 2X4\, Canada
CATEGORIES:Worship Service
ATTACH;FMTTYPE=image/jpeg:https://www.nuuc.ca/wp-content/uploads/2023/11/Chalice-white-candles-scaled.jpg
END:VEVENT
BEGIN:VEVENT
DTSTART;TZID=America/Toronto:20291224T183000
DTEND;TZID=America/Toronto:20291224T210000
DTSTAMP:20260423T111912
CREATED:20260211T163230Z
LAST-MODIFIED:20260211T163230Z
UID:10001985-1892831400-1892840400@www.nuuc.ca
SUMMARY:Spirit Choir Rehearsal
DESCRIPTION:
URL:https://www.nuuc.ca/event/spirit-choir-rehearsal-5/2029-12-24/
CATEGORIES:Rehearsal only
ATTACH;FMTTYPE=image/jpeg:https://www.nuuc.ca/wp-content/uploads/2025/01/music-rainbow-1.jpg
END:VEVENT
BEGIN:VEVENT
DTSTART;TZID=America/Toronto:20291224T210000
DTEND;TZID=America/Toronto:20291224T230000
DTSTAMP:20260423T111912
CREATED:20250307T172335Z
LAST-MODIFIED:20250307T172335Z
UID:10001436-1892840400-1892847600@www.nuuc.ca
SUMMARY:Spirit Band Rehearsal
DESCRIPTION:
URL:https://www.nuuc.ca/event/spirit-band-rehearsal-4/2029-12-24/
END:VEVENT
BEGIN:VEVENT
DTSTART;TZID=America/Toronto:20291230T103000
DTEND;TZID=America/Toronto:20291230T120000
DTSTAMP:20260423T111912
CREATED:20250207T200538Z
LAST-MODIFIED:20250207T200538Z
UID:10000847-1893321000-1893326400@www.nuuc.ca
SUMMARY:Sunday Service
DESCRIPTION:  \n 
URL:https://www.nuuc.ca/event/sunday-service-19/2029-12-30/
LOCATION:Rafos Hall\, 310 Danforth Ave\, Toronto\, Ontario\, M4K 2X4\, Canada
CATEGORIES:Worship Service
ATTACH;FMTTYPE=image/jpeg:https://www.nuuc.ca/wp-content/uploads/2023/11/Chalice-white-candles-scaled.jpg
END:VEVENT
BEGIN:VEVENT
DTSTART;TZID=America/Toronto:20291231T183000
DTEND;TZID=America/Toronto:20291231T210000
DTSTAMP:20260423T111912
CREATED:20260211T163230Z
LAST-MODIFIED:20260211T163230Z
UID:10001986-1893436200-1893445200@www.nuuc.ca
SUMMARY:Spirit Choir Rehearsal
DESCRIPTION:
URL:https://www.nuuc.ca/event/spirit-choir-rehearsal-5/2029-12-31/
CATEGORIES:Rehearsal only
ATTACH;FMTTYPE=image/jpeg:https://www.nuuc.ca/wp-content/uploads/2025/01/music-rainbow-1.jpg
END:VEVENT
BEGIN:VEVENT
DTSTART;TZID=America/Toronto:20291231T210000
DTEND;TZID=America/Toronto:20291231T230000
DTSTAMP:20260423T111912
CREATED:20250307T172335Z
LAST-MODIFIED:20250307T172335Z
UID:10001437-1893445200-1893452400@www.nuuc.ca
SUMMARY:Spirit Band Rehearsal
DESCRIPTION:
URL:https://www.nuuc.ca/event/spirit-band-rehearsal-4/2029-12-31/
END:VEVENT
BEGIN:VEVENT
DTSTART;TZID=America/Toronto:20300106T103000
DTEND;TZID=America/Toronto:20300106T120000
DTSTAMP:20260423T111912
CREATED:20250207T200538Z
LAST-MODIFIED:20250207T200538Z
UID:10000848-1893925800-1893931200@www.nuuc.ca
SUMMARY:Sunday Service
DESCRIPTION:  \n 
URL:https://www.nuuc.ca/event/sunday-service-19/2030-01-06/
LOCATION:Rafos Hall\, 310 Danforth Ave\, Toronto\, Ontario\, M4K 2X4\, Canada
CATEGORIES:Worship Service
ATTACH;FMTTYPE=image/jpeg:https://www.nuuc.ca/wp-content/uploads/2023/11/Chalice-white-candles-scaled.jpg
END:VEVENT
BEGIN:VEVENT
DTSTART;TZID=America/Toronto:20300107T183000
DTEND;TZID=America/Toronto:20300107T210000
DTSTAMP:20260423T111912
CREATED:20260211T163230Z
LAST-MODIFIED:20260211T163230Z
UID:10001987-1894041000-1894050000@www.nuuc.ca
SUMMARY:Spirit Choir Rehearsal
DESCRIPTION:
URL:https://www.nuuc.ca/event/spirit-choir-rehearsal-5/2030-01-07/
CATEGORIES:Rehearsal only
ATTACH;FMTTYPE=image/jpeg:https://www.nuuc.ca/wp-content/uploads/2025/01/music-rainbow-1.jpg
END:VEVENT
BEGIN:VEVENT
DTSTART;TZID=America/Toronto:20300107T210000
DTEND;TZID=America/Toronto:20300107T230000
DTSTAMP:20260423T111912
CREATED:20250307T172335Z
LAST-MODIFIED:20250307T172335Z
UID:10001438-1894050000-1894057200@www.nuuc.ca
SUMMARY:Spirit Band Rehearsal
DESCRIPTION:
URL:https://www.nuuc.ca/event/spirit-band-rehearsal-4/2030-01-07/
END:VEVENT
BEGIN:VEVENT
DTSTART;TZID=America/Toronto:20300113T103000
DTEND;TZID=America/Toronto:20300113T120000
DTSTAMP:20260423T111912
CREATED:20250207T200538Z
LAST-MODIFIED:20250207T200538Z
UID:10000849-1894530600-1894536000@www.nuuc.ca
SUMMARY:Sunday Service
DESCRIPTION:  \n 
URL:https://www.nuuc.ca/event/sunday-service-19/2030-01-13/
LOCATION:Rafos Hall\, 310 Danforth Ave\, Toronto\, Ontario\, M4K 2X4\, Canada
CATEGORIES:Worship Service
ATTACH;FMTTYPE=image/jpeg:https://www.nuuc.ca/wp-content/uploads/2023/11/Chalice-white-candles-scaled.jpg
END:VEVENT
BEGIN:VEVENT
DTSTART;TZID=America/Toronto:20300114T183000
DTEND;TZID=America/Toronto:20300114T210000
DTSTAMP:20260423T111912
CREATED:20260211T163230Z
LAST-MODIFIED:20260211T163230Z
UID:10001988-1894645800-1894654800@www.nuuc.ca
SUMMARY:Spirit Choir Rehearsal
DESCRIPTION:
URL:https://www.nuuc.ca/event/spirit-choir-rehearsal-5/2030-01-14/
CATEGORIES:Rehearsal only
ATTACH;FMTTYPE=image/jpeg:https://www.nuuc.ca/wp-content/uploads/2025/01/music-rainbow-1.jpg
END:VEVENT
BEGIN:VEVENT
DTSTART;TZID=America/Toronto:20300114T210000
DTEND;TZID=America/Toronto:20300114T230000
DTSTAMP:20260423T111912
CREATED:20250307T172335Z
LAST-MODIFIED:20250307T172335Z
UID:10001439-1894654800-1894662000@www.nuuc.ca
SUMMARY:Spirit Band Rehearsal
DESCRIPTION:
URL:https://www.nuuc.ca/event/spirit-band-rehearsal-4/2030-01-14/
END:VEVENT
BEGIN:VEVENT
DTSTART;TZID=America/Toronto:20300120T103000
DTEND;TZID=America/Toronto:20300120T120000
DTSTAMP:20260423T111912
CREATED:20250207T200538Z
LAST-MODIFIED:20250207T200538Z
UID:10000850-1895135400-1895140800@www.nuuc.ca
SUMMARY:Sunday Service
DESCRIPTION:  \n 
URL:https://www.nuuc.ca/event/sunday-service-19/2030-01-20/
LOCATION:Rafos Hall\, 310 Danforth Ave\, Toronto\, Ontario\, M4K 2X4\, Canada
CATEGORIES:Worship Service
ATTACH;FMTTYPE=image/jpeg:https://www.nuuc.ca/wp-content/uploads/2023/11/Chalice-white-candles-scaled.jpg
END:VEVENT
BEGIN:VEVENT
DTSTART;TZID=America/Toronto:20300121T183000
DTEND;TZID=America/Toronto:20300121T210000
DTSTAMP:20260423T111912
CREATED:20260211T163230Z
LAST-MODIFIED:20260211T163230Z
UID:10001989-1895250600-1895259600@www.nuuc.ca
SUMMARY:Spirit Choir Rehearsal
DESCRIPTION:
URL:https://www.nuuc.ca/event/spirit-choir-rehearsal-5/2030-01-21/
CATEGORIES:Rehearsal only
ATTACH;FMTTYPE=image/jpeg:https://www.nuuc.ca/wp-content/uploads/2025/01/music-rainbow-1.jpg
END:VEVENT
BEGIN:VEVENT
DTSTART;TZID=America/Toronto:20300121T210000
DTEND;TZID=America/Toronto:20300121T230000
DTSTAMP:20260423T111912
CREATED:20250307T172335Z
LAST-MODIFIED:20250307T172335Z
UID:10001440-1895259600-1895266800@www.nuuc.ca
SUMMARY:Spirit Band Rehearsal
DESCRIPTION:
URL:https://www.nuuc.ca/event/spirit-band-rehearsal-4/2030-01-21/
END:VEVENT
BEGIN:VEVENT
DTSTART;TZID=America/Toronto:20300127T103000
DTEND;TZID=America/Toronto:20300127T120000
DTSTAMP:20260423T111912
CREATED:20250207T200538Z
LAST-MODIFIED:20250207T200538Z
UID:10000851-1895740200-1895745600@www.nuuc.ca
SUMMARY:Sunday Service
DESCRIPTION:  \n 
URL:https://www.nuuc.ca/event/sunday-service-19/2030-01-27/
LOCATION:Rafos Hall\, 310 Danforth Ave\, Toronto\, Ontario\, M4K 2X4\, Canada
CATEGORIES:Worship Service
ATTACH;FMTTYPE=image/jpeg:https://www.nuuc.ca/wp-content/uploads/2023/11/Chalice-white-candles-scaled.jpg
END:VEVENT
BEGIN:VEVENT
DTSTART;TZID=America/Toronto:20300128T183000
DTEND;TZID=America/Toronto:20300128T210000
DTSTAMP:20260423T111912
CREATED:20260211T163230Z
LAST-MODIFIED:20260211T163230Z
UID:10001990-1895855400-1895864400@www.nuuc.ca
SUMMARY:Spirit Choir Rehearsal
DESCRIPTION:
URL:https://www.nuuc.ca/event/spirit-choir-rehearsal-5/2030-01-28/
CATEGORIES:Rehearsal only
ATTACH;FMTTYPE=image/jpeg:https://www.nuuc.ca/wp-content/uploads/2025/01/music-rainbow-1.jpg
END:VEVENT
BEGIN:VEVENT
DTSTART;TZID=America/Toronto:20300128T210000
DTEND;TZID=America/Toronto:20300128T230000
DTSTAMP:20260423T111912
CREATED:20250307T172335Z
LAST-MODIFIED:20250307T172335Z
UID:10001441-1895864400-1895871600@www.nuuc.ca
SUMMARY:Spirit Band Rehearsal
DESCRIPTION:
URL:https://www.nuuc.ca/event/spirit-band-rehearsal-4/2030-01-28/
END:VEVENT
BEGIN:VEVENT
DTSTART;TZID=America/Toronto:20300203T103000
DTEND;TZID=America/Toronto:20300203T120000
DTSTAMP:20260423T111912
CREATED:20250207T200538Z
LAST-MODIFIED:20250207T200538Z
UID:10000852-1896345000-1896350400@www.nuuc.ca
SUMMARY:Sunday Service
DESCRIPTION:  \n 
URL:https://www.nuuc.ca/event/sunday-service-19/2030-02-03/
LOCATION:Rafos Hall\, 310 Danforth Ave\, Toronto\, Ontario\, M4K 2X4\, Canada
CATEGORIES:Worship Service
ATTACH;FMTTYPE=image/jpeg:https://www.nuuc.ca/wp-content/uploads/2023/11/Chalice-white-candles-scaled.jpg
END:VEVENT
BEGIN:VEVENT
DTSTART;TZID=America/Toronto:20300204T183000
DTEND;TZID=America/Toronto:20300204T210000
DTSTAMP:20260423T111912
CREATED:20260211T163230Z
LAST-MODIFIED:20260211T163230Z
UID:10001991-1896460200-1896469200@www.nuuc.ca
SUMMARY:Spirit Choir Rehearsal
DESCRIPTION:
URL:https://www.nuuc.ca/event/spirit-choir-rehearsal-5/2030-02-04/
CATEGORIES:Rehearsal only
ATTACH;FMTTYPE=image/jpeg:https://www.nuuc.ca/wp-content/uploads/2025/01/music-rainbow-1.jpg
END:VEVENT
BEGIN:VEVENT
DTSTART;TZID=America/Toronto:20300204T210000
DTEND;TZID=America/Toronto:20300204T230000
DTSTAMP:20260423T111912
CREATED:20250307T172335Z
LAST-MODIFIED:20250307T172335Z
UID:10001442-1896469200-1896476400@www.nuuc.ca
SUMMARY:Spirit Band Rehearsal
DESCRIPTION:
URL:https://www.nuuc.ca/event/spirit-band-rehearsal-4/2030-02-04/
END:VEVENT
BEGIN:VEVENT
DTSTART;TZID=America/Toronto:20300210T103000
DTEND;TZID=America/Toronto:20300210T120000
DTSTAMP:20260423T111912
CREATED:20250207T200538Z
LAST-MODIFIED:20250207T200538Z
UID:10001512-1896949800-1896955200@www.nuuc.ca
SUMMARY:Sunday Service
DESCRIPTION:  \n 
URL:https://www.nuuc.ca/event/sunday-service-19/2030-02-10/
LOCATION:Rafos Hall\, 310 Danforth Ave\, Toronto\, Ontario\, M4K 2X4\, Canada
CATEGORIES:Worship Service
ATTACH;FMTTYPE=image/jpeg:https://www.nuuc.ca/wp-content/uploads/2023/11/Chalice-white-candles-scaled.jpg
END:VEVENT
BEGIN:VEVENT
DTSTART;TZID=America/Toronto:20300211T183000
DTEND;TZID=America/Toronto:20300211T210000
DTSTAMP:20260423T111912
CREATED:20260211T163230Z
LAST-MODIFIED:20260211T163230Z
UID:10001992-1897065000-1897074000@www.nuuc.ca
SUMMARY:Spirit Choir Rehearsal
DESCRIPTION:
URL:https://www.nuuc.ca/event/spirit-choir-rehearsal-5/2030-02-11/
CATEGORIES:Rehearsal only
ATTACH;FMTTYPE=image/jpeg:https://www.nuuc.ca/wp-content/uploads/2025/01/music-rainbow-1.jpg
END:VEVENT
BEGIN:VEVENT
DTSTART;TZID=America/Toronto:20300211T210000
DTEND;TZID=America/Toronto:20300211T230000
DTSTAMP:20260423T111912
CREATED:20250307T172335Z
LAST-MODIFIED:20250307T172335Z
UID:10001443-1897074000-1897081200@www.nuuc.ca
SUMMARY:Spirit Band Rehearsal
DESCRIPTION:
URL:https://www.nuuc.ca/event/spirit-band-rehearsal-4/2030-02-11/
END:VEVENT
BEGIN:VEVENT
DTSTART;TZID=America/Toronto:20300217T103000
DTEND;TZID=America/Toronto:20300217T120000
DTSTAMP:20260423T111912
CREATED:20250207T200538Z
LAST-MODIFIED:20250207T200538Z
UID:10001513-1897554600-1897560000@www.nuuc.ca
SUMMARY:Sunday Service
DESCRIPTION:  \n 
URL:https://www.nuuc.ca/event/sunday-service-19/2030-02-17/
LOCATION:Rafos Hall\, 310 Danforth Ave\, Toronto\, Ontario\, M4K 2X4\, Canada
CATEGORIES:Worship Service
ATTACH;FMTTYPE=image/jpeg:https://www.nuuc.ca/wp-content/uploads/2023/11/Chalice-white-candles-scaled.jpg
END:VEVENT
BEGIN:VEVENT
DTSTART;TZID=America/Toronto:20300218T183000
DTEND;TZID=America/Toronto:20300218T210000
DTSTAMP:20260423T111912
CREATED:20260211T163230Z
LAST-MODIFIED:20260211T163230Z
UID:10001993-1897669800-1897678800@www.nuuc.ca
SUMMARY:Spirit Choir Rehearsal
DESCRIPTION:
URL:https://www.nuuc.ca/event/spirit-choir-rehearsal-5/2030-02-18/
CATEGORIES:Rehearsal only
ATTACH;FMTTYPE=image/jpeg:https://www.nuuc.ca/wp-content/uploads/2025/01/music-rainbow-1.jpg
END:VEVENT
END:VCALENDAR