BEGIN:VCALENDAR
VERSION:2.0
PRODID:-//Neighbourhood Unitarian Universalist Congregation - ECPv6.15.20//NONSGML v1.0//EN
CALSCALE:GREGORIAN
METHOD:PUBLISH
X-ORIGINAL-URL:https://www.nuuc.ca
X-WR-CALDESC:Events for Neighbourhood Unitarian Universalist Congregation
REFRESH-INTERVAL;VALUE=DURATION:PT1H
X-Robots-Tag:noindex
X-PUBLISHED-TTL:PT1H
BEGIN:VTIMEZONE
TZID:America/Toronto
BEGIN:DAYLIGHT
TZOFFSETFROM:-0500
TZOFFSETTO:-0400
TZNAME:EDT
DTSTART:20280312T070000
END:DAYLIGHT
BEGIN:STANDARD
TZOFFSETFROM:-0400
TZOFFSETTO:-0500
TZNAME:EST
DTSTART:20281105T060000
END:STANDARD
BEGIN:DAYLIGHT
TZOFFSETFROM:-0500
TZOFFSETTO:-0400
TZNAME:EDT
DTSTART:20290311T070000
END:DAYLIGHT
BEGIN:STANDARD
TZOFFSETFROM:-0400
TZOFFSETTO:-0500
TZNAME:EST
DTSTART:20291104T060000
END:STANDARD
BEGIN:DAYLIGHT
TZOFFSETFROM:-0500
TZOFFSETTO:-0400
TZNAME:EDT
DTSTART:20300310T070000
END:DAYLIGHT
BEGIN:STANDARD
TZOFFSETFROM:-0400
TZOFFSETTO:-0500
TZNAME:EST
DTSTART:20301103T060000
END:STANDARD
END:VTIMEZONE
BEGIN:VEVENT
DTSTART;TZID=America/Toronto:20290917T210000
DTEND;TZID=America/Toronto:20290917T230000
DTSTAMP:20260423T064909
CREATED:20250307T172335Z
LAST-MODIFIED:20250307T172335Z
UID:10001422-1884373200-1884380400@www.nuuc.ca
SUMMARY:Spirit Band Rehearsal
DESCRIPTION:
URL:https://www.nuuc.ca/event/spirit-band-rehearsal-4/2029-09-17/
END:VEVENT
BEGIN:VEVENT
DTSTART;TZID=America/Toronto:20290923T103000
DTEND;TZID=America/Toronto:20290923T120000
DTSTAMP:20260423T064909
CREATED:20250207T200538Z
LAST-MODIFIED:20250207T200538Z
UID:10000833-1884853800-1884859200@www.nuuc.ca
SUMMARY:Sunday Service
DESCRIPTION:  \n 
URL:https://www.nuuc.ca/event/sunday-service-19/2029-09-23/
LOCATION:Rafos Hall\, 310 Danforth Ave\, Toronto\, Ontario\, M4K 2X4\, Canada
CATEGORIES:Worship Service
ATTACH;FMTTYPE=image/jpeg:https://www.nuuc.ca/wp-content/uploads/2023/11/Chalice-white-candles-scaled.jpg
END:VEVENT
BEGIN:VEVENT
DTSTART;TZID=America/Toronto:20290924T183000
DTEND;TZID=America/Toronto:20290924T210000
DTSTAMP:20260423T064909
CREATED:20260211T163230Z
LAST-MODIFIED:20260211T163230Z
UID:10001972-1884969000-1884978000@www.nuuc.ca
SUMMARY:Spirit Choir Rehearsal
DESCRIPTION:
URL:https://www.nuuc.ca/event/spirit-choir-rehearsal-5/2029-09-24/
CATEGORIES:Rehearsal only
ATTACH;FMTTYPE=image/jpeg:https://www.nuuc.ca/wp-content/uploads/2025/01/music-rainbow-1.jpg
END:VEVENT
BEGIN:VEVENT
DTSTART;TZID=America/Toronto:20290924T210000
DTEND;TZID=America/Toronto:20290924T230000
DTSTAMP:20260423T064909
CREATED:20250307T172335Z
LAST-MODIFIED:20250307T172335Z
UID:10001423-1884978000-1884985200@www.nuuc.ca
SUMMARY:Spirit Band Rehearsal
DESCRIPTION:
URL:https://www.nuuc.ca/event/spirit-band-rehearsal-4/2029-09-24/
END:VEVENT
BEGIN:VEVENT
DTSTART;TZID=America/Toronto:20290930T103000
DTEND;TZID=America/Toronto:20290930T120000
DTSTAMP:20260423T064909
CREATED:20250207T200538Z
LAST-MODIFIED:20250207T200538Z
UID:10000834-1885458600-1885464000@www.nuuc.ca
SUMMARY:Sunday Service
DESCRIPTION:  \n 
URL:https://www.nuuc.ca/event/sunday-service-19/2029-09-30/
LOCATION:Rafos Hall\, 310 Danforth Ave\, Toronto\, Ontario\, M4K 2X4\, Canada
CATEGORIES:Worship Service
ATTACH;FMTTYPE=image/jpeg:https://www.nuuc.ca/wp-content/uploads/2023/11/Chalice-white-candles-scaled.jpg
END:VEVENT
BEGIN:VEVENT
DTSTART;TZID=America/Toronto:20291001T183000
DTEND;TZID=America/Toronto:20291001T210000
DTSTAMP:20260423T064909
CREATED:20260211T163230Z
LAST-MODIFIED:20260211T163230Z
UID:10001973-1885573800-1885582800@www.nuuc.ca
SUMMARY:Spirit Choir Rehearsal
DESCRIPTION:
URL:https://www.nuuc.ca/event/spirit-choir-rehearsal-5/2029-10-01/
CATEGORIES:Rehearsal only
ATTACH;FMTTYPE=image/jpeg:https://www.nuuc.ca/wp-content/uploads/2025/01/music-rainbow-1.jpg
END:VEVENT
BEGIN:VEVENT
DTSTART;TZID=America/Toronto:20291001T210000
DTEND;TZID=America/Toronto:20291001T230000
DTSTAMP:20260423T064909
CREATED:20250307T172335Z
LAST-MODIFIED:20250307T172335Z
UID:10001424-1885582800-1885590000@www.nuuc.ca
SUMMARY:Spirit Band Rehearsal
DESCRIPTION:
URL:https://www.nuuc.ca/event/spirit-band-rehearsal-4/2029-10-01/
END:VEVENT
BEGIN:VEVENT
DTSTART;TZID=America/Toronto:20291007T103000
DTEND;TZID=America/Toronto:20291007T120000
DTSTAMP:20260423T064909
CREATED:20250207T200538Z
LAST-MODIFIED:20250207T200538Z
UID:10000835-1886063400-1886068800@www.nuuc.ca
SUMMARY:Sunday Service
DESCRIPTION:  \n 
URL:https://www.nuuc.ca/event/sunday-service-19/2029-10-07/
LOCATION:Rafos Hall\, 310 Danforth Ave\, Toronto\, Ontario\, M4K 2X4\, Canada
CATEGORIES:Worship Service
ATTACH;FMTTYPE=image/jpeg:https://www.nuuc.ca/wp-content/uploads/2023/11/Chalice-white-candles-scaled.jpg
END:VEVENT
BEGIN:VEVENT
DTSTART;TZID=America/Toronto:20291008T183000
DTEND;TZID=America/Toronto:20291008T210000
DTSTAMP:20260423T064909
CREATED:20260211T163230Z
LAST-MODIFIED:20260211T163230Z
UID:10001974-1886178600-1886187600@www.nuuc.ca
SUMMARY:Spirit Choir Rehearsal
DESCRIPTION:
URL:https://www.nuuc.ca/event/spirit-choir-rehearsal-5/2029-10-08/
CATEGORIES:Rehearsal only
ATTACH;FMTTYPE=image/jpeg:https://www.nuuc.ca/wp-content/uploads/2025/01/music-rainbow-1.jpg
END:VEVENT
BEGIN:VEVENT
DTSTART;TZID=America/Toronto:20291008T210000
DTEND;TZID=America/Toronto:20291008T230000
DTSTAMP:20260423T064909
CREATED:20250307T172335Z
LAST-MODIFIED:20250307T172335Z
UID:10001425-1886187600-1886194800@www.nuuc.ca
SUMMARY:Spirit Band Rehearsal
DESCRIPTION:
URL:https://www.nuuc.ca/event/spirit-band-rehearsal-4/2029-10-08/
END:VEVENT
BEGIN:VEVENT
DTSTART;TZID=America/Toronto:20291014T103000
DTEND;TZID=America/Toronto:20291014T120000
DTSTAMP:20260423T064909
CREATED:20250207T200538Z
LAST-MODIFIED:20250207T200538Z
UID:10000836-1886668200-1886673600@www.nuuc.ca
SUMMARY:Sunday Service
DESCRIPTION:  \n 
URL:https://www.nuuc.ca/event/sunday-service-19/2029-10-14/
LOCATION:Rafos Hall\, 310 Danforth Ave\, Toronto\, Ontario\, M4K 2X4\, Canada
CATEGORIES:Worship Service
ATTACH;FMTTYPE=image/jpeg:https://www.nuuc.ca/wp-content/uploads/2023/11/Chalice-white-candles-scaled.jpg
END:VEVENT
BEGIN:VEVENT
DTSTART;TZID=America/Toronto:20291015T183000
DTEND;TZID=America/Toronto:20291015T210000
DTSTAMP:20260423T064909
CREATED:20260211T163230Z
LAST-MODIFIED:20260211T163230Z
UID:10001975-1886783400-1886792400@www.nuuc.ca
SUMMARY:Spirit Choir Rehearsal
DESCRIPTION:
URL:https://www.nuuc.ca/event/spirit-choir-rehearsal-5/2029-10-15/
CATEGORIES:Rehearsal only
ATTACH;FMTTYPE=image/jpeg:https://www.nuuc.ca/wp-content/uploads/2025/01/music-rainbow-1.jpg
END:VEVENT
BEGIN:VEVENT
DTSTART;TZID=America/Toronto:20291015T210000
DTEND;TZID=America/Toronto:20291015T230000
DTSTAMP:20260423T064909
CREATED:20250307T172335Z
LAST-MODIFIED:20250307T172335Z
UID:10001426-1886792400-1886799600@www.nuuc.ca
SUMMARY:Spirit Band Rehearsal
DESCRIPTION:
URL:https://www.nuuc.ca/event/spirit-band-rehearsal-4/2029-10-15/
END:VEVENT
BEGIN:VEVENT
DTSTART;TZID=America/Toronto:20291021T103000
DTEND;TZID=America/Toronto:20291021T120000
DTSTAMP:20260423T064909
CREATED:20250207T200538Z
LAST-MODIFIED:20250207T200538Z
UID:10000837-1887273000-1887278400@www.nuuc.ca
SUMMARY:Sunday Service
DESCRIPTION:  \n 
URL:https://www.nuuc.ca/event/sunday-service-19/2029-10-21/
LOCATION:Rafos Hall\, 310 Danforth Ave\, Toronto\, Ontario\, M4K 2X4\, Canada
CATEGORIES:Worship Service
ATTACH;FMTTYPE=image/jpeg:https://www.nuuc.ca/wp-content/uploads/2023/11/Chalice-white-candles-scaled.jpg
END:VEVENT
BEGIN:VEVENT
DTSTART;TZID=America/Toronto:20291022T183000
DTEND;TZID=America/Toronto:20291022T210000
DTSTAMP:20260423T064909
CREATED:20260211T163230Z
LAST-MODIFIED:20260211T163230Z
UID:10001976-1887388200-1887397200@www.nuuc.ca
SUMMARY:Spirit Choir Rehearsal
DESCRIPTION:
URL:https://www.nuuc.ca/event/spirit-choir-rehearsal-5/2029-10-22/
CATEGORIES:Rehearsal only
ATTACH;FMTTYPE=image/jpeg:https://www.nuuc.ca/wp-content/uploads/2025/01/music-rainbow-1.jpg
END:VEVENT
BEGIN:VEVENT
DTSTART;TZID=America/Toronto:20291022T210000
DTEND;TZID=America/Toronto:20291022T230000
DTSTAMP:20260423T064909
CREATED:20250307T172335Z
LAST-MODIFIED:20250307T172335Z
UID:10001427-1887397200-1887404400@www.nuuc.ca
SUMMARY:Spirit Band Rehearsal
DESCRIPTION:
URL:https://www.nuuc.ca/event/spirit-band-rehearsal-4/2029-10-22/
END:VEVENT
BEGIN:VEVENT
DTSTART;TZID=America/Toronto:20291028T103000
DTEND;TZID=America/Toronto:20291028T120000
DTSTAMP:20260423T064910
CREATED:20250207T200538Z
LAST-MODIFIED:20250207T200538Z
UID:10000838-1887877800-1887883200@www.nuuc.ca
SUMMARY:Sunday Service
DESCRIPTION:  \n 
URL:https://www.nuuc.ca/event/sunday-service-19/2029-10-28/
LOCATION:Rafos Hall\, 310 Danforth Ave\, Toronto\, Ontario\, M4K 2X4\, Canada
CATEGORIES:Worship Service
ATTACH;FMTTYPE=image/jpeg:https://www.nuuc.ca/wp-content/uploads/2023/11/Chalice-white-candles-scaled.jpg
END:VEVENT
BEGIN:VEVENT
DTSTART;TZID=America/Toronto:20291029T183000
DTEND;TZID=America/Toronto:20291029T210000
DTSTAMP:20260423T064910
CREATED:20260211T163230Z
LAST-MODIFIED:20260211T163230Z
UID:10001977-1887993000-1888002000@www.nuuc.ca
SUMMARY:Spirit Choir Rehearsal
DESCRIPTION:
URL:https://www.nuuc.ca/event/spirit-choir-rehearsal-5/2029-10-29/
CATEGORIES:Rehearsal only
ATTACH;FMTTYPE=image/jpeg:https://www.nuuc.ca/wp-content/uploads/2025/01/music-rainbow-1.jpg
END:VEVENT
BEGIN:VEVENT
DTSTART;TZID=America/Toronto:20291029T210000
DTEND;TZID=America/Toronto:20291029T230000
DTSTAMP:20260423T064910
CREATED:20250307T172335Z
LAST-MODIFIED:20250307T172335Z
UID:10001428-1888002000-1888009200@www.nuuc.ca
SUMMARY:Spirit Band Rehearsal
DESCRIPTION:
URL:https://www.nuuc.ca/event/spirit-band-rehearsal-4/2029-10-29/
END:VEVENT
BEGIN:VEVENT
DTSTART;TZID=America/Toronto:20291104T103000
DTEND;TZID=America/Toronto:20291104T120000
DTSTAMP:20260423T064910
CREATED:20250207T200538Z
LAST-MODIFIED:20250207T200538Z
UID:10000839-1888482600-1888488000@www.nuuc.ca
SUMMARY:Sunday Service
DESCRIPTION:  \n 
URL:https://www.nuuc.ca/event/sunday-service-19/2029-11-04/
LOCATION:Rafos Hall\, 310 Danforth Ave\, Toronto\, Ontario\, M4K 2X4\, Canada
CATEGORIES:Worship Service
ATTACH;FMTTYPE=image/jpeg:https://www.nuuc.ca/wp-content/uploads/2023/11/Chalice-white-candles-scaled.jpg
END:VEVENT
BEGIN:VEVENT
DTSTART;TZID=America/Toronto:20291105T183000
DTEND;TZID=America/Toronto:20291105T210000
DTSTAMP:20260423T064910
CREATED:20260211T163230Z
LAST-MODIFIED:20260211T163230Z
UID:10001978-1888597800-1888606800@www.nuuc.ca
SUMMARY:Spirit Choir Rehearsal
DESCRIPTION:
URL:https://www.nuuc.ca/event/spirit-choir-rehearsal-5/2029-11-05/
CATEGORIES:Rehearsal only
ATTACH;FMTTYPE=image/jpeg:https://www.nuuc.ca/wp-content/uploads/2025/01/music-rainbow-1.jpg
END:VEVENT
BEGIN:VEVENT
DTSTART;TZID=America/Toronto:20291105T210000
DTEND;TZID=America/Toronto:20291105T230000
DTSTAMP:20260423T064910
CREATED:20250307T172335Z
LAST-MODIFIED:20250307T172335Z
UID:10001429-1888606800-1888614000@www.nuuc.ca
SUMMARY:Spirit Band Rehearsal
DESCRIPTION:
URL:https://www.nuuc.ca/event/spirit-band-rehearsal-4/2029-11-05/
END:VEVENT
BEGIN:VEVENT
DTSTART;TZID=America/Toronto:20291111T103000
DTEND;TZID=America/Toronto:20291111T120000
DTSTAMP:20260423T064910
CREATED:20250207T200538Z
LAST-MODIFIED:20250207T200538Z
UID:10000840-1889087400-1889092800@www.nuuc.ca
SUMMARY:Sunday Service
DESCRIPTION:  \n 
URL:https://www.nuuc.ca/event/sunday-service-19/2029-11-11/
LOCATION:Rafos Hall\, 310 Danforth Ave\, Toronto\, Ontario\, M4K 2X4\, Canada
CATEGORIES:Worship Service
ATTACH;FMTTYPE=image/jpeg:https://www.nuuc.ca/wp-content/uploads/2023/11/Chalice-white-candles-scaled.jpg
END:VEVENT
BEGIN:VEVENT
DTSTART;TZID=America/Toronto:20291112T183000
DTEND;TZID=America/Toronto:20291112T210000
DTSTAMP:20260423T064910
CREATED:20260211T163230Z
LAST-MODIFIED:20260211T163230Z
UID:10001979-1889202600-1889211600@www.nuuc.ca
SUMMARY:Spirit Choir Rehearsal
DESCRIPTION:
URL:https://www.nuuc.ca/event/spirit-choir-rehearsal-5/2029-11-12/
CATEGORIES:Rehearsal only
ATTACH;FMTTYPE=image/jpeg:https://www.nuuc.ca/wp-content/uploads/2025/01/music-rainbow-1.jpg
END:VEVENT
BEGIN:VEVENT
DTSTART;TZID=America/Toronto:20291112T210000
DTEND;TZID=America/Toronto:20291112T230000
DTSTAMP:20260423T064910
CREATED:20250307T172335Z
LAST-MODIFIED:20250307T172335Z
UID:10001430-1889211600-1889218800@www.nuuc.ca
SUMMARY:Spirit Band Rehearsal
DESCRIPTION:
URL:https://www.nuuc.ca/event/spirit-band-rehearsal-4/2029-11-12/
END:VEVENT
BEGIN:VEVENT
DTSTART;TZID=America/Toronto:20291118T103000
DTEND;TZID=America/Toronto:20291118T120000
DTSTAMP:20260423T064910
CREATED:20250207T200538Z
LAST-MODIFIED:20250207T200538Z
UID:10000841-1889692200-1889697600@www.nuuc.ca
SUMMARY:Sunday Service
DESCRIPTION:  \n 
URL:https://www.nuuc.ca/event/sunday-service-19/2029-11-18/
LOCATION:Rafos Hall\, 310 Danforth Ave\, Toronto\, Ontario\, M4K 2X4\, Canada
CATEGORIES:Worship Service
ATTACH;FMTTYPE=image/jpeg:https://www.nuuc.ca/wp-content/uploads/2023/11/Chalice-white-candles-scaled.jpg
END:VEVENT
BEGIN:VEVENT
DTSTART;TZID=America/Toronto:20291119T183000
DTEND;TZID=America/Toronto:20291119T210000
DTSTAMP:20260423T064910
CREATED:20260211T163230Z
LAST-MODIFIED:20260211T163230Z
UID:10001980-1889807400-1889816400@www.nuuc.ca
SUMMARY:Spirit Choir Rehearsal
DESCRIPTION:
URL:https://www.nuuc.ca/event/spirit-choir-rehearsal-5/2029-11-19/
CATEGORIES:Rehearsal only
ATTACH;FMTTYPE=image/jpeg:https://www.nuuc.ca/wp-content/uploads/2025/01/music-rainbow-1.jpg
END:VEVENT
BEGIN:VEVENT
DTSTART;TZID=America/Toronto:20291119T210000
DTEND;TZID=America/Toronto:20291119T230000
DTSTAMP:20260423T064910
CREATED:20250307T172335Z
LAST-MODIFIED:20250307T172335Z
UID:10001431-1889816400-1889823600@www.nuuc.ca
SUMMARY:Spirit Band Rehearsal
DESCRIPTION:
URL:https://www.nuuc.ca/event/spirit-band-rehearsal-4/2029-11-19/
END:VEVENT
BEGIN:VEVENT
DTSTART;TZID=America/Toronto:20291125T103000
DTEND;TZID=America/Toronto:20291125T120000
DTSTAMP:20260423T064910
CREATED:20250207T200538Z
LAST-MODIFIED:20250207T200538Z
UID:10000842-1890297000-1890302400@www.nuuc.ca
SUMMARY:Sunday Service
DESCRIPTION:  \n 
URL:https://www.nuuc.ca/event/sunday-service-19/2029-11-25/
LOCATION:Rafos Hall\, 310 Danforth Ave\, Toronto\, Ontario\, M4K 2X4\, Canada
CATEGORIES:Worship Service
ATTACH;FMTTYPE=image/jpeg:https://www.nuuc.ca/wp-content/uploads/2023/11/Chalice-white-candles-scaled.jpg
END:VEVENT
BEGIN:VEVENT
DTSTART;TZID=America/Toronto:20291126T183000
DTEND;TZID=America/Toronto:20291126T210000
DTSTAMP:20260423T064910
CREATED:20260211T163230Z
LAST-MODIFIED:20260211T163230Z
UID:10001981-1890412200-1890421200@www.nuuc.ca
SUMMARY:Spirit Choir Rehearsal
DESCRIPTION:
URL:https://www.nuuc.ca/event/spirit-choir-rehearsal-5/2029-11-26/
CATEGORIES:Rehearsal only
ATTACH;FMTTYPE=image/jpeg:https://www.nuuc.ca/wp-content/uploads/2025/01/music-rainbow-1.jpg
END:VEVENT
END:VCALENDAR