BEGIN:VCALENDAR
VERSION:2.0
PRODID:-//Neighbourhood Unitarian Universalist Congregation - ECPv6.15.20//NONSGML v1.0//EN
CALSCALE:GREGORIAN
METHOD:PUBLISH
X-ORIGINAL-URL:https://www.nuuc.ca
X-WR-CALDESC:Events for Neighbourhood Unitarian Universalist Congregation
REFRESH-INTERVAL;VALUE=DURATION:PT1H
X-Robots-Tag:noindex
X-PUBLISHED-TTL:PT1H
BEGIN:VTIMEZONE
TZID:America/Toronto
BEGIN:DAYLIGHT
TZOFFSETFROM:-0500
TZOFFSETTO:-0400
TZNAME:EDT
DTSTART:20280312T070000
END:DAYLIGHT
BEGIN:STANDARD
TZOFFSETFROM:-0400
TZOFFSETTO:-0500
TZNAME:EST
DTSTART:20281105T060000
END:STANDARD
BEGIN:DAYLIGHT
TZOFFSETFROM:-0500
TZOFFSETTO:-0400
TZNAME:EDT
DTSTART:20290311T070000
END:DAYLIGHT
BEGIN:STANDARD
TZOFFSETFROM:-0400
TZOFFSETTO:-0500
TZNAME:EST
DTSTART:20291104T060000
END:STANDARD
BEGIN:DAYLIGHT
TZOFFSETFROM:-0500
TZOFFSETTO:-0400
TZNAME:EDT
DTSTART:20300310T070000
END:DAYLIGHT
BEGIN:STANDARD
TZOFFSETFROM:-0400
TZOFFSETTO:-0500
TZNAME:EST
DTSTART:20301103T060000
END:STANDARD
END:VTIMEZONE
BEGIN:VEVENT
DTSTART;TZID=America/Toronto:20290625T210000
DTEND;TZID=America/Toronto:20290625T230000
DTSTAMP:20260423T023934
CREATED:20250307T172335Z
LAST-MODIFIED:20250307T172335Z
UID:10001410-1877115600-1877122800@www.nuuc.ca
SUMMARY:Spirit Band Rehearsal
DESCRIPTION:
URL:https://www.nuuc.ca/event/spirit-band-rehearsal-4/2029-06-25/
END:VEVENT
BEGIN:VEVENT
DTSTART;TZID=America/Toronto:20290701T103000
DTEND;TZID=America/Toronto:20290701T120000
DTSTAMP:20260423T023934
CREATED:20250207T200538Z
LAST-MODIFIED:20250207T200538Z
UID:10000821-1877596200-1877601600@www.nuuc.ca
SUMMARY:Sunday Service
DESCRIPTION:  \n 
URL:https://www.nuuc.ca/event/sunday-service-19/2029-07-01/
LOCATION:Rafos Hall\, 310 Danforth Ave\, Toronto\, Ontario\, M4K 2X4\, Canada
CATEGORIES:Worship Service
ATTACH;FMTTYPE=image/jpeg:https://www.nuuc.ca/wp-content/uploads/2023/11/Chalice-white-candles-scaled.jpg
END:VEVENT
BEGIN:VEVENT
DTSTART;TZID=America/Toronto:20290702T183000
DTEND;TZID=America/Toronto:20290702T210000
DTSTAMP:20260423T023934
CREATED:20260211T163230Z
LAST-MODIFIED:20260211T163230Z
UID:10001960-1877711400-1877720400@www.nuuc.ca
SUMMARY:Spirit Choir Rehearsal
DESCRIPTION:
URL:https://www.nuuc.ca/event/spirit-choir-rehearsal-5/2029-07-02/
CATEGORIES:Rehearsal only
ATTACH;FMTTYPE=image/jpeg:https://www.nuuc.ca/wp-content/uploads/2025/01/music-rainbow-1.jpg
END:VEVENT
BEGIN:VEVENT
DTSTART;TZID=America/Toronto:20290702T210000
DTEND;TZID=America/Toronto:20290702T230000
DTSTAMP:20260423T023934
CREATED:20250307T172335Z
LAST-MODIFIED:20250307T172335Z
UID:10001411-1877720400-1877727600@www.nuuc.ca
SUMMARY:Spirit Band Rehearsal
DESCRIPTION:
URL:https://www.nuuc.ca/event/spirit-band-rehearsal-4/2029-07-02/
END:VEVENT
BEGIN:VEVENT
DTSTART;TZID=America/Toronto:20290708T103000
DTEND;TZID=America/Toronto:20290708T120000
DTSTAMP:20260423T023934
CREATED:20250207T200538Z
LAST-MODIFIED:20250207T200538Z
UID:10000822-1878201000-1878206400@www.nuuc.ca
SUMMARY:Sunday Service
DESCRIPTION:  \n 
URL:https://www.nuuc.ca/event/sunday-service-19/2029-07-08/
LOCATION:Rafos Hall\, 310 Danforth Ave\, Toronto\, Ontario\, M4K 2X4\, Canada
CATEGORIES:Worship Service
ATTACH;FMTTYPE=image/jpeg:https://www.nuuc.ca/wp-content/uploads/2023/11/Chalice-white-candles-scaled.jpg
END:VEVENT
BEGIN:VEVENT
DTSTART;TZID=America/Toronto:20290709T183000
DTEND;TZID=America/Toronto:20290709T210000
DTSTAMP:20260423T023934
CREATED:20260211T163230Z
LAST-MODIFIED:20260211T163230Z
UID:10001961-1878316200-1878325200@www.nuuc.ca
SUMMARY:Spirit Choir Rehearsal
DESCRIPTION:
URL:https://www.nuuc.ca/event/spirit-choir-rehearsal-5/2029-07-09/
CATEGORIES:Rehearsal only
ATTACH;FMTTYPE=image/jpeg:https://www.nuuc.ca/wp-content/uploads/2025/01/music-rainbow-1.jpg
END:VEVENT
BEGIN:VEVENT
DTSTART;TZID=America/Toronto:20290709T210000
DTEND;TZID=America/Toronto:20290709T230000
DTSTAMP:20260423T023934
CREATED:20250307T172335Z
LAST-MODIFIED:20250307T172335Z
UID:10001412-1878325200-1878332400@www.nuuc.ca
SUMMARY:Spirit Band Rehearsal
DESCRIPTION:
URL:https://www.nuuc.ca/event/spirit-band-rehearsal-4/2029-07-09/
END:VEVENT
BEGIN:VEVENT
DTSTART;TZID=America/Toronto:20290715T103000
DTEND;TZID=America/Toronto:20290715T120000
DTSTAMP:20260423T023934
CREATED:20250207T200538Z
LAST-MODIFIED:20250207T200538Z
UID:10000823-1878805800-1878811200@www.nuuc.ca
SUMMARY:Sunday Service
DESCRIPTION:  \n 
URL:https://www.nuuc.ca/event/sunday-service-19/2029-07-15/
LOCATION:Rafos Hall\, 310 Danforth Ave\, Toronto\, Ontario\, M4K 2X4\, Canada
CATEGORIES:Worship Service
ATTACH;FMTTYPE=image/jpeg:https://www.nuuc.ca/wp-content/uploads/2023/11/Chalice-white-candles-scaled.jpg
END:VEVENT
BEGIN:VEVENT
DTSTART;TZID=America/Toronto:20290716T183000
DTEND;TZID=America/Toronto:20290716T210000
DTSTAMP:20260423T023934
CREATED:20260211T163230Z
LAST-MODIFIED:20260211T163230Z
UID:10001962-1878921000-1878930000@www.nuuc.ca
SUMMARY:Spirit Choir Rehearsal
DESCRIPTION:
URL:https://www.nuuc.ca/event/spirit-choir-rehearsal-5/2029-07-16/
CATEGORIES:Rehearsal only
ATTACH;FMTTYPE=image/jpeg:https://www.nuuc.ca/wp-content/uploads/2025/01/music-rainbow-1.jpg
END:VEVENT
BEGIN:VEVENT
DTSTART;TZID=America/Toronto:20290716T210000
DTEND;TZID=America/Toronto:20290716T230000
DTSTAMP:20260423T023934
CREATED:20250307T172335Z
LAST-MODIFIED:20250307T172335Z
UID:10001413-1878930000-1878937200@www.nuuc.ca
SUMMARY:Spirit Band Rehearsal
DESCRIPTION:
URL:https://www.nuuc.ca/event/spirit-band-rehearsal-4/2029-07-16/
END:VEVENT
BEGIN:VEVENT
DTSTART;TZID=America/Toronto:20290722T103000
DTEND;TZID=America/Toronto:20290722T120000
DTSTAMP:20260423T023934
CREATED:20250207T200538Z
LAST-MODIFIED:20250207T200538Z
UID:10000824-1879410600-1879416000@www.nuuc.ca
SUMMARY:Sunday Service
DESCRIPTION:  \n 
URL:https://www.nuuc.ca/event/sunday-service-19/2029-07-22/
LOCATION:Rafos Hall\, 310 Danforth Ave\, Toronto\, Ontario\, M4K 2X4\, Canada
CATEGORIES:Worship Service
ATTACH;FMTTYPE=image/jpeg:https://www.nuuc.ca/wp-content/uploads/2023/11/Chalice-white-candles-scaled.jpg
END:VEVENT
BEGIN:VEVENT
DTSTART;TZID=America/Toronto:20290723T183000
DTEND;TZID=America/Toronto:20290723T210000
DTSTAMP:20260423T023934
CREATED:20260211T163230Z
LAST-MODIFIED:20260211T163230Z
UID:10001963-1879525800-1879534800@www.nuuc.ca
SUMMARY:Spirit Choir Rehearsal
DESCRIPTION:
URL:https://www.nuuc.ca/event/spirit-choir-rehearsal-5/2029-07-23/
CATEGORIES:Rehearsal only
ATTACH;FMTTYPE=image/jpeg:https://www.nuuc.ca/wp-content/uploads/2025/01/music-rainbow-1.jpg
END:VEVENT
BEGIN:VEVENT
DTSTART;TZID=America/Toronto:20290723T210000
DTEND;TZID=America/Toronto:20290723T230000
DTSTAMP:20260423T023934
CREATED:20250307T172335Z
LAST-MODIFIED:20250307T172335Z
UID:10001414-1879534800-1879542000@www.nuuc.ca
SUMMARY:Spirit Band Rehearsal
DESCRIPTION:
URL:https://www.nuuc.ca/event/spirit-band-rehearsal-4/2029-07-23/
END:VEVENT
BEGIN:VEVENT
DTSTART;TZID=America/Toronto:20290729T103000
DTEND;TZID=America/Toronto:20290729T120000
DTSTAMP:20260423T023935
CREATED:20250207T200538Z
LAST-MODIFIED:20250207T200538Z
UID:10000825-1880015400-1880020800@www.nuuc.ca
SUMMARY:Sunday Service
DESCRIPTION:  \n 
URL:https://www.nuuc.ca/event/sunday-service-19/2029-07-29/
LOCATION:Rafos Hall\, 310 Danforth Ave\, Toronto\, Ontario\, M4K 2X4\, Canada
CATEGORIES:Worship Service
ATTACH;FMTTYPE=image/jpeg:https://www.nuuc.ca/wp-content/uploads/2023/11/Chalice-white-candles-scaled.jpg
END:VEVENT
BEGIN:VEVENT
DTSTART;TZID=America/Toronto:20290730T183000
DTEND;TZID=America/Toronto:20290730T210000
DTSTAMP:20260423T023935
CREATED:20260211T163230Z
LAST-MODIFIED:20260211T163230Z
UID:10001964-1880130600-1880139600@www.nuuc.ca
SUMMARY:Spirit Choir Rehearsal
DESCRIPTION:
URL:https://www.nuuc.ca/event/spirit-choir-rehearsal-5/2029-07-30/
CATEGORIES:Rehearsal only
ATTACH;FMTTYPE=image/jpeg:https://www.nuuc.ca/wp-content/uploads/2025/01/music-rainbow-1.jpg
END:VEVENT
BEGIN:VEVENT
DTSTART;TZID=America/Toronto:20290730T210000
DTEND;TZID=America/Toronto:20290730T230000
DTSTAMP:20260423T023935
CREATED:20250307T172335Z
LAST-MODIFIED:20250307T172335Z
UID:10001415-1880139600-1880146800@www.nuuc.ca
SUMMARY:Spirit Band Rehearsal
DESCRIPTION:
URL:https://www.nuuc.ca/event/spirit-band-rehearsal-4/2029-07-30/
END:VEVENT
BEGIN:VEVENT
DTSTART;TZID=America/Toronto:20290805T103000
DTEND;TZID=America/Toronto:20290805T120000
DTSTAMP:20260423T023935
CREATED:20250207T200538Z
LAST-MODIFIED:20250207T200538Z
UID:10000826-1880620200-1880625600@www.nuuc.ca
SUMMARY:Sunday Service
DESCRIPTION:  \n 
URL:https://www.nuuc.ca/event/sunday-service-19/2029-08-05/
LOCATION:Rafos Hall\, 310 Danforth Ave\, Toronto\, Ontario\, M4K 2X4\, Canada
CATEGORIES:Worship Service
ATTACH;FMTTYPE=image/jpeg:https://www.nuuc.ca/wp-content/uploads/2023/11/Chalice-white-candles-scaled.jpg
END:VEVENT
BEGIN:VEVENT
DTSTART;TZID=America/Toronto:20290806T183000
DTEND;TZID=America/Toronto:20290806T210000
DTSTAMP:20260423T023935
CREATED:20260211T163230Z
LAST-MODIFIED:20260211T163230Z
UID:10001965-1880735400-1880744400@www.nuuc.ca
SUMMARY:Spirit Choir Rehearsal
DESCRIPTION:
URL:https://www.nuuc.ca/event/spirit-choir-rehearsal-5/2029-08-06/
CATEGORIES:Rehearsal only
ATTACH;FMTTYPE=image/jpeg:https://www.nuuc.ca/wp-content/uploads/2025/01/music-rainbow-1.jpg
END:VEVENT
BEGIN:VEVENT
DTSTART;TZID=America/Toronto:20290806T210000
DTEND;TZID=America/Toronto:20290806T230000
DTSTAMP:20260423T023935
CREATED:20250307T172335Z
LAST-MODIFIED:20250307T172335Z
UID:10001416-1880744400-1880751600@www.nuuc.ca
SUMMARY:Spirit Band Rehearsal
DESCRIPTION:
URL:https://www.nuuc.ca/event/spirit-band-rehearsal-4/2029-08-06/
END:VEVENT
BEGIN:VEVENT
DTSTART;TZID=America/Toronto:20290812T103000
DTEND;TZID=America/Toronto:20290812T120000
DTSTAMP:20260423T023935
CREATED:20250207T200538Z
LAST-MODIFIED:20250207T200538Z
UID:10000827-1881225000-1881230400@www.nuuc.ca
SUMMARY:Sunday Service
DESCRIPTION:  \n 
URL:https://www.nuuc.ca/event/sunday-service-19/2029-08-12/
LOCATION:Rafos Hall\, 310 Danforth Ave\, Toronto\, Ontario\, M4K 2X4\, Canada
CATEGORIES:Worship Service
ATTACH;FMTTYPE=image/jpeg:https://www.nuuc.ca/wp-content/uploads/2023/11/Chalice-white-candles-scaled.jpg
END:VEVENT
BEGIN:VEVENT
DTSTART;TZID=America/Toronto:20290813T183000
DTEND;TZID=America/Toronto:20290813T210000
DTSTAMP:20260423T023935
CREATED:20260211T163230Z
LAST-MODIFIED:20260211T163230Z
UID:10001966-1881340200-1881349200@www.nuuc.ca
SUMMARY:Spirit Choir Rehearsal
DESCRIPTION:
URL:https://www.nuuc.ca/event/spirit-choir-rehearsal-5/2029-08-13/
CATEGORIES:Rehearsal only
ATTACH;FMTTYPE=image/jpeg:https://www.nuuc.ca/wp-content/uploads/2025/01/music-rainbow-1.jpg
END:VEVENT
BEGIN:VEVENT
DTSTART;TZID=America/Toronto:20290813T210000
DTEND;TZID=America/Toronto:20290813T230000
DTSTAMP:20260423T023935
CREATED:20250307T172335Z
LAST-MODIFIED:20250307T172335Z
UID:10001417-1881349200-1881356400@www.nuuc.ca
SUMMARY:Spirit Band Rehearsal
DESCRIPTION:
URL:https://www.nuuc.ca/event/spirit-band-rehearsal-4/2029-08-13/
END:VEVENT
BEGIN:VEVENT
DTSTART;TZID=America/Toronto:20290819T103000
DTEND;TZID=America/Toronto:20290819T120000
DTSTAMP:20260423T023935
CREATED:20250207T200538Z
LAST-MODIFIED:20250207T200538Z
UID:10000828-1881829800-1881835200@www.nuuc.ca
SUMMARY:Sunday Service
DESCRIPTION:  \n 
URL:https://www.nuuc.ca/event/sunday-service-19/2029-08-19/
LOCATION:Rafos Hall\, 310 Danforth Ave\, Toronto\, Ontario\, M4K 2X4\, Canada
CATEGORIES:Worship Service
ATTACH;FMTTYPE=image/jpeg:https://www.nuuc.ca/wp-content/uploads/2023/11/Chalice-white-candles-scaled.jpg
END:VEVENT
BEGIN:VEVENT
DTSTART;TZID=America/Toronto:20290820T183000
DTEND;TZID=America/Toronto:20290820T210000
DTSTAMP:20260423T023935
CREATED:20260211T163230Z
LAST-MODIFIED:20260211T163230Z
UID:10001967-1881945000-1881954000@www.nuuc.ca
SUMMARY:Spirit Choir Rehearsal
DESCRIPTION:
URL:https://www.nuuc.ca/event/spirit-choir-rehearsal-5/2029-08-20/
CATEGORIES:Rehearsal only
ATTACH;FMTTYPE=image/jpeg:https://www.nuuc.ca/wp-content/uploads/2025/01/music-rainbow-1.jpg
END:VEVENT
BEGIN:VEVENT
DTSTART;TZID=America/Toronto:20290820T210000
DTEND;TZID=America/Toronto:20290820T230000
DTSTAMP:20260423T023935
CREATED:20250307T172335Z
LAST-MODIFIED:20250307T172335Z
UID:10001418-1881954000-1881961200@www.nuuc.ca
SUMMARY:Spirit Band Rehearsal
DESCRIPTION:
URL:https://www.nuuc.ca/event/spirit-band-rehearsal-4/2029-08-20/
END:VEVENT
BEGIN:VEVENT
DTSTART;TZID=America/Toronto:20290826T103000
DTEND;TZID=America/Toronto:20290826T120000
DTSTAMP:20260423T023935
CREATED:20250207T200538Z
LAST-MODIFIED:20250207T200538Z
UID:10000829-1882434600-1882440000@www.nuuc.ca
SUMMARY:Sunday Service
DESCRIPTION:  \n 
URL:https://www.nuuc.ca/event/sunday-service-19/2029-08-26/
LOCATION:Rafos Hall\, 310 Danforth Ave\, Toronto\, Ontario\, M4K 2X4\, Canada
CATEGORIES:Worship Service
ATTACH;FMTTYPE=image/jpeg:https://www.nuuc.ca/wp-content/uploads/2023/11/Chalice-white-candles-scaled.jpg
END:VEVENT
BEGIN:VEVENT
DTSTART;TZID=America/Toronto:20290827T183000
DTEND;TZID=America/Toronto:20290827T210000
DTSTAMP:20260423T023935
CREATED:20260211T163230Z
LAST-MODIFIED:20260211T163230Z
UID:10001968-1882549800-1882558800@www.nuuc.ca
SUMMARY:Spirit Choir Rehearsal
DESCRIPTION:
URL:https://www.nuuc.ca/event/spirit-choir-rehearsal-5/2029-08-27/
CATEGORIES:Rehearsal only
ATTACH;FMTTYPE=image/jpeg:https://www.nuuc.ca/wp-content/uploads/2025/01/music-rainbow-1.jpg
END:VEVENT
BEGIN:VEVENT
DTSTART;TZID=America/Toronto:20290827T210000
DTEND;TZID=America/Toronto:20290827T230000
DTSTAMP:20260423T023935
CREATED:20250307T172335Z
LAST-MODIFIED:20250307T172335Z
UID:10001419-1882558800-1882566000@www.nuuc.ca
SUMMARY:Spirit Band Rehearsal
DESCRIPTION:
URL:https://www.nuuc.ca/event/spirit-band-rehearsal-4/2029-08-27/
END:VEVENT
BEGIN:VEVENT
DTSTART;TZID=America/Toronto:20290902T103000
DTEND;TZID=America/Toronto:20290902T120000
DTSTAMP:20260423T023935
CREATED:20250207T200538Z
LAST-MODIFIED:20250207T200538Z
UID:10000830-1883039400-1883044800@www.nuuc.ca
SUMMARY:Sunday Service
DESCRIPTION:  \n 
URL:https://www.nuuc.ca/event/sunday-service-19/2029-09-02/
LOCATION:Rafos Hall\, 310 Danforth Ave\, Toronto\, Ontario\, M4K 2X4\, Canada
CATEGORIES:Worship Service
ATTACH;FMTTYPE=image/jpeg:https://www.nuuc.ca/wp-content/uploads/2023/11/Chalice-white-candles-scaled.jpg
END:VEVENT
BEGIN:VEVENT
DTSTART;TZID=America/Toronto:20290903T183000
DTEND;TZID=America/Toronto:20290903T210000
DTSTAMP:20260423T023935
CREATED:20260211T163230Z
LAST-MODIFIED:20260211T163230Z
UID:10001969-1883154600-1883163600@www.nuuc.ca
SUMMARY:Spirit Choir Rehearsal
DESCRIPTION:
URL:https://www.nuuc.ca/event/spirit-choir-rehearsal-5/2029-09-03/
CATEGORIES:Rehearsal only
ATTACH;FMTTYPE=image/jpeg:https://www.nuuc.ca/wp-content/uploads/2025/01/music-rainbow-1.jpg
END:VEVENT
END:VCALENDAR