BEGIN:VCALENDAR
VERSION:2.0
PRODID:-//Neighbourhood Unitarian Universalist Congregation - ECPv6.15.20//NONSGML v1.0//EN
CALSCALE:GREGORIAN
METHOD:PUBLISH
X-WR-CALNAME:Neighbourhood Unitarian Universalist Congregation
X-ORIGINAL-URL:https://www.nuuc.ca
X-WR-CALDESC:Events for Neighbourhood Unitarian Universalist Congregation
REFRESH-INTERVAL;VALUE=DURATION:PT1H
X-Robots-Tag:noindex
X-PUBLISHED-TTL:PT1H
BEGIN:VTIMEZONE
TZID:America/Toronto
BEGIN:DAYLIGHT
TZOFFSETFROM:-0500
TZOFFSETTO:-0400
TZNAME:EDT
DTSTART:20230312T070000
END:DAYLIGHT
BEGIN:STANDARD
TZOFFSETFROM:-0400
TZOFFSETTO:-0500
TZNAME:EST
DTSTART:20231105T060000
END:STANDARD
BEGIN:DAYLIGHT
TZOFFSETFROM:-0500
TZOFFSETTO:-0400
TZNAME:EDT
DTSTART:20240310T070000
END:DAYLIGHT
BEGIN:STANDARD
TZOFFSETFROM:-0400
TZOFFSETTO:-0500
TZNAME:EST
DTSTART:20241103T060000
END:STANDARD
BEGIN:DAYLIGHT
TZOFFSETFROM:-0500
TZOFFSETTO:-0400
TZNAME:EDT
DTSTART:20250309T070000
END:DAYLIGHT
BEGIN:STANDARD
TZOFFSETFROM:-0400
TZOFFSETTO:-0500
TZNAME:EST
DTSTART:20251102T060000
END:STANDARD
END:VTIMEZONE
BEGIN:VEVENT
DTSTART;TZID=America/Toronto:20240728T103000
DTEND;TZID=America/Toronto:20240728T120000
DTSTAMP:20260422T215536
CREATED:20240612T211540Z
LAST-MODIFIED:20240612T211540Z
UID:10000531-1722162600-1722168000@www.nuuc.ca
SUMMARY:Sunday Service – July 28
DESCRIPTION:
URL:https://www.nuuc.ca/event/sunday-service-july-28/
LOCATION:Rafos Hall\, 310 Danforth Ave\, Toronto\, Ontario\, M4K 2X4\, Canada
CATEGORIES:Worship Service
ATTACH;FMTTYPE=image/jpeg:https://www.nuuc.ca/wp-content/uploads/2023/11/Chalice-white-candles-scaled.jpg
END:VEVENT
BEGIN:VEVENT
DTSTART;TZID=America/Toronto:20240725T190000
DTEND;TZID=America/Toronto:20240725T210000
DTSTAMP:20260422T215536
CREATED:20240415T150414Z
LAST-MODIFIED:20240415T150414Z
UID:10000492-1721934000-1721941200@www.nuuc.ca
SUMMARY:Ritual Group Meeting
DESCRIPTION:Minister’s Office
URL:https://www.nuuc.ca/event/ritual-group-meeting-2/
CATEGORIES:Small Group
END:VEVENT
BEGIN:VEVENT
DTSTART;TZID=America/Toronto:20240722T210000
DTEND;TZID=America/Toronto:20240722T230000
DTSTAMP:20260422T215536
CREATED:20231204T232911Z
LAST-MODIFIED:20231204T232912Z
UID:10000290-1721682000-1721689200@www.nuuc.ca
SUMMARY:Spirit Band Rehearsal
DESCRIPTION:Space is booked for Sprit Band rehearsal – contact Susanne Maziarz  if you wish to join the Spirit Band
URL:https://www.nuuc.ca/event/spirit-band-rehearsal-3/2024-07-22/
CATEGORIES:Rehearsal only
END:VEVENT
BEGIN:VEVENT
DTSTART;TZID=America/Toronto:20240722T190000
DTEND;TZID=America/Toronto:20240722T210000
DTSTAMP:20260422T215536
CREATED:20231204T232520Z
LAST-MODIFIED:20240320T152719Z
UID:10000237-1721674800-1721682000@www.nuuc.ca
SUMMARY:Spirit Choir Rehearsals – every Monday evening
DESCRIPTION:Have you thought of singing in the choir here at Neighbourhood? Weekly Mondays’ rehearsals from  7 – 9pm. \nIf you are interested in joining the choir\, please contact Susanne at music@nuuc.ca .
URL:https://www.nuuc.ca/event/spirit-choir-rehearsals-every-monday-evening/2024-07-22/
LOCATION:Rafos Hall\, 310 Danforth Ave\, Toronto\, Ontario\, M4K 2X4\, Canada
CATEGORIES:Rehearsal only
END:VEVENT
BEGIN:VEVENT
DTSTART;TZID=America/Toronto:20240721T190000
DTEND;TZID=America/Toronto:20240721T210000
DTSTAMP:20260422T215536
CREATED:20250630T165038Z
LAST-MODIFIED:20250630T165038Z
UID:10001506-1721588400-1721595600@www.nuuc.ca
SUMMARY:Spirit Choir Rehearsals – every Monday evening
DESCRIPTION:Have you thought of singing in the choir here at Neighbourhood? Weekly Mondays’ rehearsals from  7 – 9pm. \nIf you are interested in joining the choir\, please contact Susanne at music@nuuc.ca .
URL:https://www.nuuc.ca/event/spirit-choir-rehearsals-every-monday-evening-2/2024-07-21/
LOCATION:Rafos Hall\, 310 Danforth Ave\, Toronto\, Ontario\, M4K 2X4\, Canada
CATEGORIES:Rehearsal only
ATTACH;FMTTYPE=image/jpeg:https://www.nuuc.ca/wp-content/uploads/2025/01/music-rainbow-1.jpg
END:VEVENT
BEGIN:VEVENT
DTSTART;TZID=America/Toronto:20240715T210000
DTEND;TZID=America/Toronto:20240715T230000
DTSTAMP:20260422T215536
CREATED:20231204T232911Z
LAST-MODIFIED:20231204T232912Z
UID:10000289-1721077200-1721084400@www.nuuc.ca
SUMMARY:Spirit Band Rehearsal
DESCRIPTION:Space is booked for Sprit Band rehearsal – contact Susanne Maziarz  if you wish to join the Spirit Band
URL:https://www.nuuc.ca/event/spirit-band-rehearsal-3/2024-07-15/
CATEGORIES:Rehearsal only
END:VEVENT
BEGIN:VEVENT
DTSTART;TZID=America/Toronto:20240715T190000
DTEND;TZID=America/Toronto:20240715T210000
DTSTAMP:20260422T215536
CREATED:20231204T232520Z
LAST-MODIFIED:20240320T152719Z
UID:10000236-1721070000-1721077200@www.nuuc.ca
SUMMARY:Spirit Choir Rehearsals – every Monday evening
DESCRIPTION:Have you thought of singing in the choir here at Neighbourhood? Weekly Mondays’ rehearsals from  7 – 9pm. \nIf you are interested in joining the choir\, please contact Susanne at music@nuuc.ca .
URL:https://www.nuuc.ca/event/spirit-choir-rehearsals-every-monday-evening/2024-07-15/
LOCATION:Rafos Hall\, 310 Danforth Ave\, Toronto\, Ontario\, M4K 2X4\, Canada
CATEGORIES:Rehearsal only
END:VEVENT
BEGIN:VEVENT
DTSTART;TZID=America/Toronto:20240714T103000
DTEND;TZID=America/Toronto:20240714T120000
DTSTAMP:20260422T215536
CREATED:20240612T211250Z
LAST-MODIFIED:20240612T211711Z
UID:10000530-1720953000-1720958400@www.nuuc.ca
SUMMARY:Sunday Service – July 14
DESCRIPTION:Labyrinth
URL:https://www.nuuc.ca/event/sunday-service-july-14-2024/
LOCATION:Rafos Hall\, 310 Danforth Ave\, Toronto\, Ontario\, M4K 2X4\, Canada
CATEGORIES:Worship Service
ATTACH;FMTTYPE=image/jpeg:https://www.nuuc.ca/wp-content/uploads/2023/11/Chalice-white-candles-scaled.jpg
END:VEVENT
BEGIN:VEVENT
DTSTART;TZID=America/Toronto:20240708T210000
DTEND;TZID=America/Toronto:20240708T230000
DTSTAMP:20260422T215536
CREATED:20231204T232911Z
LAST-MODIFIED:20231204T232912Z
UID:10000288-1720472400-1720479600@www.nuuc.ca
SUMMARY:Spirit Band Rehearsal
DESCRIPTION:Space is booked for Sprit Band rehearsal – contact Susanne Maziarz  if you wish to join the Spirit Band
URL:https://www.nuuc.ca/event/spirit-band-rehearsal-3/2024-07-08/
CATEGORIES:Rehearsal only
END:VEVENT
BEGIN:VEVENT
DTSTART;TZID=America/Toronto:20240708T190000
DTEND;TZID=America/Toronto:20240708T210000
DTSTAMP:20260422T215536
CREATED:20231204T232520Z
LAST-MODIFIED:20240320T152719Z
UID:10000235-1720465200-1720472400@www.nuuc.ca
SUMMARY:Spirit Choir Rehearsals – every Monday evening
DESCRIPTION:Have you thought of singing in the choir here at Neighbourhood? Weekly Mondays’ rehearsals from  7 – 9pm. \nIf you are interested in joining the choir\, please contact Susanne at music@nuuc.ca .
URL:https://www.nuuc.ca/event/spirit-choir-rehearsals-every-monday-evening/2024-07-08/
LOCATION:Rafos Hall\, 310 Danforth Ave\, Toronto\, Ontario\, M4K 2X4\, Canada
CATEGORIES:Rehearsal only
END:VEVENT
BEGIN:VEVENT
DTSTART;TZID=America/Toronto:20240707T103000
DTEND;TZID=America/Toronto:20240707T120000
DTSTAMP:20260422T215536
CREATED:20240707T083405Z
LAST-MODIFIED:20240707T083421Z
UID:10000545-1720348200-1720353600@www.nuuc.ca
SUMMARY:Summer Services at Neighbourhood
DESCRIPTION:𝐍𝐞𝐢𝐠𝐡𝐛𝐨𝐮𝐫𝐡𝐨𝐨𝐝 𝐰𝐢𝐥𝐥 𝐛𝐞 𝐨𝐟𝐟𝐞𝐫𝐢𝐧𝐠 𝐛𝐢-𝐰𝐞𝐞𝐤𝐥𝐲 𝐬𝐞𝐫𝐯𝐢𝐜𝐞𝐬 𝐝𝐮𝐫𝐢𝐧𝐠 𝐭𝐡𝐞 𝐬𝐮𝐦𝐦𝐞𝐫 𝐭𝐨 𝐠𝐚𝐭𝐡𝐞𝐫. \n2024 Summer Service Schedule: \nJuly 14\, 28\nAugust 11\, 25 \nSeptember 8 will be the first Sunday of our regular weekly services.
URL:https://www.nuuc.ca/event/summer-services-at-neighbourhood/
LOCATION:Rafos Hall\, 310 Danforth Ave\, Toronto\, Ontario\, M4K 2X4\, Canada
CATEGORIES:Worship Service
ATTACH;FMTTYPE=image/jpeg:https://www.nuuc.ca/wp-content/uploads/2024/07/Summer-Worship.jpeg
END:VEVENT
BEGIN:VEVENT
DTSTART;TZID=America/Toronto:20240701T210000
DTEND;TZID=America/Toronto:20240701T230000
DTSTAMP:20260422T215536
CREATED:20231204T232911Z
LAST-MODIFIED:20231204T232912Z
UID:10000287-1719867600-1719874800@www.nuuc.ca
SUMMARY:Spirit Band Rehearsal
DESCRIPTION:Space is booked for Sprit Band rehearsal – contact Susanne Maziarz  if you wish to join the Spirit Band
URL:https://www.nuuc.ca/event/spirit-band-rehearsal-3/2024-07-01/
CATEGORIES:Rehearsal only
END:VEVENT
BEGIN:VEVENT
DTSTART;TZID=America/Toronto:20240701T190000
DTEND;TZID=America/Toronto:20240701T210000
DTSTAMP:20260422T215536
CREATED:20231204T232520Z
LAST-MODIFIED:20240320T152719Z
UID:10000234-1719860400-1719867600@www.nuuc.ca
SUMMARY:Spirit Choir Rehearsals – every Monday evening
DESCRIPTION:Have you thought of singing in the choir here at Neighbourhood? Weekly Mondays’ rehearsals from  7 – 9pm. \nIf you are interested in joining the choir\, please contact Susanne at music@nuuc.ca .
URL:https://www.nuuc.ca/event/spirit-choir-rehearsals-every-monday-evening/2024-07-01/
LOCATION:Rafos Hall\, 310 Danforth Ave\, Toronto\, Ontario\, M4K 2X4\, Canada
CATEGORIES:Rehearsal only
END:VEVENT
BEGIN:VEVENT
DTSTART;TZID=America/Toronto:20240630T103000
DTEND;TZID=America/Toronto:20240630T120000
DTSTAMP:20260422T215536
CREATED:20240113T165456Z
LAST-MODIFIED:20240124T150941Z
UID:10000423-1719743400-1719748800@www.nuuc.ca
SUMMARY:Sunday Service – June 30
DESCRIPTION:June’s theme: Joyful Justice \nMessage: Pride Sunday \n 
URL:https://www.nuuc.ca/event/sunday-service-june-30/
LOCATION:Rafos Hall\, 310 Danforth Ave\, Toronto\, Ontario\, M4K 2X4\, Canada
CATEGORIES:Worship Service
ATTACH;FMTTYPE=image/jpeg:https://www.nuuc.ca/wp-content/uploads/2023/11/Chalice-white-candles-scaled.jpg
END:VEVENT
BEGIN:VEVENT
DTSTART;TZID=America/Toronto:20240624T210000
DTEND;TZID=America/Toronto:20240624T230000
DTSTAMP:20260422T215536
CREATED:20231204T232911Z
LAST-MODIFIED:20231204T232912Z
UID:10000286-1719262800-1719270000@www.nuuc.ca
SUMMARY:Spirit Band Rehearsal
DESCRIPTION:Space is booked for Sprit Band rehearsal – contact Susanne Maziarz  if you wish to join the Spirit Band
URL:https://www.nuuc.ca/event/spirit-band-rehearsal-3/2024-06-24/
CATEGORIES:Rehearsal only
END:VEVENT
BEGIN:VEVENT
DTSTART;TZID=America/Toronto:20240624T190000
DTEND;TZID=America/Toronto:20240624T210000
DTSTAMP:20260422T215536
CREATED:20231204T232520Z
LAST-MODIFIED:20240320T152719Z
UID:10000233-1719255600-1719262800@www.nuuc.ca
SUMMARY:Spirit Choir Rehearsals – every Monday evening
DESCRIPTION:Have you thought of singing in the choir here at Neighbourhood? Weekly Mondays’ rehearsals from  7 – 9pm. \nIf you are interested in joining the choir\, please contact Susanne at music@nuuc.ca .
URL:https://www.nuuc.ca/event/spirit-choir-rehearsals-every-monday-evening/2024-06-24/
LOCATION:Rafos Hall\, 310 Danforth Ave\, Toronto\, Ontario\, M4K 2X4\, Canada
CATEGORIES:Rehearsal only
END:VEVENT
BEGIN:VEVENT
DTSTART;TZID=America/Toronto:20240623T103000
DTEND;TZID=America/Toronto:20240623T120000
DTSTAMP:20260422T215536
CREATED:20240113T165351Z
LAST-MODIFIED:20240124T152532Z
UID:10000422-1719138600-1719144000@www.nuuc.ca
SUMMARY:Sunday Service – June 23
DESCRIPTION:June’s theme: Joyful Justice \nSpeaker: Rev Pat Trudeau \nMusic: Spirit Band \n 
URL:https://www.nuuc.ca/event/sunday-service-june-23/
LOCATION:Rafos Hall\, 310 Danforth Ave\, Toronto\, Ontario\, M4K 2X4\, Canada
CATEGORIES:Worship Service
ATTACH;FMTTYPE=image/jpeg:https://www.nuuc.ca/wp-content/uploads/2023/11/Chalice-white-candles-scaled.jpg
END:VEVENT
BEGIN:VEVENT
DTSTART;TZID=America/Toronto:20240619T163000
DTEND;TZID=America/Toronto:20240619T183000
DTSTAMP:20260422T215536
CREATED:20240124T192539Z
LAST-MODIFIED:20240429T215354Z
UID:10000443-1718814600-1718821800@www.nuuc.ca
SUMMARY:NUUC Board Meeting
DESCRIPTION:
URL:https://www.nuuc.ca/event/nuuc-board-meetings-4/
LOCATION:Minister’s Office
CATEGORIES:Board
END:VEVENT
BEGIN:VEVENT
DTSTART;TZID=America/Toronto:20240617T210000
DTEND;TZID=America/Toronto:20240617T230000
DTSTAMP:20260422T215536
CREATED:20231204T232911Z
LAST-MODIFIED:20231204T232912Z
UID:10000285-1718658000-1718665200@www.nuuc.ca
SUMMARY:Spirit Band Rehearsal
DESCRIPTION:Space is booked for Sprit Band rehearsal – contact Susanne Maziarz  if you wish to join the Spirit Band
URL:https://www.nuuc.ca/event/spirit-band-rehearsal-3/2024-06-17/
CATEGORIES:Rehearsal only
END:VEVENT
BEGIN:VEVENT
DTSTART;TZID=America/Toronto:20240617T190000
DTEND;TZID=America/Toronto:20240617T210000
DTSTAMP:20260422T215536
CREATED:20231204T232520Z
LAST-MODIFIED:20240320T152719Z
UID:10000232-1718650800-1718658000@www.nuuc.ca
SUMMARY:Spirit Choir Rehearsals – every Monday evening
DESCRIPTION:Have you thought of singing in the choir here at Neighbourhood? Weekly Mondays’ rehearsals from  7 – 9pm. \nIf you are interested in joining the choir\, please contact Susanne at music@nuuc.ca .
URL:https://www.nuuc.ca/event/spirit-choir-rehearsals-every-monday-evening/2024-06-17/
LOCATION:Rafos Hall\, 310 Danforth Ave\, Toronto\, Ontario\, M4K 2X4\, Canada
CATEGORIES:Rehearsal only
END:VEVENT
BEGIN:VEVENT
DTSTART;TZID=America/Toronto:20240616T150000
DTEND;TZID=America/Toronto:20240616T170000
DTSTAMP:20260422T215536
CREATED:20240124T213435Z
LAST-MODIFIED:20240216T185959Z
UID:10000450-1718550000-1718557200@www.nuuc.ca
SUMMARY:Circle Music workshop
DESCRIPTION:Co-facilitated by Jane Lewis and Susanne Maziarz. \nAll are welcome to this improvised singing circle. \nA creative opportunity for listening\, being in the moment\, sharing your voice\, and laughing! \nContact Susanne at music@nuuc.ca for more info.
URL:https://www.nuuc.ca/event/circle-music-workshop-4/
LOCATION:Rafos Hall\, 310 Danforth Ave\, Toronto\, Ontario\, M4K 2X4\, Canada
CATEGORIES:external sponsored by NUUC,Music
ATTACH;FMTTYPE=image/jpeg:https://www.nuuc.ca/wp-content/uploads/2024/01/Circle-Music-TO-no-dates-e1710073587451.jpeg
END:VEVENT
BEGIN:VEVENT
DTSTART;TZID=America/Toronto:20240616T123000
DTEND;TZID=America/Toronto:20240616T140000
DTSTAMP:20260422T215536
CREATED:20240405T162159Z
LAST-MODIFIED:20240508T171911Z
UID:10000490-1718541000-1718546400@www.nuuc.ca
SUMMARY:Conversations on Racism in Canada – May 19 and June 16 (1-2:30pm)
DESCRIPTION:You are invited to join Rev Trudeau and Dr Hayden for this important presentation. These two sessions consist of conversations on racism in Canada; you may attend one or both. The need for such conversations comes out of the 2021 CUC (Canadian Unitarian Council) survey results which showed a disconnect between the perceptions of White UUs and the lived experiences of Black\, Indigenous\, and racialized UU congregants. Participants will be able to engage in a discussion of interpersonal and systemic racism in Canada. Our goal is to foster deeper understandings necessary for moving towards dismantling effects of White supremacy and colonialism. All are welcome.
URL:https://www.nuuc.ca/event/conversations-on-racism-in-canada-with-rev-pat-trudeau-and-dr-wilburn-hayden-2/
CATEGORIES:Open Community event,Workshop
ATTACH;FMTTYPE=image/png:https://www.nuuc.ca/wp-content/uploads/2024/04/Screenshot-2024-05-08-at-1.15.02 PM.png
END:VEVENT
BEGIN:VEVENT
DTSTART;TZID=America/Toronto:20240616T103000
DTEND;TZID=America/Toronto:20240616T120000
DTSTAMP:20260422T215536
CREATED:20240113T165301Z
LAST-MODIFIED:20240124T152611Z
UID:10000421-1718533800-1718539200@www.nuuc.ca
SUMMARY:Sunday Service – June 16
DESCRIPTION:June’s theme: Joyful Justice \nSpeaker: Rev Stephen Atkinson \nMusic: Spirit Choir \n 
URL:https://www.nuuc.ca/event/sunday-service-june-16/
LOCATION:Rafos Hall\, 310 Danforth Ave\, Toronto\, Ontario\, M4K 2X4\, Canada
CATEGORIES:Worship Service
ATTACH;FMTTYPE=image/jpeg:https://www.nuuc.ca/wp-content/uploads/2023/11/Chalice-white-candles-scaled.jpg
END:VEVENT
BEGIN:VEVENT
DTSTART;TZID=America/Toronto:20240615T103000
DTEND;TZID=America/Toronto:20240615T170000
DTSTAMP:20260422T215536
CREATED:20240524T214107Z
LAST-MODIFIED:20240524T214111Z
UID:10000520-1718447400-1718470800@www.nuuc.ca
SUMMARY:Council of All Beings
DESCRIPTION:A Work that Reconnects Workshop\, Sat. June 15 10:30 a.m. – 5:00 p.m. Location the Bain Community Centre (Logan & Bain).  In this community ritual developed by Joanna Macy and John Seed\, we gather to speak on behalf of the non-human world and receive their gifts to continue healing and protecting our planet. The day will also include live music and singing\, simple mask making\, time in Withrow Park\, and “brainfood” on defending the rights of Mother Earth. Everybody welcome! \nFacilitated by Bruce Lyne\, Natalie Zend and Larry Nusbaum.  Please register to save your spot at www.tinyurl.com/councilofallbeings
URL:https://www.nuuc.ca/event/council-of-all-beings/
CATEGORIES:external sponsored by NUUC
ATTACH;FMTTYPE=image/jpeg:https://www.nuuc.ca/wp-content/uploads/2024/05/council_image_web.jpg
END:VEVENT
BEGIN:VEVENT
DTSTART;TZID=America/Toronto:20240613T190000
DTEND;TZID=America/Toronto:20240613T210000
DTSTAMP:20260422T215536
CREATED:20240415T150305Z
LAST-MODIFIED:20240415T150309Z
UID:10000491-1718305200-1718312400@www.nuuc.ca
SUMMARY:Ritual Group Meeting
DESCRIPTION:Minister’s Office
URL:https://www.nuuc.ca/event/ritual-group-meeting/
CATEGORIES:Small Group
END:VEVENT
BEGIN:VEVENT
DTSTART;TZID=America/Toronto:20240610T210000
DTEND;TZID=America/Toronto:20240610T230000
DTSTAMP:20260422T215536
CREATED:20231204T232911Z
LAST-MODIFIED:20231204T232912Z
UID:10000284-1718053200-1718060400@www.nuuc.ca
SUMMARY:Spirit Band Rehearsal
DESCRIPTION:Space is booked for Sprit Band rehearsal – contact Susanne Maziarz  if you wish to join the Spirit Band
URL:https://www.nuuc.ca/event/spirit-band-rehearsal-3/2024-06-10/
CATEGORIES:Rehearsal only
END:VEVENT
BEGIN:VEVENT
DTSTART;TZID=America/Toronto:20240610T190000
DTEND;TZID=America/Toronto:20240610T210000
DTSTAMP:20260422T215536
CREATED:20231204T232520Z
LAST-MODIFIED:20240320T152719Z
UID:10000231-1718046000-1718053200@www.nuuc.ca
SUMMARY:Spirit Choir Rehearsals – every Monday evening
DESCRIPTION:Have you thought of singing in the choir here at Neighbourhood? Weekly Mondays’ rehearsals from  7 – 9pm. \nIf you are interested in joining the choir\, please contact Susanne at music@nuuc.ca .
URL:https://www.nuuc.ca/event/spirit-choir-rehearsals-every-monday-evening/2024-06-10/
LOCATION:Rafos Hall\, 310 Danforth Ave\, Toronto\, Ontario\, M4K 2X4\, Canada
CATEGORIES:Rehearsal only
END:VEVENT
BEGIN:VEVENT
DTSTART;TZID=America/Toronto:20240609T140000
DTEND;TZID=America/Toronto:20240609T153000
DTSTAMP:20260422T215536
CREATED:20240320T160555Z
LAST-MODIFIED:20240514T152605Z
UID:10000486-1717941600-1717947000@www.nuuc.ca
SUMMARY:Danforth Multifaith Commons event – June 9
DESCRIPTION:Exploring the origins of Antisemitism and Islamophobia \nPresenters: Dr. Meirav Jones\, Assistant Professor of Religious Studies\, McMaster University\, and Shaykh Yusuf Badat\, Imam\, Islamic Foundation of Toronto \nFollowing presentation there will be a discussion on ways we can support one another through these uncertain times\, guided by the faith leaders of the DMC and the East Toronto Multifaith Community.
URL:https://www.nuuc.ca/event/multifaith-workshop/
LOCATION:Rafos Hall\, 310 Danforth Ave\, Toronto\, Ontario\, M4K 2X4\, Canada
CATEGORIES:Multifaith
ATTACH;FMTTYPE=image/png:https://www.nuuc.ca/wp-content/uploads/2023/11/DMC-logo.png
END:VEVENT
BEGIN:VEVENT
DTSTART;TZID=America/Toronto:20240609T103000
DTEND;TZID=America/Toronto:20240609T120000
DTSTAMP:20260422T215536
CREATED:20240113T165157Z
LAST-MODIFIED:20240603T141333Z
UID:10000420-1717929000-1717934400@www.nuuc.ca
SUMMARY:Sunday Service – June 9
DESCRIPTION:June’s theme: Joyful Justice \nSpeaker: Kofi Hope \nMusic: Susanne and Friends \nMessage: Finding Strength from the Spiritual in Dark Times \nIt can be hard to feel hopeful\, even joyful in what feels like a difficult time in the quest for social justice. Returning speaker Kofi Hope shares how swapping the technology we use to perceive the world – modern tech such as social media for spiritual technology\, including ancient faith traditions — may help us recover some of that joy and face challenges from a more grounded place. \n 
URL:https://www.nuuc.ca/event/sunday-service-june-9/
LOCATION:Rafos Hall\, 310 Danforth Ave\, Toronto\, Ontario\, M4K 2X4\, Canada
CATEGORIES:Worship Service
ATTACH;FMTTYPE=image/jpeg:https://www.nuuc.ca/wp-content/uploads/2024/01/Recover-Joy.jpg
END:VEVENT
BEGIN:VEVENT
DTSTART;TZID=America/Toronto:20240606T183000
DTEND;TZID=America/Toronto:20240606T210000
DTSTAMP:20260422T215536
CREATED:20240320T155955Z
LAST-MODIFIED:20240320T155955Z
UID:10000484-1717698600-1717707600@www.nuuc.ca
SUMMARY:Toronto East End Climate Collective
DESCRIPTION:Toronto East End Climate Collective meets in-person at Neighbourhood on the first Thursday of each month at 7:00p.m.\, and online all other Thursdays. \nTEECC is a climate advocacy\, education and discussion group. We help plan and attend climate actions and work on speaker series. All are welcome – snacks provided! For more information please contact Janet Nanos
URL:https://www.nuuc.ca/event/toronto-east-end-climate-collective-6/
LOCATION:Cappuccino Room
CATEGORIES:external sponsored by NUUC,meeting
ATTACH;FMTTYPE=image/jpeg:https://www.nuuc.ca/wp-content/uploads/2023/12/TEECC.jpg
END:VEVENT
END:VCALENDAR