BEGIN:VCALENDAR
VERSION:2.0
PRODID:-//Neighbourhood Unitarian Universalist Congregation - ECPv6.15.20//NONSGML v1.0//EN
CALSCALE:GREGORIAN
METHOD:PUBLISH
X-ORIGINAL-URL:https://www.nuuc.ca
X-WR-CALDESC:Events for Neighbourhood Unitarian Universalist Congregation
REFRESH-INTERVAL;VALUE=DURATION:PT1H
X-Robots-Tag:noindex
X-PUBLISHED-TTL:PT1H
BEGIN:VTIMEZONE
TZID:America/Toronto
BEGIN:DAYLIGHT
TZOFFSETFROM:-0500
TZOFFSETTO:-0400
TZNAME:EDT
DTSTART:20280312T070000
END:DAYLIGHT
BEGIN:STANDARD
TZOFFSETFROM:-0400
TZOFFSETTO:-0500
TZNAME:EST
DTSTART:20281105T060000
END:STANDARD
BEGIN:DAYLIGHT
TZOFFSETFROM:-0500
TZOFFSETTO:-0400
TZNAME:EDT
DTSTART:20290311T070000
END:DAYLIGHT
BEGIN:STANDARD
TZOFFSETFROM:-0400
TZOFFSETTO:-0500
TZNAME:EST
DTSTART:20291104T060000
END:STANDARD
BEGIN:DAYLIGHT
TZOFFSETFROM:-0500
TZOFFSETTO:-0400
TZNAME:EDT
DTSTART:20300310T070000
END:DAYLIGHT
BEGIN:STANDARD
TZOFFSETFROM:-0400
TZOFFSETTO:-0500
TZNAME:EST
DTSTART:20301103T060000
END:STANDARD
END:VTIMEZONE
BEGIN:VEVENT
DTSTART;TZID=America/Toronto:20290514T210000
DTEND;TZID=America/Toronto:20290514T230000
DTSTAMP:20260424T115223
CREATED:20250307T172335Z
LAST-MODIFIED:20250307T172335Z
UID:10001404-1873486800-1873494000@www.nuuc.ca
SUMMARY:Spirit Band Rehearsal
DESCRIPTION:
URL:https://www.nuuc.ca/event/spirit-band-rehearsal-4/2029-05-14/
END:VEVENT
BEGIN:VEVENT
DTSTART;TZID=America/Toronto:20290520T103000
DTEND;TZID=America/Toronto:20290520T120000
DTSTAMP:20260424T115223
CREATED:20250207T200538Z
LAST-MODIFIED:20250207T200538Z
UID:10000815-1873967400-1873972800@www.nuuc.ca
SUMMARY:Sunday Service
DESCRIPTION:  \n 
URL:https://www.nuuc.ca/event/sunday-service-19/2029-05-20/
LOCATION:Rafos Hall\, 310 Danforth Ave\, Toronto\, Ontario\, M4K 2X4\, Canada
CATEGORIES:Worship Service
ATTACH;FMTTYPE=image/jpeg:https://www.nuuc.ca/wp-content/uploads/2023/11/Chalice-white-candles-scaled.jpg
END:VEVENT
BEGIN:VEVENT
DTSTART;TZID=America/Toronto:20290521T183000
DTEND;TZID=America/Toronto:20290521T210000
DTSTAMP:20260424T115223
CREATED:20260211T163230Z
LAST-MODIFIED:20260211T163230Z
UID:10001954-1874082600-1874091600@www.nuuc.ca
SUMMARY:Spirit Choir Rehearsal
DESCRIPTION:
URL:https://www.nuuc.ca/event/spirit-choir-rehearsal-5/2029-05-21/
CATEGORIES:Rehearsal only
ATTACH;FMTTYPE=image/jpeg:https://www.nuuc.ca/wp-content/uploads/2025/01/music-rainbow-1.jpg
END:VEVENT
BEGIN:VEVENT
DTSTART;TZID=America/Toronto:20290521T210000
DTEND;TZID=America/Toronto:20290521T230000
DTSTAMP:20260424T115223
CREATED:20250307T172335Z
LAST-MODIFIED:20250307T172335Z
UID:10001405-1874091600-1874098800@www.nuuc.ca
SUMMARY:Spirit Band Rehearsal
DESCRIPTION:
URL:https://www.nuuc.ca/event/spirit-band-rehearsal-4/2029-05-21/
END:VEVENT
BEGIN:VEVENT
DTSTART;TZID=America/Toronto:20290527T103000
DTEND;TZID=America/Toronto:20290527T120000
DTSTAMP:20260424T115223
CREATED:20250207T200538Z
LAST-MODIFIED:20250207T200538Z
UID:10000816-1874572200-1874577600@www.nuuc.ca
SUMMARY:Sunday Service
DESCRIPTION:  \n 
URL:https://www.nuuc.ca/event/sunday-service-19/2029-05-27/
LOCATION:Rafos Hall\, 310 Danforth Ave\, Toronto\, Ontario\, M4K 2X4\, Canada
CATEGORIES:Worship Service
ATTACH;FMTTYPE=image/jpeg:https://www.nuuc.ca/wp-content/uploads/2023/11/Chalice-white-candles-scaled.jpg
END:VEVENT
BEGIN:VEVENT
DTSTART;TZID=America/Toronto:20290528T183000
DTEND;TZID=America/Toronto:20290528T210000
DTSTAMP:20260424T115223
CREATED:20260211T163230Z
LAST-MODIFIED:20260211T163230Z
UID:10001955-1874687400-1874696400@www.nuuc.ca
SUMMARY:Spirit Choir Rehearsal
DESCRIPTION:
URL:https://www.nuuc.ca/event/spirit-choir-rehearsal-5/2029-05-28/
CATEGORIES:Rehearsal only
ATTACH;FMTTYPE=image/jpeg:https://www.nuuc.ca/wp-content/uploads/2025/01/music-rainbow-1.jpg
END:VEVENT
BEGIN:VEVENT
DTSTART;TZID=America/Toronto:20290528T210000
DTEND;TZID=America/Toronto:20290528T230000
DTSTAMP:20260424T115223
CREATED:20250307T172335Z
LAST-MODIFIED:20250307T172335Z
UID:10001406-1874696400-1874703600@www.nuuc.ca
SUMMARY:Spirit Band Rehearsal
DESCRIPTION:
URL:https://www.nuuc.ca/event/spirit-band-rehearsal-4/2029-05-28/
END:VEVENT
BEGIN:VEVENT
DTSTART;TZID=America/Toronto:20290603T103000
DTEND;TZID=America/Toronto:20290603T120000
DTSTAMP:20260424T115223
CREATED:20250207T200538Z
LAST-MODIFIED:20250207T200538Z
UID:10000817-1875177000-1875182400@www.nuuc.ca
SUMMARY:Sunday Service
DESCRIPTION:  \n 
URL:https://www.nuuc.ca/event/sunday-service-19/2029-06-03/
LOCATION:Rafos Hall\, 310 Danforth Ave\, Toronto\, Ontario\, M4K 2X4\, Canada
CATEGORIES:Worship Service
ATTACH;FMTTYPE=image/jpeg:https://www.nuuc.ca/wp-content/uploads/2023/11/Chalice-white-candles-scaled.jpg
END:VEVENT
BEGIN:VEVENT
DTSTART;TZID=America/Toronto:20290604T183000
DTEND;TZID=America/Toronto:20290604T210000
DTSTAMP:20260424T115223
CREATED:20260211T163230Z
LAST-MODIFIED:20260211T163230Z
UID:10001956-1875292200-1875301200@www.nuuc.ca
SUMMARY:Spirit Choir Rehearsal
DESCRIPTION:
URL:https://www.nuuc.ca/event/spirit-choir-rehearsal-5/2029-06-04/
CATEGORIES:Rehearsal only
ATTACH;FMTTYPE=image/jpeg:https://www.nuuc.ca/wp-content/uploads/2025/01/music-rainbow-1.jpg
END:VEVENT
BEGIN:VEVENT
DTSTART;TZID=America/Toronto:20290604T210000
DTEND;TZID=America/Toronto:20290604T230000
DTSTAMP:20260424T115223
CREATED:20250307T172335Z
LAST-MODIFIED:20250307T172335Z
UID:10001407-1875301200-1875308400@www.nuuc.ca
SUMMARY:Spirit Band Rehearsal
DESCRIPTION:
URL:https://www.nuuc.ca/event/spirit-band-rehearsal-4/2029-06-04/
END:VEVENT
BEGIN:VEVENT
DTSTART;TZID=America/Toronto:20290610T103000
DTEND;TZID=America/Toronto:20290610T120000
DTSTAMP:20260424T115223
CREATED:20250207T200538Z
LAST-MODIFIED:20250207T200538Z
UID:10000818-1875781800-1875787200@www.nuuc.ca
SUMMARY:Sunday Service
DESCRIPTION:  \n 
URL:https://www.nuuc.ca/event/sunday-service-19/2029-06-10/
LOCATION:Rafos Hall\, 310 Danforth Ave\, Toronto\, Ontario\, M4K 2X4\, Canada
CATEGORIES:Worship Service
ATTACH;FMTTYPE=image/jpeg:https://www.nuuc.ca/wp-content/uploads/2023/11/Chalice-white-candles-scaled.jpg
END:VEVENT
BEGIN:VEVENT
DTSTART;TZID=America/Toronto:20290611T183000
DTEND;TZID=America/Toronto:20290611T210000
DTSTAMP:20260424T115223
CREATED:20260211T163230Z
LAST-MODIFIED:20260211T163230Z
UID:10001957-1875897000-1875906000@www.nuuc.ca
SUMMARY:Spirit Choir Rehearsal
DESCRIPTION:
URL:https://www.nuuc.ca/event/spirit-choir-rehearsal-5/2029-06-11/
CATEGORIES:Rehearsal only
ATTACH;FMTTYPE=image/jpeg:https://www.nuuc.ca/wp-content/uploads/2025/01/music-rainbow-1.jpg
END:VEVENT
BEGIN:VEVENT
DTSTART;TZID=America/Toronto:20290611T210000
DTEND;TZID=America/Toronto:20290611T230000
DTSTAMP:20260424T115223
CREATED:20250307T172335Z
LAST-MODIFIED:20250307T172335Z
UID:10001408-1875906000-1875913200@www.nuuc.ca
SUMMARY:Spirit Band Rehearsal
DESCRIPTION:
URL:https://www.nuuc.ca/event/spirit-band-rehearsal-4/2029-06-11/
END:VEVENT
BEGIN:VEVENT
DTSTART;TZID=America/Toronto:20290617T103000
DTEND;TZID=America/Toronto:20290617T120000
DTSTAMP:20260424T115223
CREATED:20250207T200538Z
LAST-MODIFIED:20250207T200538Z
UID:10000819-1876386600-1876392000@www.nuuc.ca
SUMMARY:Sunday Service
DESCRIPTION:  \n 
URL:https://www.nuuc.ca/event/sunday-service-19/2029-06-17/
LOCATION:Rafos Hall\, 310 Danforth Ave\, Toronto\, Ontario\, M4K 2X4\, Canada
CATEGORIES:Worship Service
ATTACH;FMTTYPE=image/jpeg:https://www.nuuc.ca/wp-content/uploads/2023/11/Chalice-white-candles-scaled.jpg
END:VEVENT
BEGIN:VEVENT
DTSTART;TZID=America/Toronto:20290618T183000
DTEND;TZID=America/Toronto:20290618T210000
DTSTAMP:20260424T115223
CREATED:20260211T163230Z
LAST-MODIFIED:20260211T163230Z
UID:10001958-1876501800-1876510800@www.nuuc.ca
SUMMARY:Spirit Choir Rehearsal
DESCRIPTION:
URL:https://www.nuuc.ca/event/spirit-choir-rehearsal-5/2029-06-18/
CATEGORIES:Rehearsal only
ATTACH;FMTTYPE=image/jpeg:https://www.nuuc.ca/wp-content/uploads/2025/01/music-rainbow-1.jpg
END:VEVENT
BEGIN:VEVENT
DTSTART;TZID=America/Toronto:20290618T210000
DTEND;TZID=America/Toronto:20290618T230000
DTSTAMP:20260424T115223
CREATED:20250307T172335Z
LAST-MODIFIED:20250307T172335Z
UID:10001409-1876510800-1876518000@www.nuuc.ca
SUMMARY:Spirit Band Rehearsal
DESCRIPTION:
URL:https://www.nuuc.ca/event/spirit-band-rehearsal-4/2029-06-18/
END:VEVENT
BEGIN:VEVENT
DTSTART;TZID=America/Toronto:20290624T103000
DTEND;TZID=America/Toronto:20290624T120000
DTSTAMP:20260424T115223
CREATED:20250207T200538Z
LAST-MODIFIED:20250207T200538Z
UID:10000820-1876991400-1876996800@www.nuuc.ca
SUMMARY:Sunday Service
DESCRIPTION:  \n 
URL:https://www.nuuc.ca/event/sunday-service-19/2029-06-24/
LOCATION:Rafos Hall\, 310 Danforth Ave\, Toronto\, Ontario\, M4K 2X4\, Canada
CATEGORIES:Worship Service
ATTACH;FMTTYPE=image/jpeg:https://www.nuuc.ca/wp-content/uploads/2023/11/Chalice-white-candles-scaled.jpg
END:VEVENT
BEGIN:VEVENT
DTSTART;TZID=America/Toronto:20290625T183000
DTEND;TZID=America/Toronto:20290625T210000
DTSTAMP:20260424T115223
CREATED:20260211T163230Z
LAST-MODIFIED:20260211T163230Z
UID:10001959-1877106600-1877115600@www.nuuc.ca
SUMMARY:Spirit Choir Rehearsal
DESCRIPTION:
URL:https://www.nuuc.ca/event/spirit-choir-rehearsal-5/2029-06-25/
CATEGORIES:Rehearsal only
ATTACH;FMTTYPE=image/jpeg:https://www.nuuc.ca/wp-content/uploads/2025/01/music-rainbow-1.jpg
END:VEVENT
BEGIN:VEVENT
DTSTART;TZID=America/Toronto:20290625T210000
DTEND;TZID=America/Toronto:20290625T230000
DTSTAMP:20260424T115223
CREATED:20250307T172335Z
LAST-MODIFIED:20250307T172335Z
UID:10001410-1877115600-1877122800@www.nuuc.ca
SUMMARY:Spirit Band Rehearsal
DESCRIPTION:
URL:https://www.nuuc.ca/event/spirit-band-rehearsal-4/2029-06-25/
END:VEVENT
BEGIN:VEVENT
DTSTART;TZID=America/Toronto:20290701T103000
DTEND;TZID=America/Toronto:20290701T120000
DTSTAMP:20260424T115223
CREATED:20250207T200538Z
LAST-MODIFIED:20250207T200538Z
UID:10000821-1877596200-1877601600@www.nuuc.ca
SUMMARY:Sunday Service
DESCRIPTION:  \n 
URL:https://www.nuuc.ca/event/sunday-service-19/2029-07-01/
LOCATION:Rafos Hall\, 310 Danforth Ave\, Toronto\, Ontario\, M4K 2X4\, Canada
CATEGORIES:Worship Service
ATTACH;FMTTYPE=image/jpeg:https://www.nuuc.ca/wp-content/uploads/2023/11/Chalice-white-candles-scaled.jpg
END:VEVENT
BEGIN:VEVENT
DTSTART;TZID=America/Toronto:20290702T183000
DTEND;TZID=America/Toronto:20290702T210000
DTSTAMP:20260424T115223
CREATED:20260211T163230Z
LAST-MODIFIED:20260211T163230Z
UID:10001960-1877711400-1877720400@www.nuuc.ca
SUMMARY:Spirit Choir Rehearsal
DESCRIPTION:
URL:https://www.nuuc.ca/event/spirit-choir-rehearsal-5/2029-07-02/
CATEGORIES:Rehearsal only
ATTACH;FMTTYPE=image/jpeg:https://www.nuuc.ca/wp-content/uploads/2025/01/music-rainbow-1.jpg
END:VEVENT
BEGIN:VEVENT
DTSTART;TZID=America/Toronto:20290702T210000
DTEND;TZID=America/Toronto:20290702T230000
DTSTAMP:20260424T115223
CREATED:20250307T172335Z
LAST-MODIFIED:20250307T172335Z
UID:10001411-1877720400-1877727600@www.nuuc.ca
SUMMARY:Spirit Band Rehearsal
DESCRIPTION:
URL:https://www.nuuc.ca/event/spirit-band-rehearsal-4/2029-07-02/
END:VEVENT
BEGIN:VEVENT
DTSTART;TZID=America/Toronto:20290708T103000
DTEND;TZID=America/Toronto:20290708T120000
DTSTAMP:20260424T115223
CREATED:20250207T200538Z
LAST-MODIFIED:20250207T200538Z
UID:10000822-1878201000-1878206400@www.nuuc.ca
SUMMARY:Sunday Service
DESCRIPTION:  \n 
URL:https://www.nuuc.ca/event/sunday-service-19/2029-07-08/
LOCATION:Rafos Hall\, 310 Danforth Ave\, Toronto\, Ontario\, M4K 2X4\, Canada
CATEGORIES:Worship Service
ATTACH;FMTTYPE=image/jpeg:https://www.nuuc.ca/wp-content/uploads/2023/11/Chalice-white-candles-scaled.jpg
END:VEVENT
BEGIN:VEVENT
DTSTART;TZID=America/Toronto:20290709T183000
DTEND;TZID=America/Toronto:20290709T210000
DTSTAMP:20260424T115223
CREATED:20260211T163230Z
LAST-MODIFIED:20260211T163230Z
UID:10001961-1878316200-1878325200@www.nuuc.ca
SUMMARY:Spirit Choir Rehearsal
DESCRIPTION:
URL:https://www.nuuc.ca/event/spirit-choir-rehearsal-5/2029-07-09/
CATEGORIES:Rehearsal only
ATTACH;FMTTYPE=image/jpeg:https://www.nuuc.ca/wp-content/uploads/2025/01/music-rainbow-1.jpg
END:VEVENT
BEGIN:VEVENT
DTSTART;TZID=America/Toronto:20290709T210000
DTEND;TZID=America/Toronto:20290709T230000
DTSTAMP:20260424T115223
CREATED:20250307T172335Z
LAST-MODIFIED:20250307T172335Z
UID:10001412-1878325200-1878332400@www.nuuc.ca
SUMMARY:Spirit Band Rehearsal
DESCRIPTION:
URL:https://www.nuuc.ca/event/spirit-band-rehearsal-4/2029-07-09/
END:VEVENT
BEGIN:VEVENT
DTSTART;TZID=America/Toronto:20290715T103000
DTEND;TZID=America/Toronto:20290715T120000
DTSTAMP:20260424T115223
CREATED:20250207T200538Z
LAST-MODIFIED:20250207T200538Z
UID:10000823-1878805800-1878811200@www.nuuc.ca
SUMMARY:Sunday Service
DESCRIPTION:  \n 
URL:https://www.nuuc.ca/event/sunday-service-19/2029-07-15/
LOCATION:Rafos Hall\, 310 Danforth Ave\, Toronto\, Ontario\, M4K 2X4\, Canada
CATEGORIES:Worship Service
ATTACH;FMTTYPE=image/jpeg:https://www.nuuc.ca/wp-content/uploads/2023/11/Chalice-white-candles-scaled.jpg
END:VEVENT
BEGIN:VEVENT
DTSTART;TZID=America/Toronto:20290716T183000
DTEND;TZID=America/Toronto:20290716T210000
DTSTAMP:20260424T115223
CREATED:20260211T163230Z
LAST-MODIFIED:20260211T163230Z
UID:10001962-1878921000-1878930000@www.nuuc.ca
SUMMARY:Spirit Choir Rehearsal
DESCRIPTION:
URL:https://www.nuuc.ca/event/spirit-choir-rehearsal-5/2029-07-16/
CATEGORIES:Rehearsal only
ATTACH;FMTTYPE=image/jpeg:https://www.nuuc.ca/wp-content/uploads/2025/01/music-rainbow-1.jpg
END:VEVENT
BEGIN:VEVENT
DTSTART;TZID=America/Toronto:20290716T210000
DTEND;TZID=America/Toronto:20290716T230000
DTSTAMP:20260424T115223
CREATED:20250307T172335Z
LAST-MODIFIED:20250307T172335Z
UID:10001413-1878930000-1878937200@www.nuuc.ca
SUMMARY:Spirit Band Rehearsal
DESCRIPTION:
URL:https://www.nuuc.ca/event/spirit-band-rehearsal-4/2029-07-16/
END:VEVENT
BEGIN:VEVENT
DTSTART;TZID=America/Toronto:20290722T103000
DTEND;TZID=America/Toronto:20290722T120000
DTSTAMP:20260424T115223
CREATED:20250207T200538Z
LAST-MODIFIED:20250207T200538Z
UID:10000824-1879410600-1879416000@www.nuuc.ca
SUMMARY:Sunday Service
DESCRIPTION:  \n 
URL:https://www.nuuc.ca/event/sunday-service-19/2029-07-22/
LOCATION:Rafos Hall\, 310 Danforth Ave\, Toronto\, Ontario\, M4K 2X4\, Canada
CATEGORIES:Worship Service
ATTACH;FMTTYPE=image/jpeg:https://www.nuuc.ca/wp-content/uploads/2023/11/Chalice-white-candles-scaled.jpg
END:VEVENT
BEGIN:VEVENT
DTSTART;TZID=America/Toronto:20290723T183000
DTEND;TZID=America/Toronto:20290723T210000
DTSTAMP:20260424T115223
CREATED:20260211T163230Z
LAST-MODIFIED:20260211T163230Z
UID:10001963-1879525800-1879534800@www.nuuc.ca
SUMMARY:Spirit Choir Rehearsal
DESCRIPTION:
URL:https://www.nuuc.ca/event/spirit-choir-rehearsal-5/2029-07-23/
CATEGORIES:Rehearsal only
ATTACH;FMTTYPE=image/jpeg:https://www.nuuc.ca/wp-content/uploads/2025/01/music-rainbow-1.jpg
END:VEVENT
END:VCALENDAR