BEGIN:VCALENDAR
VERSION:2.0
PRODID:-//Neighbourhood Unitarian Universalist Congregation - ECPv6.15.20//NONSGML v1.0//EN
CALSCALE:GREGORIAN
METHOD:PUBLISH
X-WR-CALNAME:Neighbourhood Unitarian Universalist Congregation
X-ORIGINAL-URL:https://www.nuuc.ca
X-WR-CALDESC:Events for Neighbourhood Unitarian Universalist Congregation
REFRESH-INTERVAL;VALUE=DURATION:PT1H
X-Robots-Tag:noindex
X-PUBLISHED-TTL:PT1H
BEGIN:VTIMEZONE
TZID:America/Toronto
BEGIN:DAYLIGHT
TZOFFSETFROM:-0500
TZOFFSETTO:-0400
TZNAME:EDT
DTSTART:20280312T070000
END:DAYLIGHT
BEGIN:STANDARD
TZOFFSETFROM:-0400
TZOFFSETTO:-0500
TZNAME:EST
DTSTART:20281105T060000
END:STANDARD
BEGIN:DAYLIGHT
TZOFFSETFROM:-0500
TZOFFSETTO:-0400
TZNAME:EDT
DTSTART:20290311T070000
END:DAYLIGHT
BEGIN:STANDARD
TZOFFSETFROM:-0400
TZOFFSETTO:-0500
TZNAME:EST
DTSTART:20291104T060000
END:STANDARD
BEGIN:DAYLIGHT
TZOFFSETFROM:-0500
TZOFFSETTO:-0400
TZNAME:EDT
DTSTART:20300310T070000
END:DAYLIGHT
BEGIN:STANDARD
TZOFFSETFROM:-0400
TZOFFSETTO:-0500
TZNAME:EST
DTSTART:20301103T060000
END:STANDARD
END:VTIMEZONE
BEGIN:VEVENT
DTSTART;TZID=America/Toronto:20290205T210000
DTEND;TZID=America/Toronto:20290205T230000
DTSTAMP:20260422T190812
CREATED:20250307T172335Z
LAST-MODIFIED:20250307T172335Z
UID:10001390-1865019600-1865026800@www.nuuc.ca
SUMMARY:Spirit Band Rehearsal
DESCRIPTION:
URL:https://www.nuuc.ca/event/spirit-band-rehearsal-4/2029-02-05/
END:VEVENT
BEGIN:VEVENT
DTSTART;TZID=America/Toronto:20290211T103000
DTEND;TZID=America/Toronto:20290211T120000
DTSTAMP:20260422T190812
CREATED:20250207T200538Z
LAST-MODIFIED:20250207T200538Z
UID:10000801-1865500200-1865505600@www.nuuc.ca
SUMMARY:Sunday Service
DESCRIPTION:  \n 
URL:https://www.nuuc.ca/event/sunday-service-19/2029-02-11/
LOCATION:Rafos Hall\, 310 Danforth Ave\, Toronto\, Ontario\, M4K 2X4\, Canada
CATEGORIES:Worship Service
ATTACH;FMTTYPE=image/jpeg:https://www.nuuc.ca/wp-content/uploads/2023/11/Chalice-white-candles-scaled.jpg
END:VEVENT
BEGIN:VEVENT
DTSTART;TZID=America/Toronto:20290212T183000
DTEND;TZID=America/Toronto:20290212T210000
DTSTAMP:20260422T190812
CREATED:20260211T163230Z
LAST-MODIFIED:20260211T163230Z
UID:10001940-1865615400-1865624400@www.nuuc.ca
SUMMARY:Spirit Choir Rehearsal
DESCRIPTION:
URL:https://www.nuuc.ca/event/spirit-choir-rehearsal-5/2029-02-12/
CATEGORIES:Rehearsal only
ATTACH;FMTTYPE=image/jpeg:https://www.nuuc.ca/wp-content/uploads/2025/01/music-rainbow-1.jpg
END:VEVENT
BEGIN:VEVENT
DTSTART;TZID=America/Toronto:20290212T210000
DTEND;TZID=America/Toronto:20290212T230000
DTSTAMP:20260422T190812
CREATED:20250307T172335Z
LAST-MODIFIED:20250307T172335Z
UID:10001391-1865624400-1865631600@www.nuuc.ca
SUMMARY:Spirit Band Rehearsal
DESCRIPTION:
URL:https://www.nuuc.ca/event/spirit-band-rehearsal-4/2029-02-12/
END:VEVENT
BEGIN:VEVENT
DTSTART;TZID=America/Toronto:20290218T103000
DTEND;TZID=America/Toronto:20290218T120000
DTSTAMP:20260422T190812
CREATED:20250207T200538Z
LAST-MODIFIED:20250207T200538Z
UID:10000802-1866105000-1866110400@www.nuuc.ca
SUMMARY:Sunday Service
DESCRIPTION:  \n 
URL:https://www.nuuc.ca/event/sunday-service-19/2029-02-18/
LOCATION:Rafos Hall\, 310 Danforth Ave\, Toronto\, Ontario\, M4K 2X4\, Canada
CATEGORIES:Worship Service
ATTACH;FMTTYPE=image/jpeg:https://www.nuuc.ca/wp-content/uploads/2023/11/Chalice-white-candles-scaled.jpg
END:VEVENT
BEGIN:VEVENT
DTSTART;TZID=America/Toronto:20290219T183000
DTEND;TZID=America/Toronto:20290219T210000
DTSTAMP:20260422T190812
CREATED:20260211T163230Z
LAST-MODIFIED:20260211T163230Z
UID:10001941-1866220200-1866229200@www.nuuc.ca
SUMMARY:Spirit Choir Rehearsal
DESCRIPTION:
URL:https://www.nuuc.ca/event/spirit-choir-rehearsal-5/2029-02-19/
CATEGORIES:Rehearsal only
ATTACH;FMTTYPE=image/jpeg:https://www.nuuc.ca/wp-content/uploads/2025/01/music-rainbow-1.jpg
END:VEVENT
BEGIN:VEVENT
DTSTART;TZID=America/Toronto:20290219T210000
DTEND;TZID=America/Toronto:20290219T230000
DTSTAMP:20260422T190812
CREATED:20250307T172335Z
LAST-MODIFIED:20250307T172335Z
UID:10001392-1866229200-1866236400@www.nuuc.ca
SUMMARY:Spirit Band Rehearsal
DESCRIPTION:
URL:https://www.nuuc.ca/event/spirit-band-rehearsal-4/2029-02-19/
END:VEVENT
BEGIN:VEVENT
DTSTART;TZID=America/Toronto:20290225T103000
DTEND;TZID=America/Toronto:20290225T120000
DTSTAMP:20260422T190812
CREATED:20250207T200538Z
LAST-MODIFIED:20250207T200538Z
UID:10000803-1866709800-1866715200@www.nuuc.ca
SUMMARY:Sunday Service
DESCRIPTION:  \n 
URL:https://www.nuuc.ca/event/sunday-service-19/2029-02-25/
LOCATION:Rafos Hall\, 310 Danforth Ave\, Toronto\, Ontario\, M4K 2X4\, Canada
CATEGORIES:Worship Service
ATTACH;FMTTYPE=image/jpeg:https://www.nuuc.ca/wp-content/uploads/2023/11/Chalice-white-candles-scaled.jpg
END:VEVENT
BEGIN:VEVENT
DTSTART;TZID=America/Toronto:20290226T183000
DTEND;TZID=America/Toronto:20290226T210000
DTSTAMP:20260422T190812
CREATED:20260211T163230Z
LAST-MODIFIED:20260211T163230Z
UID:10001942-1866825000-1866834000@www.nuuc.ca
SUMMARY:Spirit Choir Rehearsal
DESCRIPTION:
URL:https://www.nuuc.ca/event/spirit-choir-rehearsal-5/2029-02-26/
CATEGORIES:Rehearsal only
ATTACH;FMTTYPE=image/jpeg:https://www.nuuc.ca/wp-content/uploads/2025/01/music-rainbow-1.jpg
END:VEVENT
BEGIN:VEVENT
DTSTART;TZID=America/Toronto:20290226T210000
DTEND;TZID=America/Toronto:20290226T230000
DTSTAMP:20260422T190812
CREATED:20250307T172335Z
LAST-MODIFIED:20250307T172335Z
UID:10001393-1866834000-1866841200@www.nuuc.ca
SUMMARY:Spirit Band Rehearsal
DESCRIPTION:
URL:https://www.nuuc.ca/event/spirit-band-rehearsal-4/2029-02-26/
END:VEVENT
BEGIN:VEVENT
DTSTART;TZID=America/Toronto:20290304T103000
DTEND;TZID=America/Toronto:20290304T120000
DTSTAMP:20260422T190812
CREATED:20250207T200538Z
LAST-MODIFIED:20250207T200538Z
UID:10000804-1867314600-1867320000@www.nuuc.ca
SUMMARY:Sunday Service
DESCRIPTION:  \n 
URL:https://www.nuuc.ca/event/sunday-service-19/2029-03-04/
LOCATION:Rafos Hall\, 310 Danforth Ave\, Toronto\, Ontario\, M4K 2X4\, Canada
CATEGORIES:Worship Service
ATTACH;FMTTYPE=image/jpeg:https://www.nuuc.ca/wp-content/uploads/2023/11/Chalice-white-candles-scaled.jpg
END:VEVENT
BEGIN:VEVENT
DTSTART;TZID=America/Toronto:20290305T183000
DTEND;TZID=America/Toronto:20290305T210000
DTSTAMP:20260422T190812
CREATED:20260211T163230Z
LAST-MODIFIED:20260211T163230Z
UID:10001943-1867429800-1867438800@www.nuuc.ca
SUMMARY:Spirit Choir Rehearsal
DESCRIPTION:
URL:https://www.nuuc.ca/event/spirit-choir-rehearsal-5/2029-03-05/
CATEGORIES:Rehearsal only
ATTACH;FMTTYPE=image/jpeg:https://www.nuuc.ca/wp-content/uploads/2025/01/music-rainbow-1.jpg
END:VEVENT
BEGIN:VEVENT
DTSTART;TZID=America/Toronto:20290305T210000
DTEND;TZID=America/Toronto:20290305T230000
DTSTAMP:20260422T190812
CREATED:20250307T172335Z
LAST-MODIFIED:20250307T172335Z
UID:10001394-1867438800-1867446000@www.nuuc.ca
SUMMARY:Spirit Band Rehearsal
DESCRIPTION:
URL:https://www.nuuc.ca/event/spirit-band-rehearsal-4/2029-03-05/
END:VEVENT
BEGIN:VEVENT
DTSTART;TZID=America/Toronto:20290311T103000
DTEND;TZID=America/Toronto:20290311T120000
DTSTAMP:20260422T190812
CREATED:20250207T200538Z
LAST-MODIFIED:20250207T200538Z
UID:10000805-1867919400-1867924800@www.nuuc.ca
SUMMARY:Sunday Service
DESCRIPTION:  \n 
URL:https://www.nuuc.ca/event/sunday-service-19/2029-03-11/
LOCATION:Rafos Hall\, 310 Danforth Ave\, Toronto\, Ontario\, M4K 2X4\, Canada
CATEGORIES:Worship Service
ATTACH;FMTTYPE=image/jpeg:https://www.nuuc.ca/wp-content/uploads/2023/11/Chalice-white-candles-scaled.jpg
END:VEVENT
BEGIN:VEVENT
DTSTART;TZID=America/Toronto:20290312T183000
DTEND;TZID=America/Toronto:20290312T210000
DTSTAMP:20260422T190812
CREATED:20260211T163230Z
LAST-MODIFIED:20260211T163230Z
UID:10001944-1868034600-1868043600@www.nuuc.ca
SUMMARY:Spirit Choir Rehearsal
DESCRIPTION:
URL:https://www.nuuc.ca/event/spirit-choir-rehearsal-5/2029-03-12/
CATEGORIES:Rehearsal only
ATTACH;FMTTYPE=image/jpeg:https://www.nuuc.ca/wp-content/uploads/2025/01/music-rainbow-1.jpg
END:VEVENT
BEGIN:VEVENT
DTSTART;TZID=America/Toronto:20290312T210000
DTEND;TZID=America/Toronto:20290312T230000
DTSTAMP:20260422T190812
CREATED:20250307T172335Z
LAST-MODIFIED:20250307T172335Z
UID:10001395-1868043600-1868050800@www.nuuc.ca
SUMMARY:Spirit Band Rehearsal
DESCRIPTION:
URL:https://www.nuuc.ca/event/spirit-band-rehearsal-4/2029-03-12/
END:VEVENT
BEGIN:VEVENT
DTSTART;TZID=America/Toronto:20290318T103000
DTEND;TZID=America/Toronto:20290318T120000
DTSTAMP:20260422T190812
CREATED:20250207T200538Z
LAST-MODIFIED:20250207T200538Z
UID:10000806-1868524200-1868529600@www.nuuc.ca
SUMMARY:Sunday Service
DESCRIPTION:  \n 
URL:https://www.nuuc.ca/event/sunday-service-19/2029-03-18/
LOCATION:Rafos Hall\, 310 Danforth Ave\, Toronto\, Ontario\, M4K 2X4\, Canada
CATEGORIES:Worship Service
ATTACH;FMTTYPE=image/jpeg:https://www.nuuc.ca/wp-content/uploads/2023/11/Chalice-white-candles-scaled.jpg
END:VEVENT
BEGIN:VEVENT
DTSTART;TZID=America/Toronto:20290319T183000
DTEND;TZID=America/Toronto:20290319T210000
DTSTAMP:20260422T190812
CREATED:20260211T163230Z
LAST-MODIFIED:20260211T163230Z
UID:10001945-1868639400-1868648400@www.nuuc.ca
SUMMARY:Spirit Choir Rehearsal
DESCRIPTION:
URL:https://www.nuuc.ca/event/spirit-choir-rehearsal-5/2029-03-19/
CATEGORIES:Rehearsal only
ATTACH;FMTTYPE=image/jpeg:https://www.nuuc.ca/wp-content/uploads/2025/01/music-rainbow-1.jpg
END:VEVENT
BEGIN:VEVENT
DTSTART;TZID=America/Toronto:20290319T210000
DTEND;TZID=America/Toronto:20290319T230000
DTSTAMP:20260422T190812
CREATED:20250307T172335Z
LAST-MODIFIED:20250307T172335Z
UID:10001396-1868648400-1868655600@www.nuuc.ca
SUMMARY:Spirit Band Rehearsal
DESCRIPTION:
URL:https://www.nuuc.ca/event/spirit-band-rehearsal-4/2029-03-19/
END:VEVENT
BEGIN:VEVENT
DTSTART;TZID=America/Toronto:20290325T103000
DTEND;TZID=America/Toronto:20290325T120000
DTSTAMP:20260422T190812
CREATED:20250207T200538Z
LAST-MODIFIED:20250207T200538Z
UID:10000807-1869129000-1869134400@www.nuuc.ca
SUMMARY:Sunday Service
DESCRIPTION:  \n 
URL:https://www.nuuc.ca/event/sunday-service-19/2029-03-25/
LOCATION:Rafos Hall\, 310 Danforth Ave\, Toronto\, Ontario\, M4K 2X4\, Canada
CATEGORIES:Worship Service
ATTACH;FMTTYPE=image/jpeg:https://www.nuuc.ca/wp-content/uploads/2023/11/Chalice-white-candles-scaled.jpg
END:VEVENT
BEGIN:VEVENT
DTSTART;TZID=America/Toronto:20290326T183000
DTEND;TZID=America/Toronto:20290326T210000
DTSTAMP:20260422T190812
CREATED:20260211T163230Z
LAST-MODIFIED:20260211T163230Z
UID:10001946-1869244200-1869253200@www.nuuc.ca
SUMMARY:Spirit Choir Rehearsal
DESCRIPTION:
URL:https://www.nuuc.ca/event/spirit-choir-rehearsal-5/2029-03-26/
CATEGORIES:Rehearsal only
ATTACH;FMTTYPE=image/jpeg:https://www.nuuc.ca/wp-content/uploads/2025/01/music-rainbow-1.jpg
END:VEVENT
BEGIN:VEVENT
DTSTART;TZID=America/Toronto:20290326T210000
DTEND;TZID=America/Toronto:20290326T230000
DTSTAMP:20260422T190812
CREATED:20250307T172335Z
LAST-MODIFIED:20250307T172335Z
UID:10001397-1869253200-1869260400@www.nuuc.ca
SUMMARY:Spirit Band Rehearsal
DESCRIPTION:
URL:https://www.nuuc.ca/event/spirit-band-rehearsal-4/2029-03-26/
END:VEVENT
BEGIN:VEVENT
DTSTART;TZID=America/Toronto:20290401T103000
DTEND;TZID=America/Toronto:20290401T120000
DTSTAMP:20260422T190812
CREATED:20250207T200538Z
LAST-MODIFIED:20250207T200538Z
UID:10000808-1869733800-1869739200@www.nuuc.ca
SUMMARY:Sunday Service
DESCRIPTION:  \n 
URL:https://www.nuuc.ca/event/sunday-service-19/2029-04-01/
LOCATION:Rafos Hall\, 310 Danforth Ave\, Toronto\, Ontario\, M4K 2X4\, Canada
CATEGORIES:Worship Service
ATTACH;FMTTYPE=image/jpeg:https://www.nuuc.ca/wp-content/uploads/2023/11/Chalice-white-candles-scaled.jpg
END:VEVENT
BEGIN:VEVENT
DTSTART;TZID=America/Toronto:20290402T183000
DTEND;TZID=America/Toronto:20290402T210000
DTSTAMP:20260422T190812
CREATED:20260211T163230Z
LAST-MODIFIED:20260211T163230Z
UID:10001947-1869849000-1869858000@www.nuuc.ca
SUMMARY:Spirit Choir Rehearsal
DESCRIPTION:
URL:https://www.nuuc.ca/event/spirit-choir-rehearsal-5/2029-04-02/
CATEGORIES:Rehearsal only
ATTACH;FMTTYPE=image/jpeg:https://www.nuuc.ca/wp-content/uploads/2025/01/music-rainbow-1.jpg
END:VEVENT
BEGIN:VEVENT
DTSTART;TZID=America/Toronto:20290402T210000
DTEND;TZID=America/Toronto:20290402T230000
DTSTAMP:20260422T190812
CREATED:20250307T172335Z
LAST-MODIFIED:20250307T172335Z
UID:10001398-1869858000-1869865200@www.nuuc.ca
SUMMARY:Spirit Band Rehearsal
DESCRIPTION:
URL:https://www.nuuc.ca/event/spirit-band-rehearsal-4/2029-04-02/
END:VEVENT
BEGIN:VEVENT
DTSTART;TZID=America/Toronto:20290408T103000
DTEND;TZID=America/Toronto:20290408T120000
DTSTAMP:20260422T190812
CREATED:20250207T200538Z
LAST-MODIFIED:20250207T200538Z
UID:10000809-1870338600-1870344000@www.nuuc.ca
SUMMARY:Sunday Service
DESCRIPTION:  \n 
URL:https://www.nuuc.ca/event/sunday-service-19/2029-04-08/
LOCATION:Rafos Hall\, 310 Danforth Ave\, Toronto\, Ontario\, M4K 2X4\, Canada
CATEGORIES:Worship Service
ATTACH;FMTTYPE=image/jpeg:https://www.nuuc.ca/wp-content/uploads/2023/11/Chalice-white-candles-scaled.jpg
END:VEVENT
BEGIN:VEVENT
DTSTART;TZID=America/Toronto:20290409T183000
DTEND;TZID=America/Toronto:20290409T210000
DTSTAMP:20260422T190812
CREATED:20260211T163230Z
LAST-MODIFIED:20260211T163230Z
UID:10001948-1870453800-1870462800@www.nuuc.ca
SUMMARY:Spirit Choir Rehearsal
DESCRIPTION:
URL:https://www.nuuc.ca/event/spirit-choir-rehearsal-5/2029-04-09/
CATEGORIES:Rehearsal only
ATTACH;FMTTYPE=image/jpeg:https://www.nuuc.ca/wp-content/uploads/2025/01/music-rainbow-1.jpg
END:VEVENT
BEGIN:VEVENT
DTSTART;TZID=America/Toronto:20290409T210000
DTEND;TZID=America/Toronto:20290409T230000
DTSTAMP:20260422T190812
CREATED:20250307T172335Z
LAST-MODIFIED:20250307T172335Z
UID:10001399-1870462800-1870470000@www.nuuc.ca
SUMMARY:Spirit Band Rehearsal
DESCRIPTION:
URL:https://www.nuuc.ca/event/spirit-band-rehearsal-4/2029-04-09/
END:VEVENT
BEGIN:VEVENT
DTSTART;TZID=America/Toronto:20290415T103000
DTEND;TZID=America/Toronto:20290415T120000
DTSTAMP:20260422T190812
CREATED:20250207T200538Z
LAST-MODIFIED:20250207T200538Z
UID:10000810-1870943400-1870948800@www.nuuc.ca
SUMMARY:Sunday Service
DESCRIPTION:  \n 
URL:https://www.nuuc.ca/event/sunday-service-19/2029-04-15/
LOCATION:Rafos Hall\, 310 Danforth Ave\, Toronto\, Ontario\, M4K 2X4\, Canada
CATEGORIES:Worship Service
ATTACH;FMTTYPE=image/jpeg:https://www.nuuc.ca/wp-content/uploads/2023/11/Chalice-white-candles-scaled.jpg
END:VEVENT
BEGIN:VEVENT
DTSTART;TZID=America/Toronto:20290416T183000
DTEND;TZID=America/Toronto:20290416T210000
DTSTAMP:20260422T190812
CREATED:20260211T163230Z
LAST-MODIFIED:20260211T163230Z
UID:10001949-1871058600-1871067600@www.nuuc.ca
SUMMARY:Spirit Choir Rehearsal
DESCRIPTION:
URL:https://www.nuuc.ca/event/spirit-choir-rehearsal-5/2029-04-16/
CATEGORIES:Rehearsal only
ATTACH;FMTTYPE=image/jpeg:https://www.nuuc.ca/wp-content/uploads/2025/01/music-rainbow-1.jpg
END:VEVENT
END:VCALENDAR