BEGIN:VCALENDAR
VERSION:2.0
PRODID:-//Neighbourhood Unitarian Universalist Congregation - ECPv6.15.20//NONSGML v1.0//EN
CALSCALE:GREGORIAN
METHOD:PUBLISH
X-ORIGINAL-URL:https://www.nuuc.ca
X-WR-CALDESC:Events for Neighbourhood Unitarian Universalist Congregation
REFRESH-INTERVAL;VALUE=DURATION:PT1H
X-Robots-Tag:noindex
X-PUBLISHED-TTL:PT1H
BEGIN:VTIMEZONE
TZID:America/Toronto
BEGIN:DAYLIGHT
TZOFFSETFROM:-0500
TZOFFSETTO:-0400
TZNAME:EDT
DTSTART:20270314T070000
END:DAYLIGHT
BEGIN:STANDARD
TZOFFSETFROM:-0400
TZOFFSETTO:-0500
TZNAME:EST
DTSTART:20271107T060000
END:STANDARD
BEGIN:DAYLIGHT
TZOFFSETFROM:-0500
TZOFFSETTO:-0400
TZNAME:EDT
DTSTART:20280312T070000
END:DAYLIGHT
BEGIN:STANDARD
TZOFFSETFROM:-0400
TZOFFSETTO:-0500
TZNAME:EST
DTSTART:20281105T060000
END:STANDARD
BEGIN:DAYLIGHT
TZOFFSETFROM:-0500
TZOFFSETTO:-0400
TZNAME:EDT
DTSTART:20290311T070000
END:DAYLIGHT
BEGIN:STANDARD
TZOFFSETFROM:-0400
TZOFFSETTO:-0500
TZNAME:EST
DTSTART:20291104T060000
END:STANDARD
BEGIN:DAYLIGHT
TZOFFSETFROM:-0500
TZOFFSETTO:-0400
TZNAME:EDT
DTSTART:20300310T070000
END:DAYLIGHT
BEGIN:STANDARD
TZOFFSETFROM:-0400
TZOFFSETTO:-0500
TZNAME:EST
DTSTART:20301103T060000
END:STANDARD
END:VTIMEZONE
BEGIN:VEVENT
DTSTART;TZID=America/Toronto:20281113T210000
DTEND;TZID=America/Toronto:20281113T230000
DTSTAMP:20260420T141912
CREATED:20250307T172335Z
LAST-MODIFIED:20250307T172335Z
UID:10001378-1857762000-1857769200@www.nuuc.ca
SUMMARY:Spirit Band Rehearsal
DESCRIPTION:
URL:https://www.nuuc.ca/event/spirit-band-rehearsal-4/2028-11-13/
END:VEVENT
BEGIN:VEVENT
DTSTART;TZID=America/Toronto:20281119T103000
DTEND;TZID=America/Toronto:20281119T120000
DTSTAMP:20260420T141912
CREATED:20250207T200538Z
LAST-MODIFIED:20250207T200538Z
UID:10000789-1858242600-1858248000@www.nuuc.ca
SUMMARY:Sunday Service
DESCRIPTION:  \n 
URL:https://www.nuuc.ca/event/sunday-service-19/2028-11-19/
LOCATION:Rafos Hall\, 310 Danforth Ave\, Toronto\, Ontario\, M4K 2X4\, Canada
CATEGORIES:Worship Service
ATTACH;FMTTYPE=image/jpeg:https://www.nuuc.ca/wp-content/uploads/2023/11/Chalice-white-candles-scaled.jpg
END:VEVENT
BEGIN:VEVENT
DTSTART;TZID=America/Toronto:20281120T183000
DTEND;TZID=America/Toronto:20281120T210000
DTSTAMP:20260420T141912
CREATED:20260211T163230Z
LAST-MODIFIED:20260211T163230Z
UID:10001928-1858357800-1858366800@www.nuuc.ca
SUMMARY:Spirit Choir Rehearsal
DESCRIPTION:
URL:https://www.nuuc.ca/event/spirit-choir-rehearsal-5/2028-11-20/
CATEGORIES:Rehearsal only
ATTACH;FMTTYPE=image/jpeg:https://www.nuuc.ca/wp-content/uploads/2025/01/music-rainbow-1.jpg
END:VEVENT
BEGIN:VEVENT
DTSTART;TZID=America/Toronto:20281120T210000
DTEND;TZID=America/Toronto:20281120T230000
DTSTAMP:20260420T141912
CREATED:20250307T172335Z
LAST-MODIFIED:20250307T172335Z
UID:10001379-1858366800-1858374000@www.nuuc.ca
SUMMARY:Spirit Band Rehearsal
DESCRIPTION:
URL:https://www.nuuc.ca/event/spirit-band-rehearsal-4/2028-11-20/
END:VEVENT
BEGIN:VEVENT
DTSTART;TZID=America/Toronto:20281126T103000
DTEND;TZID=America/Toronto:20281126T120000
DTSTAMP:20260420T141912
CREATED:20250207T200538Z
LAST-MODIFIED:20250207T200538Z
UID:10000790-1858847400-1858852800@www.nuuc.ca
SUMMARY:Sunday Service
DESCRIPTION:  \n 
URL:https://www.nuuc.ca/event/sunday-service-19/2028-11-26/
LOCATION:Rafos Hall\, 310 Danforth Ave\, Toronto\, Ontario\, M4K 2X4\, Canada
CATEGORIES:Worship Service
ATTACH;FMTTYPE=image/jpeg:https://www.nuuc.ca/wp-content/uploads/2023/11/Chalice-white-candles-scaled.jpg
END:VEVENT
BEGIN:VEVENT
DTSTART;TZID=America/Toronto:20281127T183000
DTEND;TZID=America/Toronto:20281127T210000
DTSTAMP:20260420T141912
CREATED:20260211T163230Z
LAST-MODIFIED:20260211T163230Z
UID:10001929-1858962600-1858971600@www.nuuc.ca
SUMMARY:Spirit Choir Rehearsal
DESCRIPTION:
URL:https://www.nuuc.ca/event/spirit-choir-rehearsal-5/2028-11-27/
CATEGORIES:Rehearsal only
ATTACH;FMTTYPE=image/jpeg:https://www.nuuc.ca/wp-content/uploads/2025/01/music-rainbow-1.jpg
END:VEVENT
BEGIN:VEVENT
DTSTART;TZID=America/Toronto:20281127T210000
DTEND;TZID=America/Toronto:20281127T230000
DTSTAMP:20260420T141912
CREATED:20250307T172335Z
LAST-MODIFIED:20250307T172335Z
UID:10001380-1858971600-1858978800@www.nuuc.ca
SUMMARY:Spirit Band Rehearsal
DESCRIPTION:
URL:https://www.nuuc.ca/event/spirit-band-rehearsal-4/2028-11-27/
END:VEVENT
BEGIN:VEVENT
DTSTART;TZID=America/Toronto:20281203T103000
DTEND;TZID=America/Toronto:20281203T120000
DTSTAMP:20260420T141912
CREATED:20250207T200538Z
LAST-MODIFIED:20250207T200538Z
UID:10000791-1859452200-1859457600@www.nuuc.ca
SUMMARY:Sunday Service
DESCRIPTION:  \n 
URL:https://www.nuuc.ca/event/sunday-service-19/2028-12-03/
LOCATION:Rafos Hall\, 310 Danforth Ave\, Toronto\, Ontario\, M4K 2X4\, Canada
CATEGORIES:Worship Service
ATTACH;FMTTYPE=image/jpeg:https://www.nuuc.ca/wp-content/uploads/2023/11/Chalice-white-candles-scaled.jpg
END:VEVENT
BEGIN:VEVENT
DTSTART;TZID=America/Toronto:20281204T183000
DTEND;TZID=America/Toronto:20281204T210000
DTSTAMP:20260420T141912
CREATED:20260211T163230Z
LAST-MODIFIED:20260211T163230Z
UID:10001930-1859567400-1859576400@www.nuuc.ca
SUMMARY:Spirit Choir Rehearsal
DESCRIPTION:
URL:https://www.nuuc.ca/event/spirit-choir-rehearsal-5/2028-12-04/
CATEGORIES:Rehearsal only
ATTACH;FMTTYPE=image/jpeg:https://www.nuuc.ca/wp-content/uploads/2025/01/music-rainbow-1.jpg
END:VEVENT
BEGIN:VEVENT
DTSTART;TZID=America/Toronto:20281204T210000
DTEND;TZID=America/Toronto:20281204T230000
DTSTAMP:20260420T141912
CREATED:20250307T172335Z
LAST-MODIFIED:20250307T172335Z
UID:10001381-1859576400-1859583600@www.nuuc.ca
SUMMARY:Spirit Band Rehearsal
DESCRIPTION:
URL:https://www.nuuc.ca/event/spirit-band-rehearsal-4/2028-12-04/
END:VEVENT
BEGIN:VEVENT
DTSTART;TZID=America/Toronto:20281210T103000
DTEND;TZID=America/Toronto:20281210T120000
DTSTAMP:20260420T141912
CREATED:20250207T200538Z
LAST-MODIFIED:20250207T200538Z
UID:10000792-1860057000-1860062400@www.nuuc.ca
SUMMARY:Sunday Service
DESCRIPTION:  \n 
URL:https://www.nuuc.ca/event/sunday-service-19/2028-12-10/
LOCATION:Rafos Hall\, 310 Danforth Ave\, Toronto\, Ontario\, M4K 2X4\, Canada
CATEGORIES:Worship Service
ATTACH;FMTTYPE=image/jpeg:https://www.nuuc.ca/wp-content/uploads/2023/11/Chalice-white-candles-scaled.jpg
END:VEVENT
BEGIN:VEVENT
DTSTART;TZID=America/Toronto:20281211T183000
DTEND;TZID=America/Toronto:20281211T210000
DTSTAMP:20260420T141912
CREATED:20260211T163230Z
LAST-MODIFIED:20260211T163230Z
UID:10001931-1860172200-1860181200@www.nuuc.ca
SUMMARY:Spirit Choir Rehearsal
DESCRIPTION:
URL:https://www.nuuc.ca/event/spirit-choir-rehearsal-5/2028-12-11/
CATEGORIES:Rehearsal only
ATTACH;FMTTYPE=image/jpeg:https://www.nuuc.ca/wp-content/uploads/2025/01/music-rainbow-1.jpg
END:VEVENT
BEGIN:VEVENT
DTSTART;TZID=America/Toronto:20281211T210000
DTEND;TZID=America/Toronto:20281211T230000
DTSTAMP:20260420T141912
CREATED:20250307T172335Z
LAST-MODIFIED:20250307T172335Z
UID:10001382-1860181200-1860188400@www.nuuc.ca
SUMMARY:Spirit Band Rehearsal
DESCRIPTION:
URL:https://www.nuuc.ca/event/spirit-band-rehearsal-4/2028-12-11/
END:VEVENT
BEGIN:VEVENT
DTSTART;TZID=America/Toronto:20281217T103000
DTEND;TZID=America/Toronto:20281217T120000
DTSTAMP:20260420T141912
CREATED:20250207T200538Z
LAST-MODIFIED:20250207T200538Z
UID:10000793-1860661800-1860667200@www.nuuc.ca
SUMMARY:Sunday Service
DESCRIPTION:  \n 
URL:https://www.nuuc.ca/event/sunday-service-19/2028-12-17/
LOCATION:Rafos Hall\, 310 Danforth Ave\, Toronto\, Ontario\, M4K 2X4\, Canada
CATEGORIES:Worship Service
ATTACH;FMTTYPE=image/jpeg:https://www.nuuc.ca/wp-content/uploads/2023/11/Chalice-white-candles-scaled.jpg
END:VEVENT
BEGIN:VEVENT
DTSTART;TZID=America/Toronto:20281218T183000
DTEND;TZID=America/Toronto:20281218T210000
DTSTAMP:20260420T141912
CREATED:20260211T163230Z
LAST-MODIFIED:20260211T163230Z
UID:10001932-1860777000-1860786000@www.nuuc.ca
SUMMARY:Spirit Choir Rehearsal
DESCRIPTION:
URL:https://www.nuuc.ca/event/spirit-choir-rehearsal-5/2028-12-18/
CATEGORIES:Rehearsal only
ATTACH;FMTTYPE=image/jpeg:https://www.nuuc.ca/wp-content/uploads/2025/01/music-rainbow-1.jpg
END:VEVENT
BEGIN:VEVENT
DTSTART;TZID=America/Toronto:20281218T210000
DTEND;TZID=America/Toronto:20281218T230000
DTSTAMP:20260420T141912
CREATED:20250307T172335Z
LAST-MODIFIED:20250307T172335Z
UID:10001383-1860786000-1860793200@www.nuuc.ca
SUMMARY:Spirit Band Rehearsal
DESCRIPTION:
URL:https://www.nuuc.ca/event/spirit-band-rehearsal-4/2028-12-18/
END:VEVENT
BEGIN:VEVENT
DTSTART;TZID=America/Toronto:20281224T103000
DTEND;TZID=America/Toronto:20281224T120000
DTSTAMP:20260420T141912
CREATED:20250207T200538Z
LAST-MODIFIED:20250207T200538Z
UID:10000794-1861266600-1861272000@www.nuuc.ca
SUMMARY:Sunday Service
DESCRIPTION:  \n 
URL:https://www.nuuc.ca/event/sunday-service-19/2028-12-24/
LOCATION:Rafos Hall\, 310 Danforth Ave\, Toronto\, Ontario\, M4K 2X4\, Canada
CATEGORIES:Worship Service
ATTACH;FMTTYPE=image/jpeg:https://www.nuuc.ca/wp-content/uploads/2023/11/Chalice-white-candles-scaled.jpg
END:VEVENT
BEGIN:VEVENT
DTSTART;TZID=America/Toronto:20281225T183000
DTEND;TZID=America/Toronto:20281225T210000
DTSTAMP:20260420T141912
CREATED:20260211T163230Z
LAST-MODIFIED:20260211T163230Z
UID:10001933-1861381800-1861390800@www.nuuc.ca
SUMMARY:Spirit Choir Rehearsal
DESCRIPTION:
URL:https://www.nuuc.ca/event/spirit-choir-rehearsal-5/2028-12-25/
CATEGORIES:Rehearsal only
ATTACH;FMTTYPE=image/jpeg:https://www.nuuc.ca/wp-content/uploads/2025/01/music-rainbow-1.jpg
END:VEVENT
BEGIN:VEVENT
DTSTART;TZID=America/Toronto:20281225T210000
DTEND;TZID=America/Toronto:20281225T230000
DTSTAMP:20260420T141912
CREATED:20250307T172335Z
LAST-MODIFIED:20250307T172335Z
UID:10001384-1861390800-1861398000@www.nuuc.ca
SUMMARY:Spirit Band Rehearsal
DESCRIPTION:
URL:https://www.nuuc.ca/event/spirit-band-rehearsal-4/2028-12-25/
END:VEVENT
BEGIN:VEVENT
DTSTART;TZID=America/Toronto:20281231T103000
DTEND;TZID=America/Toronto:20281231T120000
DTSTAMP:20260420T141912
CREATED:20250207T200538Z
LAST-MODIFIED:20250207T200538Z
UID:10000795-1861871400-1861876800@www.nuuc.ca
SUMMARY:Sunday Service
DESCRIPTION:  \n 
URL:https://www.nuuc.ca/event/sunday-service-19/2028-12-31/
LOCATION:Rafos Hall\, 310 Danforth Ave\, Toronto\, Ontario\, M4K 2X4\, Canada
CATEGORIES:Worship Service
ATTACH;FMTTYPE=image/jpeg:https://www.nuuc.ca/wp-content/uploads/2023/11/Chalice-white-candles-scaled.jpg
END:VEVENT
BEGIN:VEVENT
DTSTART;TZID=America/Toronto:20290101T183000
DTEND;TZID=America/Toronto:20290101T210000
DTSTAMP:20260420T141912
CREATED:20260211T163230Z
LAST-MODIFIED:20260211T163230Z
UID:10001934-1861986600-1861995600@www.nuuc.ca
SUMMARY:Spirit Choir Rehearsal
DESCRIPTION:
URL:https://www.nuuc.ca/event/spirit-choir-rehearsal-5/2029-01-01/
CATEGORIES:Rehearsal only
ATTACH;FMTTYPE=image/jpeg:https://www.nuuc.ca/wp-content/uploads/2025/01/music-rainbow-1.jpg
END:VEVENT
BEGIN:VEVENT
DTSTART;TZID=America/Toronto:20290101T210000
DTEND;TZID=America/Toronto:20290101T230000
DTSTAMP:20260420T141912
CREATED:20250307T172335Z
LAST-MODIFIED:20250307T172335Z
UID:10001385-1861995600-1862002800@www.nuuc.ca
SUMMARY:Spirit Band Rehearsal
DESCRIPTION:
URL:https://www.nuuc.ca/event/spirit-band-rehearsal-4/2029-01-01/
END:VEVENT
BEGIN:VEVENT
DTSTART;TZID=America/Toronto:20290107T103000
DTEND;TZID=America/Toronto:20290107T120000
DTSTAMP:20260420T141912
CREATED:20250207T200538Z
LAST-MODIFIED:20250207T200538Z
UID:10000796-1862476200-1862481600@www.nuuc.ca
SUMMARY:Sunday Service
DESCRIPTION:  \n 
URL:https://www.nuuc.ca/event/sunday-service-19/2029-01-07/
LOCATION:Rafos Hall\, 310 Danforth Ave\, Toronto\, Ontario\, M4K 2X4\, Canada
CATEGORIES:Worship Service
ATTACH;FMTTYPE=image/jpeg:https://www.nuuc.ca/wp-content/uploads/2023/11/Chalice-white-candles-scaled.jpg
END:VEVENT
BEGIN:VEVENT
DTSTART;TZID=America/Toronto:20290108T183000
DTEND;TZID=America/Toronto:20290108T210000
DTSTAMP:20260420T141912
CREATED:20260211T163230Z
LAST-MODIFIED:20260211T163230Z
UID:10001935-1862591400-1862600400@www.nuuc.ca
SUMMARY:Spirit Choir Rehearsal
DESCRIPTION:
URL:https://www.nuuc.ca/event/spirit-choir-rehearsal-5/2029-01-08/
CATEGORIES:Rehearsal only
ATTACH;FMTTYPE=image/jpeg:https://www.nuuc.ca/wp-content/uploads/2025/01/music-rainbow-1.jpg
END:VEVENT
BEGIN:VEVENT
DTSTART;TZID=America/Toronto:20290108T210000
DTEND;TZID=America/Toronto:20290108T230000
DTSTAMP:20260420T141912
CREATED:20250307T172335Z
LAST-MODIFIED:20250307T172335Z
UID:10001386-1862600400-1862607600@www.nuuc.ca
SUMMARY:Spirit Band Rehearsal
DESCRIPTION:
URL:https://www.nuuc.ca/event/spirit-band-rehearsal-4/2029-01-08/
END:VEVENT
BEGIN:VEVENT
DTSTART;TZID=America/Toronto:20290114T103000
DTEND;TZID=America/Toronto:20290114T120000
DTSTAMP:20260420T141912
CREATED:20250207T200538Z
LAST-MODIFIED:20250207T200538Z
UID:10000797-1863081000-1863086400@www.nuuc.ca
SUMMARY:Sunday Service
DESCRIPTION:  \n 
URL:https://www.nuuc.ca/event/sunday-service-19/2029-01-14/
LOCATION:Rafos Hall\, 310 Danforth Ave\, Toronto\, Ontario\, M4K 2X4\, Canada
CATEGORIES:Worship Service
ATTACH;FMTTYPE=image/jpeg:https://www.nuuc.ca/wp-content/uploads/2023/11/Chalice-white-candles-scaled.jpg
END:VEVENT
BEGIN:VEVENT
DTSTART;TZID=America/Toronto:20290115T183000
DTEND;TZID=America/Toronto:20290115T210000
DTSTAMP:20260420T141912
CREATED:20260211T163230Z
LAST-MODIFIED:20260211T163230Z
UID:10001936-1863196200-1863205200@www.nuuc.ca
SUMMARY:Spirit Choir Rehearsal
DESCRIPTION:
URL:https://www.nuuc.ca/event/spirit-choir-rehearsal-5/2029-01-15/
CATEGORIES:Rehearsal only
ATTACH;FMTTYPE=image/jpeg:https://www.nuuc.ca/wp-content/uploads/2025/01/music-rainbow-1.jpg
END:VEVENT
BEGIN:VEVENT
DTSTART;TZID=America/Toronto:20290115T210000
DTEND;TZID=America/Toronto:20290115T230000
DTSTAMP:20260420T141912
CREATED:20250307T172335Z
LAST-MODIFIED:20250307T172335Z
UID:10001387-1863205200-1863212400@www.nuuc.ca
SUMMARY:Spirit Band Rehearsal
DESCRIPTION:
URL:https://www.nuuc.ca/event/spirit-band-rehearsal-4/2029-01-15/
END:VEVENT
BEGIN:VEVENT
DTSTART;TZID=America/Toronto:20290121T103000
DTEND;TZID=America/Toronto:20290121T120000
DTSTAMP:20260420T141912
CREATED:20250207T200538Z
LAST-MODIFIED:20250207T200538Z
UID:10000798-1863685800-1863691200@www.nuuc.ca
SUMMARY:Sunday Service
DESCRIPTION:  \n 
URL:https://www.nuuc.ca/event/sunday-service-19/2029-01-21/
LOCATION:Rafos Hall\, 310 Danforth Ave\, Toronto\, Ontario\, M4K 2X4\, Canada
CATEGORIES:Worship Service
ATTACH;FMTTYPE=image/jpeg:https://www.nuuc.ca/wp-content/uploads/2023/11/Chalice-white-candles-scaled.jpg
END:VEVENT
BEGIN:VEVENT
DTSTART;TZID=America/Toronto:20290122T183000
DTEND;TZID=America/Toronto:20290122T210000
DTSTAMP:20260420T141912
CREATED:20260211T163230Z
LAST-MODIFIED:20260211T163230Z
UID:10001937-1863801000-1863810000@www.nuuc.ca
SUMMARY:Spirit Choir Rehearsal
DESCRIPTION:
URL:https://www.nuuc.ca/event/spirit-choir-rehearsal-5/2029-01-22/
CATEGORIES:Rehearsal only
ATTACH;FMTTYPE=image/jpeg:https://www.nuuc.ca/wp-content/uploads/2025/01/music-rainbow-1.jpg
END:VEVENT
END:VCALENDAR