BEGIN:VCALENDAR
VERSION:2.0
PRODID:-//Neighbourhood Unitarian Universalist Congregation - ECPv6.15.20//NONSGML v1.0//EN
CALSCALE:GREGORIAN
METHOD:PUBLISH
X-WR-CALNAME:Neighbourhood Unitarian Universalist Congregation
X-ORIGINAL-URL:https://www.nuuc.ca
X-WR-CALDESC:Events for Neighbourhood Unitarian Universalist Congregation
REFRESH-INTERVAL;VALUE=DURATION:PT1H
X-Robots-Tag:noindex
X-PUBLISHED-TTL:PT1H
BEGIN:VTIMEZONE
TZID:America/Toronto
BEGIN:DAYLIGHT
TZOFFSETFROM:-0500
TZOFFSETTO:-0400
TZNAME:EDT
DTSTART:20230312T070000
END:DAYLIGHT
BEGIN:STANDARD
TZOFFSETFROM:-0400
TZOFFSETTO:-0500
TZNAME:EST
DTSTART:20231105T060000
END:STANDARD
BEGIN:DAYLIGHT
TZOFFSETFROM:-0500
TZOFFSETTO:-0400
TZNAME:EDT
DTSTART:20240310T070000
END:DAYLIGHT
BEGIN:STANDARD
TZOFFSETFROM:-0400
TZOFFSETTO:-0500
TZNAME:EST
DTSTART:20241103T060000
END:STANDARD
BEGIN:DAYLIGHT
TZOFFSETFROM:-0500
TZOFFSETTO:-0400
TZNAME:EDT
DTSTART:20250309T070000
END:DAYLIGHT
BEGIN:STANDARD
TZOFFSETFROM:-0400
TZOFFSETTO:-0500
TZNAME:EST
DTSTART:20251102T060000
END:STANDARD
END:VTIMEZONE
BEGIN:VEVENT
DTSTART;TZID=America/Toronto:20241208T103000
DTEND;TZID=America/Toronto:20241208T120000
DTSTAMP:20260420T060957
CREATED:20240916T164910Z
LAST-MODIFIED:20240916T164910Z
UID:10000561-1733653800-1733659200@www.nuuc.ca
SUMMARY:Sunday Service
DESCRIPTION:  \n 
URL:https://www.nuuc.ca/event/sunday-service-10/
LOCATION:Rafos Hall\, 310 Danforth Ave\, Toronto\, Ontario\, M4K 2X4\, Canada
CATEGORIES:Worship Service
ATTACH;FMTTYPE=image/jpeg:https://www.nuuc.ca/wp-content/uploads/2023/11/Chalice-white-candles-scaled.jpg
END:VEVENT
BEGIN:VEVENT
DTSTART;TZID=America/Toronto:20241207T193000
DTEND;TZID=America/Toronto:20241207T213000
DTSTAMP:20260420T060957
CREATED:20240515T163848Z
LAST-MODIFIED:20240515T163853Z
UID:10000519-1733599800-1733607000@www.nuuc.ca
SUMMARY:Talent Night
DESCRIPTION:
URL:https://www.nuuc.ca/event/talent-night-17/
CATEGORIES:Music
ATTACH;FMTTYPE=image/jpeg:https://www.nuuc.ca/wp-content/uploads/2023/12/Talent-Night.jpg
END:VEVENT
BEGIN:VEVENT
DTSTART;TZID=America/Toronto:20241202T210000
DTEND;TZID=America/Toronto:20241202T230000
DTSTAMP:20260420T060957
CREATED:20231204T232911Z
LAST-MODIFIED:20231204T232912Z
UID:10000309-1733173200-1733180400@www.nuuc.ca
SUMMARY:Spirit Band Rehearsal
DESCRIPTION:Space is booked for Sprit Band rehearsal – contact Susanne Maziarz  if you wish to join the Spirit Band
URL:https://www.nuuc.ca/event/spirit-band-rehearsal-3/2024-12-02/
CATEGORIES:Rehearsal only
END:VEVENT
BEGIN:VEVENT
DTSTART;TZID=America/Toronto:20241202T190000
DTEND;TZID=America/Toronto:20241202T210000
DTSTAMP:20260420T060957
CREATED:20231204T232520Z
LAST-MODIFIED:20240320T152719Z
UID:10000256-1733166000-1733173200@www.nuuc.ca
SUMMARY:Spirit Choir Rehearsals – every Monday evening
DESCRIPTION:Have you thought of singing in the choir here at Neighbourhood? Weekly Mondays’ rehearsals from  7 – 9pm. \nIf you are interested in joining the choir\, please contact Susanne at music@nuuc.ca .
URL:https://www.nuuc.ca/event/spirit-choir-rehearsals-every-monday-evening/2024-12-02/
LOCATION:Rafos Hall\, 310 Danforth Ave\, Toronto\, Ontario\, M4K 2X4\, Canada
CATEGORIES:Rehearsal only
END:VEVENT
BEGIN:VEVENT
DTSTART;TZID=America/Toronto:20241201T103000
DTEND;TZID=America/Toronto:20241201T120000
DTSTAMP:20260420T060957
CREATED:20240916T164826Z
LAST-MODIFIED:20240916T164826Z
UID:10000562-1733049000-1733054400@www.nuuc.ca
SUMMARY:Sunday Service
DESCRIPTION:  \n 
URL:https://www.nuuc.ca/event/sunday-service-9/
LOCATION:Rafos Hall\, 310 Danforth Ave\, Toronto\, Ontario\, M4K 2X4\, Canada
CATEGORIES:Worship Service
ATTACH;FMTTYPE=image/jpeg:https://www.nuuc.ca/wp-content/uploads/2023/11/Chalice-white-candles-scaled.jpg
END:VEVENT
BEGIN:VEVENT
DTSTART;TZID=America/Toronto:20241125T210000
DTEND;TZID=America/Toronto:20241125T230000
DTSTAMP:20260420T060957
CREATED:20231204T232911Z
LAST-MODIFIED:20231204T232912Z
UID:10000308-1732568400-1732575600@www.nuuc.ca
SUMMARY:Spirit Band Rehearsal
DESCRIPTION:Space is booked for Sprit Band rehearsal – contact Susanne Maziarz  if you wish to join the Spirit Band
URL:https://www.nuuc.ca/event/spirit-band-rehearsal-3/2024-11-25/
CATEGORIES:Rehearsal only
END:VEVENT
BEGIN:VEVENT
DTSTART;TZID=America/Toronto:20241125T190000
DTEND;TZID=America/Toronto:20241125T210000
DTSTAMP:20260420T060957
CREATED:20231204T232520Z
LAST-MODIFIED:20240320T152719Z
UID:10000255-1732561200-1732568400@www.nuuc.ca
SUMMARY:Spirit Choir Rehearsals – every Monday evening
DESCRIPTION:Have you thought of singing in the choir here at Neighbourhood? Weekly Mondays’ rehearsals from  7 – 9pm. \nIf you are interested in joining the choir\, please contact Susanne at music@nuuc.ca .
URL:https://www.nuuc.ca/event/spirit-choir-rehearsals-every-monday-evening/2024-11-25/
LOCATION:Rafos Hall\, 310 Danforth Ave\, Toronto\, Ontario\, M4K 2X4\, Canada
CATEGORIES:Rehearsal only
END:VEVENT
BEGIN:VEVENT
DTSTART;TZID=America/Toronto:20241124T103000
DTEND;TZID=America/Toronto:20241124T120000
DTSTAMP:20260420T060957
CREATED:20240916T164508Z
LAST-MODIFIED:20240916T164508Z
UID:10000554-1732444200-1732449600@www.nuuc.ca
SUMMARY:Sunday Service
DESCRIPTION:  \n 
URL:https://www.nuuc.ca/event/sunday-service-8/
LOCATION:Rafos Hall\, 310 Danforth Ave\, Toronto\, Ontario\, M4K 2X4\, Canada
CATEGORIES:Worship Service
ATTACH;FMTTYPE=image/jpeg:https://www.nuuc.ca/wp-content/uploads/2023/11/Chalice-white-candles-scaled.jpg
END:VEVENT
BEGIN:VEVENT
DTSTART;TZID=America/Toronto:20241120T163000
DTEND;TZID=America/Toronto:20241120T183000
DTSTAMP:20260420T060957
CREATED:20240429T215957Z
LAST-MODIFIED:20240429T215957Z
UID:10000498-1732120200-1732127400@www.nuuc.ca
SUMMARY:NUUC Board Meeting
DESCRIPTION:
URL:https://www.nuuc.ca/event/nuuc-board-meeting-3/
CATEGORIES:Board
END:VEVENT
BEGIN:VEVENT
DTSTART;TZID=America/Toronto:20241118T210000
DTEND;TZID=America/Toronto:20241118T230000
DTSTAMP:20260420T060957
CREATED:20231204T232911Z
LAST-MODIFIED:20231204T232912Z
UID:10000307-1731963600-1731970800@www.nuuc.ca
SUMMARY:Spirit Band Rehearsal
DESCRIPTION:Space is booked for Sprit Band rehearsal – contact Susanne Maziarz  if you wish to join the Spirit Band
URL:https://www.nuuc.ca/event/spirit-band-rehearsal-3/2024-11-18/
CATEGORIES:Rehearsal only
END:VEVENT
BEGIN:VEVENT
DTSTART;TZID=America/Toronto:20241118T190000
DTEND;TZID=America/Toronto:20241118T210000
DTSTAMP:20260420T060957
CREATED:20231204T232520Z
LAST-MODIFIED:20240320T152719Z
UID:10000254-1731956400-1731963600@www.nuuc.ca
SUMMARY:Spirit Choir Rehearsals – every Monday evening
DESCRIPTION:Have you thought of singing in the choir here at Neighbourhood? Weekly Mondays’ rehearsals from  7 – 9pm. \nIf you are interested in joining the choir\, please contact Susanne at music@nuuc.ca .
URL:https://www.nuuc.ca/event/spirit-choir-rehearsals-every-monday-evening/2024-11-18/
LOCATION:Rafos Hall\, 310 Danforth Ave\, Toronto\, Ontario\, M4K 2X4\, Canada
CATEGORIES:Rehearsal only
END:VEVENT
BEGIN:VEVENT
DTSTART;TZID=America/Toronto:20241117T150000
DTEND;TZID=America/Toronto:20241117T170000
DTSTAMP:20260420T060957
CREATED:20240103T180438Z
LAST-MODIFIED:20240216T190157Z
UID:10000396-1731855600-1731862800@www.nuuc.ca
SUMMARY:Circle Music
DESCRIPTION:
URL:https://www.nuuc.ca/event/circle-music/2024-11-17/
LOCATION:Rafos Hall\, 310 Danforth Ave\, Toronto\, Ontario\, M4K 2X4\, Canada
CATEGORIES:external sponsored by NUUC,Music
ATTACH;FMTTYPE=image/jpeg:https://www.nuuc.ca/wp-content/uploads/2024/01/Circle-Music-TO-no-dates-e1710073587451.jpeg
END:VEVENT
BEGIN:VEVENT
DTSTART;TZID=America/Toronto:20241117T103000
DTEND;TZID=America/Toronto:20241117T120000
DTSTAMP:20260420T060957
CREATED:20240916T164422Z
LAST-MODIFIED:20240916T164422Z
UID:10000556-1731839400-1731844800@www.nuuc.ca
SUMMARY:Sunday Service
DESCRIPTION:  \n 
URL:https://www.nuuc.ca/event/sunday-service-7/
LOCATION:Rafos Hall\, 310 Danforth Ave\, Toronto\, Ontario\, M4K 2X4\, Canada
CATEGORIES:Worship Service
ATTACH;FMTTYPE=image/jpeg:https://www.nuuc.ca/wp-content/uploads/2023/11/Chalice-white-candles-scaled.jpg
END:VEVENT
BEGIN:VEVENT
DTSTART;TZID=America/Toronto:20241111T210000
DTEND;TZID=America/Toronto:20241111T230000
DTSTAMP:20260420T060957
CREATED:20231204T232911Z
LAST-MODIFIED:20231204T232912Z
UID:10000306-1731358800-1731366000@www.nuuc.ca
SUMMARY:Spirit Band Rehearsal
DESCRIPTION:Space is booked for Sprit Band rehearsal – contact Susanne Maziarz  if you wish to join the Spirit Band
URL:https://www.nuuc.ca/event/spirit-band-rehearsal-3/2024-11-11/
CATEGORIES:Rehearsal only
END:VEVENT
BEGIN:VEVENT
DTSTART;TZID=America/Toronto:20241111T190000
DTEND;TZID=America/Toronto:20241111T210000
DTSTAMP:20260420T060957
CREATED:20231204T232520Z
LAST-MODIFIED:20240320T152719Z
UID:10000253-1731351600-1731358800@www.nuuc.ca
SUMMARY:Spirit Choir Rehearsals – every Monday evening
DESCRIPTION:Have you thought of singing in the choir here at Neighbourhood? Weekly Mondays’ rehearsals from  7 – 9pm. \nIf you are interested in joining the choir\, please contact Susanne at music@nuuc.ca .
URL:https://www.nuuc.ca/event/spirit-choir-rehearsals-every-monday-evening/2024-11-11/
LOCATION:Rafos Hall\, 310 Danforth Ave\, Toronto\, Ontario\, M4K 2X4\, Canada
CATEGORIES:Rehearsal only
END:VEVENT
BEGIN:VEVENT
DTSTART;TZID=America/Toronto:20241110T122000
DTEND;TZID=America/Toronto:20241110T153000
DTSTAMP:20260420T060957
CREATED:20240515T150857Z
LAST-MODIFIED:20241007T141004Z
UID:10000518-1731241200-1731252600@www.nuuc.ca
SUMMARY:Walk in Footsteps of Susan Crofts
DESCRIPTION:
URL:https://www.nuuc.ca/event/talent-night-16/
CATEGORIES:Music,service
ATTACH;FMTTYPE=image/png:https://www.nuuc.ca/wp-content/uploads/2024/05/Footsteps-Susan-Crofts.png
END:VEVENT
BEGIN:VEVENT
DTSTART;TZID=America/Toronto:20241110T103000
DTEND;TZID=America/Toronto:20241110T120000
DTSTAMP:20260420T060957
CREATED:20240916T164342Z
LAST-MODIFIED:20240916T164342Z
UID:10000557-1731234600-1731240000@www.nuuc.ca
SUMMARY:Sunday Service
DESCRIPTION:  \n 
URL:https://www.nuuc.ca/event/sunday-service-6/
LOCATION:Rafos Hall\, 310 Danforth Ave\, Toronto\, Ontario\, M4K 2X4\, Canada
CATEGORIES:Worship Service
ATTACH;FMTTYPE=image/jpeg:https://www.nuuc.ca/wp-content/uploads/2023/11/Chalice-white-candles-scaled.jpg
END:VEVENT
BEGIN:VEVENT
DTSTART;TZID=America/Toronto:20241108T190000
DTEND;TZID=America/Toronto:20241108T210000
DTSTAMP:20260420T060957
CREATED:20240821T162507Z
LAST-MODIFIED:20240821T162507Z
UID:10000546-1731092400-1731099600@www.nuuc.ca
SUMMARY:Circle Music workshop
DESCRIPTION:Co-facilitated by Jane Lewis and Susanne Maziarz. \nAll are welcome to this improvised singing circle. \nA creative opportunity for listening\, being in the moment\, sharing your voice\, and laughing! \nContact Susanne at music@nuuc.ca for more info.
URL:https://www.nuuc.ca/event/circle-music-workshop-11/
LOCATION:Rafos Hall\, 310 Danforth Ave\, Toronto\, Ontario\, M4K 2X4\, Canada
CATEGORIES:external sponsored by NUUC,Music
ATTACH;FMTTYPE=image/jpeg:https://www.nuuc.ca/wp-content/uploads/2024/01/Circle-Music-TO-no-dates-e1710073587451.jpeg
END:VEVENT
BEGIN:VEVENT
DTSTART;TZID=America/Toronto:20241104T210000
DTEND;TZID=America/Toronto:20241104T230000
DTSTAMP:20260420T060957
CREATED:20231204T232911Z
LAST-MODIFIED:20231204T232912Z
UID:10000305-1730754000-1730761200@www.nuuc.ca
SUMMARY:Spirit Band Rehearsal
DESCRIPTION:Space is booked for Sprit Band rehearsal – contact Susanne Maziarz  if you wish to join the Spirit Band
URL:https://www.nuuc.ca/event/spirit-band-rehearsal-3/2024-11-04/
CATEGORIES:Rehearsal only
END:VEVENT
BEGIN:VEVENT
DTSTART;TZID=America/Toronto:20241104T190000
DTEND;TZID=America/Toronto:20241104T210000
DTSTAMP:20260420T060957
CREATED:20231204T232520Z
LAST-MODIFIED:20240320T152719Z
UID:10000252-1730746800-1730754000@www.nuuc.ca
SUMMARY:Spirit Choir Rehearsals – every Monday evening
DESCRIPTION:Have you thought of singing in the choir here at Neighbourhood? Weekly Mondays’ rehearsals from  7 – 9pm. \nIf you are interested in joining the choir\, please contact Susanne at music@nuuc.ca .
URL:https://www.nuuc.ca/event/spirit-choir-rehearsals-every-monday-evening/2024-11-04/
LOCATION:Rafos Hall\, 310 Danforth Ave\, Toronto\, Ontario\, M4K 2X4\, Canada
CATEGORIES:Rehearsal only
END:VEVENT
BEGIN:VEVENT
DTSTART;TZID=America/Toronto:20241103T103000
DTEND;TZID=America/Toronto:20241103T160000
DTSTAMP:20260420T060957
CREATED:20240828T180142Z
LAST-MODIFIED:20240828T181822Z
UID:10000547-1730629800-1730649600@www.nuuc.ca
SUMMARY:Welcome Rev. Sally! Service and Community Potluck!
DESCRIPTION:
URL:https://www.nuuc.ca/event/welcome-rev-sally/
LOCATION:Rafos Hall\, 310 Danforth Ave\, Toronto\, Ontario\, M4K 2X4\, Canada
CATEGORIES:Congregational event,Open Community event,party,Worship Service
ATTACH;FMTTYPE=image/jpeg:https://www.nuuc.ca/wp-content/uploads/2024/08/Sally1web16-9.jpeg
END:VEVENT
BEGIN:VEVENT
DTSTART;TZID=America/Toronto:20241103T103000
DTEND;TZID=America/Toronto:20241103T120000
DTSTAMP:20260420T060957
CREATED:20240916T164115Z
LAST-MODIFIED:20240916T164115Z
UID:10000553-1730629800-1730635200@www.nuuc.ca
SUMMARY:Sunday Service
DESCRIPTION:  \n 
URL:https://www.nuuc.ca/event/sunday-service-5/
LOCATION:Rafos Hall\, 310 Danforth Ave\, Toronto\, Ontario\, M4K 2X4\, Canada
CATEGORIES:Worship Service
ATTACH;FMTTYPE=image/jpeg:https://www.nuuc.ca/wp-content/uploads/2023/11/Chalice-white-candles-scaled.jpg
END:VEVENT
BEGIN:VEVENT
DTSTART;TZID=America/Toronto:20241030T190000
DTEND;TZID=America/Toronto:20241030T200000
DTSTAMP:20260420T060957
CREATED:20241007T142305Z
LAST-MODIFIED:20241007T142305Z
UID:10000568-1730314800-1730318400@www.nuuc.ca
SUMMARY:Encircling
DESCRIPTION:Every Wednesday evening for the Month of October on Zoom
URL:https://www.nuuc.ca/event/encircling-4/
CATEGORIES:service
ATTACH;FMTTYPE=image/png:https://www.nuuc.ca/wp-content/uploads/2024/10/encircling.png
END:VEVENT
BEGIN:VEVENT
DTSTART;TZID=America/Toronto:20241028T210000
DTEND;TZID=America/Toronto:20241028T230000
DTSTAMP:20260420T060957
CREATED:20231204T232911Z
LAST-MODIFIED:20231204T232912Z
UID:10000304-1730149200-1730156400@www.nuuc.ca
SUMMARY:Spirit Band Rehearsal
DESCRIPTION:Space is booked for Sprit Band rehearsal – contact Susanne Maziarz  if you wish to join the Spirit Band
URL:https://www.nuuc.ca/event/spirit-band-rehearsal-3/2024-10-28/
CATEGORIES:Rehearsal only
END:VEVENT
BEGIN:VEVENT
DTSTART;TZID=America/Toronto:20241028T190000
DTEND;TZID=America/Toronto:20241028T210000
DTSTAMP:20260420T060957
CREATED:20231204T232520Z
LAST-MODIFIED:20240320T152719Z
UID:10000251-1730142000-1730149200@www.nuuc.ca
SUMMARY:Spirit Choir Rehearsals – every Monday evening
DESCRIPTION:Have you thought of singing in the choir here at Neighbourhood? Weekly Mondays’ rehearsals from  7 – 9pm. \nIf you are interested in joining the choir\, please contact Susanne at music@nuuc.ca .
URL:https://www.nuuc.ca/event/spirit-choir-rehearsals-every-monday-evening/2024-10-28/
LOCATION:Rafos Hall\, 310 Danforth Ave\, Toronto\, Ontario\, M4K 2X4\, Canada
CATEGORIES:Rehearsal only
END:VEVENT
BEGIN:VEVENT
DTSTART;TZID=America/Toronto:20241027T103000
DTEND;TZID=America/Toronto:20241027T120000
DTSTAMP:20260420T060957
CREATED:20240916T163906Z
LAST-MODIFIED:20240916T163906Z
UID:10000552-1730025000-1730030400@www.nuuc.ca
SUMMARY:Sunday Service
DESCRIPTION:  \n 
URL:https://www.nuuc.ca/event/sunday-service-4/
LOCATION:Rafos Hall\, 310 Danforth Ave\, Toronto\, Ontario\, M4K 2X4\, Canada
CATEGORIES:Worship Service
ATTACH;FMTTYPE=image/jpeg:https://www.nuuc.ca/wp-content/uploads/2023/11/Chalice-white-candles-scaled.jpg
END:VEVENT
BEGIN:VEVENT
DTSTART;TZID=America/Toronto:20241026T183000
DTEND;TZID=America/Toronto:20241026T220000
DTSTAMP:20260420T060957
CREATED:20241007T135913Z
LAST-MODIFIED:20241007T135913Z
UID:10000564-1729967400-1729980000@www.nuuc.ca
SUMMARY:Living with Loss and Longing
DESCRIPTION:
URL:https://www.nuuc.ca/event/living-with-loss-and-longing/
CATEGORIES:service
ATTACH;FMTTYPE=image/png:https://www.nuuc.ca/wp-content/uploads/2024/10/Living-with-loss-.png
END:VEVENT
BEGIN:VEVENT
DTSTART;TZID=America/Toronto:20241023T190000
DTEND;TZID=America/Toronto:20241023T200000
DTSTAMP:20260420T060957
CREATED:20241007T141938Z
LAST-MODIFIED:20241007T142135Z
UID:10000567-1729710000-1729713600@www.nuuc.ca
SUMMARY:Encircling
DESCRIPTION:Every Wednesday evening for the Month of October on Zoom
URL:https://www.nuuc.ca/event/encircling-3/
CATEGORIES:service
ATTACH;FMTTYPE=image/png:https://www.nuuc.ca/wp-content/uploads/2024/10/encircling.png
END:VEVENT
BEGIN:VEVENT
DTSTART;TZID=America/Toronto:20241021T210000
DTEND;TZID=America/Toronto:20241021T230000
DTSTAMP:20260420T060957
CREATED:20231204T232911Z
LAST-MODIFIED:20231204T232912Z
UID:10000303-1729544400-1729551600@www.nuuc.ca
SUMMARY:Spirit Band Rehearsal
DESCRIPTION:Space is booked for Sprit Band rehearsal – contact Susanne Maziarz  if you wish to join the Spirit Band
URL:https://www.nuuc.ca/event/spirit-band-rehearsal-3/2024-10-21/
CATEGORIES:Rehearsal only
END:VEVENT
BEGIN:VEVENT
DTSTART;TZID=America/Toronto:20241021T190000
DTEND;TZID=America/Toronto:20241021T210000
DTSTAMP:20260420T060957
CREATED:20231204T232520Z
LAST-MODIFIED:20240320T152719Z
UID:10000250-1729537200-1729544400@www.nuuc.ca
SUMMARY:Spirit Choir Rehearsals – every Monday evening
DESCRIPTION:Have you thought of singing in the choir here at Neighbourhood? Weekly Mondays’ rehearsals from  7 – 9pm. \nIf you are interested in joining the choir\, please contact Susanne at music@nuuc.ca .
URL:https://www.nuuc.ca/event/spirit-choir-rehearsals-every-monday-evening/2024-10-21/
LOCATION:Rafos Hall\, 310 Danforth Ave\, Toronto\, Ontario\, M4K 2X4\, Canada
CATEGORIES:Rehearsal only
END:VEVENT
END:VCALENDAR