BEGIN:VCALENDAR
VERSION:2.0
PRODID:-//Neighbourhood Unitarian Universalist Congregation - ECPv6.15.20//NONSGML v1.0//EN
CALSCALE:GREGORIAN
METHOD:PUBLISH
X-ORIGINAL-URL:https://www.nuuc.ca
X-WR-CALDESC:Events for Neighbourhood Unitarian Universalist Congregation
REFRESH-INTERVAL;VALUE=DURATION:PT1H
X-Robots-Tag:noindex
X-PUBLISHED-TTL:PT1H
BEGIN:VTIMEZONE
TZID:America/Toronto
BEGIN:DAYLIGHT
TZOFFSETFROM:-0500
TZOFFSETTO:-0400
TZNAME:EDT
DTSTART:20270314T070000
END:DAYLIGHT
BEGIN:STANDARD
TZOFFSETFROM:-0400
TZOFFSETTO:-0500
TZNAME:EST
DTSTART:20271107T060000
END:STANDARD
BEGIN:DAYLIGHT
TZOFFSETFROM:-0500
TZOFFSETTO:-0400
TZNAME:EDT
DTSTART:20280312T070000
END:DAYLIGHT
BEGIN:STANDARD
TZOFFSETFROM:-0400
TZOFFSETTO:-0500
TZNAME:EST
DTSTART:20281105T060000
END:STANDARD
BEGIN:DAYLIGHT
TZOFFSETFROM:-0500
TZOFFSETTO:-0400
TZNAME:EDT
DTSTART:20290311T070000
END:DAYLIGHT
BEGIN:STANDARD
TZOFFSETFROM:-0400
TZOFFSETTO:-0500
TZNAME:EST
DTSTART:20291104T060000
END:STANDARD
END:VTIMEZONE
BEGIN:VEVENT
DTSTART;TZID=America/Toronto:20280605T210000
DTEND;TZID=America/Toronto:20280605T230000
DTSTAMP:20260420T031053
CREATED:20250307T172335Z
LAST-MODIFIED:20250307T172335Z
UID:10001355-1843851600-1843858800@www.nuuc.ca
SUMMARY:Spirit Band Rehearsal
DESCRIPTION:
URL:https://www.nuuc.ca/event/spirit-band-rehearsal-4/2028-06-05/
END:VEVENT
BEGIN:VEVENT
DTSTART;TZID=America/Toronto:20280611T103000
DTEND;TZID=America/Toronto:20280611T120000
DTSTAMP:20260420T031053
CREATED:20250207T200538Z
LAST-MODIFIED:20250207T200538Z
UID:10000766-1844332200-1844337600@www.nuuc.ca
SUMMARY:Sunday Service
DESCRIPTION:  \n 
URL:https://www.nuuc.ca/event/sunday-service-19/2028-06-11/
LOCATION:Rafos Hall\, 310 Danforth Ave\, Toronto\, Ontario\, M4K 2X4\, Canada
CATEGORIES:Worship Service
ATTACH;FMTTYPE=image/jpeg:https://www.nuuc.ca/wp-content/uploads/2023/11/Chalice-white-candles-scaled.jpg
END:VEVENT
BEGIN:VEVENT
DTSTART;TZID=America/Toronto:20280612T183000
DTEND;TZID=America/Toronto:20280612T210000
DTSTAMP:20260420T031053
CREATED:20260211T163230Z
LAST-MODIFIED:20260211T163230Z
UID:10001905-1844447400-1844456400@www.nuuc.ca
SUMMARY:Spirit Choir Rehearsal
DESCRIPTION:
URL:https://www.nuuc.ca/event/spirit-choir-rehearsal-5/2028-06-12/
CATEGORIES:Rehearsal only
ATTACH;FMTTYPE=image/jpeg:https://www.nuuc.ca/wp-content/uploads/2025/01/music-rainbow-1.jpg
END:VEVENT
BEGIN:VEVENT
DTSTART;TZID=America/Toronto:20280612T210000
DTEND;TZID=America/Toronto:20280612T230000
DTSTAMP:20260420T031053
CREATED:20250307T172335Z
LAST-MODIFIED:20250307T172335Z
UID:10001356-1844456400-1844463600@www.nuuc.ca
SUMMARY:Spirit Band Rehearsal
DESCRIPTION:
URL:https://www.nuuc.ca/event/spirit-band-rehearsal-4/2028-06-12/
END:VEVENT
BEGIN:VEVENT
DTSTART;TZID=America/Toronto:20280618T103000
DTEND;TZID=America/Toronto:20280618T120000
DTSTAMP:20260420T031053
CREATED:20250207T200538Z
LAST-MODIFIED:20250207T200538Z
UID:10000767-1844937000-1844942400@www.nuuc.ca
SUMMARY:Sunday Service
DESCRIPTION:  \n 
URL:https://www.nuuc.ca/event/sunday-service-19/2028-06-18/
LOCATION:Rafos Hall\, 310 Danforth Ave\, Toronto\, Ontario\, M4K 2X4\, Canada
CATEGORIES:Worship Service
ATTACH;FMTTYPE=image/jpeg:https://www.nuuc.ca/wp-content/uploads/2023/11/Chalice-white-candles-scaled.jpg
END:VEVENT
BEGIN:VEVENT
DTSTART;TZID=America/Toronto:20280619T183000
DTEND;TZID=America/Toronto:20280619T210000
DTSTAMP:20260420T031053
CREATED:20260211T163230Z
LAST-MODIFIED:20260211T163230Z
UID:10001906-1845052200-1845061200@www.nuuc.ca
SUMMARY:Spirit Choir Rehearsal
DESCRIPTION:
URL:https://www.nuuc.ca/event/spirit-choir-rehearsal-5/2028-06-19/
CATEGORIES:Rehearsal only
ATTACH;FMTTYPE=image/jpeg:https://www.nuuc.ca/wp-content/uploads/2025/01/music-rainbow-1.jpg
END:VEVENT
BEGIN:VEVENT
DTSTART;TZID=America/Toronto:20280619T210000
DTEND;TZID=America/Toronto:20280619T230000
DTSTAMP:20260420T031053
CREATED:20250307T172335Z
LAST-MODIFIED:20250307T172335Z
UID:10001357-1845061200-1845068400@www.nuuc.ca
SUMMARY:Spirit Band Rehearsal
DESCRIPTION:
URL:https://www.nuuc.ca/event/spirit-band-rehearsal-4/2028-06-19/
END:VEVENT
BEGIN:VEVENT
DTSTART;TZID=America/Toronto:20280625T103000
DTEND;TZID=America/Toronto:20280625T120000
DTSTAMP:20260420T031053
CREATED:20250207T200538Z
LAST-MODIFIED:20250207T200538Z
UID:10000768-1845541800-1845547200@www.nuuc.ca
SUMMARY:Sunday Service
DESCRIPTION:  \n 
URL:https://www.nuuc.ca/event/sunday-service-19/2028-06-25/
LOCATION:Rafos Hall\, 310 Danforth Ave\, Toronto\, Ontario\, M4K 2X4\, Canada
CATEGORIES:Worship Service
ATTACH;FMTTYPE=image/jpeg:https://www.nuuc.ca/wp-content/uploads/2023/11/Chalice-white-candles-scaled.jpg
END:VEVENT
BEGIN:VEVENT
DTSTART;TZID=America/Toronto:20280626T183000
DTEND;TZID=America/Toronto:20280626T210000
DTSTAMP:20260420T031053
CREATED:20260211T163230Z
LAST-MODIFIED:20260211T163230Z
UID:10001907-1845657000-1845666000@www.nuuc.ca
SUMMARY:Spirit Choir Rehearsal
DESCRIPTION:
URL:https://www.nuuc.ca/event/spirit-choir-rehearsal-5/2028-06-26/
CATEGORIES:Rehearsal only
ATTACH;FMTTYPE=image/jpeg:https://www.nuuc.ca/wp-content/uploads/2025/01/music-rainbow-1.jpg
END:VEVENT
BEGIN:VEVENT
DTSTART;TZID=America/Toronto:20280626T210000
DTEND;TZID=America/Toronto:20280626T230000
DTSTAMP:20260420T031053
CREATED:20250307T172335Z
LAST-MODIFIED:20250307T172335Z
UID:10001358-1845666000-1845673200@www.nuuc.ca
SUMMARY:Spirit Band Rehearsal
DESCRIPTION:
URL:https://www.nuuc.ca/event/spirit-band-rehearsal-4/2028-06-26/
END:VEVENT
BEGIN:VEVENT
DTSTART;TZID=America/Toronto:20280702T103000
DTEND;TZID=America/Toronto:20280702T120000
DTSTAMP:20260420T031053
CREATED:20250207T200538Z
LAST-MODIFIED:20250207T200538Z
UID:10000769-1846146600-1846152000@www.nuuc.ca
SUMMARY:Sunday Service
DESCRIPTION:  \n 
URL:https://www.nuuc.ca/event/sunday-service-19/2028-07-02/
LOCATION:Rafos Hall\, 310 Danforth Ave\, Toronto\, Ontario\, M4K 2X4\, Canada
CATEGORIES:Worship Service
ATTACH;FMTTYPE=image/jpeg:https://www.nuuc.ca/wp-content/uploads/2023/11/Chalice-white-candles-scaled.jpg
END:VEVENT
BEGIN:VEVENT
DTSTART;TZID=America/Toronto:20280703T183000
DTEND;TZID=America/Toronto:20280703T210000
DTSTAMP:20260420T031053
CREATED:20260211T163230Z
LAST-MODIFIED:20260211T163230Z
UID:10001908-1846261800-1846270800@www.nuuc.ca
SUMMARY:Spirit Choir Rehearsal
DESCRIPTION:
URL:https://www.nuuc.ca/event/spirit-choir-rehearsal-5/2028-07-03/
CATEGORIES:Rehearsal only
ATTACH;FMTTYPE=image/jpeg:https://www.nuuc.ca/wp-content/uploads/2025/01/music-rainbow-1.jpg
END:VEVENT
BEGIN:VEVENT
DTSTART;TZID=America/Toronto:20280703T210000
DTEND;TZID=America/Toronto:20280703T230000
DTSTAMP:20260420T031053
CREATED:20250307T172335Z
LAST-MODIFIED:20250307T172335Z
UID:10001359-1846270800-1846278000@www.nuuc.ca
SUMMARY:Spirit Band Rehearsal
DESCRIPTION:
URL:https://www.nuuc.ca/event/spirit-band-rehearsal-4/2028-07-03/
END:VEVENT
BEGIN:VEVENT
DTSTART;TZID=America/Toronto:20280709T103000
DTEND;TZID=America/Toronto:20280709T120000
DTSTAMP:20260420T031053
CREATED:20250207T200538Z
LAST-MODIFIED:20250207T200538Z
UID:10000770-1846751400-1846756800@www.nuuc.ca
SUMMARY:Sunday Service
DESCRIPTION:  \n 
URL:https://www.nuuc.ca/event/sunday-service-19/2028-07-09/
LOCATION:Rafos Hall\, 310 Danforth Ave\, Toronto\, Ontario\, M4K 2X4\, Canada
CATEGORIES:Worship Service
ATTACH;FMTTYPE=image/jpeg:https://www.nuuc.ca/wp-content/uploads/2023/11/Chalice-white-candles-scaled.jpg
END:VEVENT
BEGIN:VEVENT
DTSTART;TZID=America/Toronto:20280710T183000
DTEND;TZID=America/Toronto:20280710T210000
DTSTAMP:20260420T031053
CREATED:20260211T163230Z
LAST-MODIFIED:20260211T163230Z
UID:10001909-1846866600-1846875600@www.nuuc.ca
SUMMARY:Spirit Choir Rehearsal
DESCRIPTION:
URL:https://www.nuuc.ca/event/spirit-choir-rehearsal-5/2028-07-10/
CATEGORIES:Rehearsal only
ATTACH;FMTTYPE=image/jpeg:https://www.nuuc.ca/wp-content/uploads/2025/01/music-rainbow-1.jpg
END:VEVENT
BEGIN:VEVENT
DTSTART;TZID=America/Toronto:20280710T210000
DTEND;TZID=America/Toronto:20280710T230000
DTSTAMP:20260420T031053
CREATED:20250307T172335Z
LAST-MODIFIED:20250307T172335Z
UID:10001360-1846875600-1846882800@www.nuuc.ca
SUMMARY:Spirit Band Rehearsal
DESCRIPTION:
URL:https://www.nuuc.ca/event/spirit-band-rehearsal-4/2028-07-10/
END:VEVENT
BEGIN:VEVENT
DTSTART;TZID=America/Toronto:20280716T103000
DTEND;TZID=America/Toronto:20280716T120000
DTSTAMP:20260420T031053
CREATED:20250207T200538Z
LAST-MODIFIED:20250207T200538Z
UID:10000771-1847356200-1847361600@www.nuuc.ca
SUMMARY:Sunday Service
DESCRIPTION:  \n 
URL:https://www.nuuc.ca/event/sunday-service-19/2028-07-16/
LOCATION:Rafos Hall\, 310 Danforth Ave\, Toronto\, Ontario\, M4K 2X4\, Canada
CATEGORIES:Worship Service
ATTACH;FMTTYPE=image/jpeg:https://www.nuuc.ca/wp-content/uploads/2023/11/Chalice-white-candles-scaled.jpg
END:VEVENT
BEGIN:VEVENT
DTSTART;TZID=America/Toronto:20280717T183000
DTEND;TZID=America/Toronto:20280717T210000
DTSTAMP:20260420T031053
CREATED:20260211T163230Z
LAST-MODIFIED:20260211T163230Z
UID:10001910-1847471400-1847480400@www.nuuc.ca
SUMMARY:Spirit Choir Rehearsal
DESCRIPTION:
URL:https://www.nuuc.ca/event/spirit-choir-rehearsal-5/2028-07-17/
CATEGORIES:Rehearsal only
ATTACH;FMTTYPE=image/jpeg:https://www.nuuc.ca/wp-content/uploads/2025/01/music-rainbow-1.jpg
END:VEVENT
BEGIN:VEVENT
DTSTART;TZID=America/Toronto:20280717T210000
DTEND;TZID=America/Toronto:20280717T230000
DTSTAMP:20260420T031053
CREATED:20250307T172335Z
LAST-MODIFIED:20250307T172335Z
UID:10001361-1847480400-1847487600@www.nuuc.ca
SUMMARY:Spirit Band Rehearsal
DESCRIPTION:
URL:https://www.nuuc.ca/event/spirit-band-rehearsal-4/2028-07-17/
END:VEVENT
BEGIN:VEVENT
DTSTART;TZID=America/Toronto:20280723T103000
DTEND;TZID=America/Toronto:20280723T120000
DTSTAMP:20260420T031053
CREATED:20250207T200538Z
LAST-MODIFIED:20250207T200538Z
UID:10000772-1847961000-1847966400@www.nuuc.ca
SUMMARY:Sunday Service
DESCRIPTION:  \n 
URL:https://www.nuuc.ca/event/sunday-service-19/2028-07-23/
LOCATION:Rafos Hall\, 310 Danforth Ave\, Toronto\, Ontario\, M4K 2X4\, Canada
CATEGORIES:Worship Service
ATTACH;FMTTYPE=image/jpeg:https://www.nuuc.ca/wp-content/uploads/2023/11/Chalice-white-candles-scaled.jpg
END:VEVENT
BEGIN:VEVENT
DTSTART;TZID=America/Toronto:20280724T183000
DTEND;TZID=America/Toronto:20280724T210000
DTSTAMP:20260420T031053
CREATED:20260211T163230Z
LAST-MODIFIED:20260211T163230Z
UID:10001911-1848076200-1848085200@www.nuuc.ca
SUMMARY:Spirit Choir Rehearsal
DESCRIPTION:
URL:https://www.nuuc.ca/event/spirit-choir-rehearsal-5/2028-07-24/
CATEGORIES:Rehearsal only
ATTACH;FMTTYPE=image/jpeg:https://www.nuuc.ca/wp-content/uploads/2025/01/music-rainbow-1.jpg
END:VEVENT
BEGIN:VEVENT
DTSTART;TZID=America/Toronto:20280724T210000
DTEND;TZID=America/Toronto:20280724T230000
DTSTAMP:20260420T031053
CREATED:20250307T172335Z
LAST-MODIFIED:20250307T172335Z
UID:10001362-1848085200-1848092400@www.nuuc.ca
SUMMARY:Spirit Band Rehearsal
DESCRIPTION:
URL:https://www.nuuc.ca/event/spirit-band-rehearsal-4/2028-07-24/
END:VEVENT
BEGIN:VEVENT
DTSTART;TZID=America/Toronto:20280730T103000
DTEND;TZID=America/Toronto:20280730T120000
DTSTAMP:20260420T031053
CREATED:20250207T200538Z
LAST-MODIFIED:20250207T200538Z
UID:10000773-1848565800-1848571200@www.nuuc.ca
SUMMARY:Sunday Service
DESCRIPTION:  \n 
URL:https://www.nuuc.ca/event/sunday-service-19/2028-07-30/
LOCATION:Rafos Hall\, 310 Danforth Ave\, Toronto\, Ontario\, M4K 2X4\, Canada
CATEGORIES:Worship Service
ATTACH;FMTTYPE=image/jpeg:https://www.nuuc.ca/wp-content/uploads/2023/11/Chalice-white-candles-scaled.jpg
END:VEVENT
BEGIN:VEVENT
DTSTART;TZID=America/Toronto:20280731T183000
DTEND;TZID=America/Toronto:20280731T210000
DTSTAMP:20260420T031053
CREATED:20260211T163230Z
LAST-MODIFIED:20260211T163230Z
UID:10001912-1848681000-1848690000@www.nuuc.ca
SUMMARY:Spirit Choir Rehearsal
DESCRIPTION:
URL:https://www.nuuc.ca/event/spirit-choir-rehearsal-5/2028-07-31/
CATEGORIES:Rehearsal only
ATTACH;FMTTYPE=image/jpeg:https://www.nuuc.ca/wp-content/uploads/2025/01/music-rainbow-1.jpg
END:VEVENT
BEGIN:VEVENT
DTSTART;TZID=America/Toronto:20280731T210000
DTEND;TZID=America/Toronto:20280731T230000
DTSTAMP:20260420T031053
CREATED:20250307T172335Z
LAST-MODIFIED:20250307T172335Z
UID:10001363-1848690000-1848697200@www.nuuc.ca
SUMMARY:Spirit Band Rehearsal
DESCRIPTION:
URL:https://www.nuuc.ca/event/spirit-band-rehearsal-4/2028-07-31/
END:VEVENT
BEGIN:VEVENT
DTSTART;TZID=America/Toronto:20280806T103000
DTEND;TZID=America/Toronto:20280806T120000
DTSTAMP:20260420T031053
CREATED:20250207T200538Z
LAST-MODIFIED:20250207T200538Z
UID:10000774-1849170600-1849176000@www.nuuc.ca
SUMMARY:Sunday Service
DESCRIPTION:  \n 
URL:https://www.nuuc.ca/event/sunday-service-19/2028-08-06/
LOCATION:Rafos Hall\, 310 Danforth Ave\, Toronto\, Ontario\, M4K 2X4\, Canada
CATEGORIES:Worship Service
ATTACH;FMTTYPE=image/jpeg:https://www.nuuc.ca/wp-content/uploads/2023/11/Chalice-white-candles-scaled.jpg
END:VEVENT
BEGIN:VEVENT
DTSTART;TZID=America/Toronto:20280807T183000
DTEND;TZID=America/Toronto:20280807T210000
DTSTAMP:20260420T031053
CREATED:20260211T163230Z
LAST-MODIFIED:20260211T163230Z
UID:10001913-1849285800-1849294800@www.nuuc.ca
SUMMARY:Spirit Choir Rehearsal
DESCRIPTION:
URL:https://www.nuuc.ca/event/spirit-choir-rehearsal-5/2028-08-07/
CATEGORIES:Rehearsal only
ATTACH;FMTTYPE=image/jpeg:https://www.nuuc.ca/wp-content/uploads/2025/01/music-rainbow-1.jpg
END:VEVENT
BEGIN:VEVENT
DTSTART;TZID=America/Toronto:20280807T210000
DTEND;TZID=America/Toronto:20280807T230000
DTSTAMP:20260420T031053
CREATED:20250307T172335Z
LAST-MODIFIED:20250307T172335Z
UID:10001364-1849294800-1849302000@www.nuuc.ca
SUMMARY:Spirit Band Rehearsal
DESCRIPTION:
URL:https://www.nuuc.ca/event/spirit-band-rehearsal-4/2028-08-07/
END:VEVENT
BEGIN:VEVENT
DTSTART;TZID=America/Toronto:20280813T103000
DTEND;TZID=America/Toronto:20280813T120000
DTSTAMP:20260420T031053
CREATED:20250207T200538Z
LAST-MODIFIED:20250207T200538Z
UID:10000775-1849775400-1849780800@www.nuuc.ca
SUMMARY:Sunday Service
DESCRIPTION:  \n 
URL:https://www.nuuc.ca/event/sunday-service-19/2028-08-13/
LOCATION:Rafos Hall\, 310 Danforth Ave\, Toronto\, Ontario\, M4K 2X4\, Canada
CATEGORIES:Worship Service
ATTACH;FMTTYPE=image/jpeg:https://www.nuuc.ca/wp-content/uploads/2023/11/Chalice-white-candles-scaled.jpg
END:VEVENT
BEGIN:VEVENT
DTSTART;TZID=America/Toronto:20280814T183000
DTEND;TZID=America/Toronto:20280814T210000
DTSTAMP:20260420T031053
CREATED:20260211T163230Z
LAST-MODIFIED:20260211T163230Z
UID:10001914-1849890600-1849899600@www.nuuc.ca
SUMMARY:Spirit Choir Rehearsal
DESCRIPTION:
URL:https://www.nuuc.ca/event/spirit-choir-rehearsal-5/2028-08-14/
CATEGORIES:Rehearsal only
ATTACH;FMTTYPE=image/jpeg:https://www.nuuc.ca/wp-content/uploads/2025/01/music-rainbow-1.jpg
END:VEVENT
END:VCALENDAR