BEGIN:VCALENDAR
VERSION:2.0
PRODID:-//Neighbourhood Unitarian Universalist Congregation - ECPv6.15.20//NONSGML v1.0//EN
CALSCALE:GREGORIAN
METHOD:PUBLISH
X-WR-CALNAME:Neighbourhood Unitarian Universalist Congregation
X-ORIGINAL-URL:https://www.nuuc.ca
X-WR-CALDESC:Events for Neighbourhood Unitarian Universalist Congregation
REFRESH-INTERVAL;VALUE=DURATION:PT1H
X-Robots-Tag:noindex
X-PUBLISHED-TTL:PT1H
BEGIN:VTIMEZONE
TZID:America/Toronto
BEGIN:DAYLIGHT
TZOFFSETFROM:-0500
TZOFFSETTO:-0400
TZNAME:EDT
DTSTART:20230312T070000
END:DAYLIGHT
BEGIN:STANDARD
TZOFFSETFROM:-0400
TZOFFSETTO:-0500
TZNAME:EST
DTSTART:20231105T060000
END:STANDARD
BEGIN:DAYLIGHT
TZOFFSETFROM:-0500
TZOFFSETTO:-0400
TZNAME:EDT
DTSTART:20240310T070000
END:DAYLIGHT
BEGIN:STANDARD
TZOFFSETFROM:-0400
TZOFFSETTO:-0500
TZNAME:EST
DTSTART:20241103T060000
END:STANDARD
BEGIN:DAYLIGHT
TZOFFSETFROM:-0500
TZOFFSETTO:-0400
TZNAME:EDT
DTSTART:20250309T070000
END:DAYLIGHT
BEGIN:STANDARD
TZOFFSETFROM:-0400
TZOFFSETTO:-0500
TZNAME:EST
DTSTART:20251102T060000
END:STANDARD
BEGIN:DAYLIGHT
TZOFFSETFROM:-0500
TZOFFSETTO:-0400
TZNAME:EDT
DTSTART:20260308T070000
END:DAYLIGHT
BEGIN:STANDARD
TZOFFSETFROM:-0400
TZOFFSETTO:-0500
TZNAME:EST
DTSTART:20261101T060000
END:STANDARD
END:VTIMEZONE
BEGIN:VEVENT
DTSTART;TZID=America/Toronto:20250223T103000
DTEND;TZID=America/Toronto:20250223T120000
DTSTAMP:20260420T012909
CREATED:20250124T163125Z
LAST-MODIFIED:20250124T163157Z
UID:10000579-1740306600-1740312000@www.nuuc.ca
SUMMARY:Sunday Service
DESCRIPTION:  \n 
URL:https://www.nuuc.ca/event/sunday-service-18/
LOCATION:Rafos Hall\, 310 Danforth Ave\, Toronto\, Ontario\, M4K 2X4\, Canada
CATEGORIES:Worship Service
ATTACH;FMTTYPE=image/jpeg:https://www.nuuc.ca/wp-content/uploads/2023/11/Chalice-white-candles-scaled.jpg
END:VEVENT
BEGIN:VEVENT
DTSTART;TZID=America/Toronto:20250216T121500
DTEND;TZID=America/Toronto:20250216T130000
DTSTAMP:20260420T012909
CREATED:20250124T171020Z
LAST-MODIFIED:20250124T171044Z
UID:10000589-1739708100-1739710800@www.nuuc.ca
SUMMARY:Social Environmental Action Committee Meeting
DESCRIPTION:after service /  Rainbow Room or sanctuary. \n” . . .and shared action for the care of our world”  — the second half of Neighbourhood’s mission statement. Are you interested in working with other members of our community to act on the values we have been discussing this year in services? Please join us on February 16 to share your ideas on what we can do on social justice in this time of growing inequality; on supporting the interdependence of all living beings in this time of climate crisis; on taking accountability for racism and all forms of oppression; and/or: on the issues and actions that you suggest.
URL:https://www.nuuc.ca/event/social-environmental-action-committee-meeting/
END:VEVENT
BEGIN:VEVENT
DTSTART;TZID=America/Toronto:20250216T103000
DTEND;TZID=America/Toronto:20250216T120000
DTSTAMP:20260420T012909
CREATED:20250124T163040Z
LAST-MODIFIED:20250124T163040Z
UID:10000578-1739701800-1739707200@www.nuuc.ca
SUMMARY:Sunday Service
DESCRIPTION:  \n 
URL:https://www.nuuc.ca/event/sunday-service-17/
LOCATION:Rafos Hall\, 310 Danforth Ave\, Toronto\, Ontario\, M4K 2X4\, Canada
CATEGORIES:Worship Service
ATTACH;FMTTYPE=image/jpeg:https://www.nuuc.ca/wp-content/uploads/2023/11/Chalice-white-candles-scaled.jpg
END:VEVENT
BEGIN:VEVENT
DTSTART;TZID=America/Toronto:20250212T120000
DTEND;TZID=America/Toronto:20250212T153000
DTSTAMP:20260420T012909
CREATED:20250124T163958Z
LAST-MODIFIED:20250210T173206Z
UID:10000580-1739361600-1739374200@www.nuuc.ca
SUMMARY:Stitch to enrich Small Group
DESCRIPTION:Bring whatever medium you wish to play with that day:  ie painting\, sketching\, croqueting\, knitting\, writing\, Beading\, coloring\, stitching\, embroidery\, working with paper.  The sky is the limit and all possibilities are welcome!  We are creative souls! \nFor more info or questions please contact Gail Raynard. \nMake friends and build connections\, use our common space for joy and enrichment\, help alleviate isolation during winter\, provide compassion\, love and support for each other!
URL:https://www.nuuc.ca/event/stitch-to-enrich-small-group/
END:VEVENT
BEGIN:VEVENT
DTSTART;TZID=America/Toronto:20250209T150000
DTEND;TZID=America/Toronto:20250209T170000
DTSTAMP:20260420T012909
CREATED:20240624T214049Z
LAST-MODIFIED:20240624T214049Z
UID:10000535-1739113200-1739120400@www.nuuc.ca
SUMMARY:Circle Music workshop
DESCRIPTION:Co-facilitated by Jane Lewis and Susanne Maziarz. \nAll are welcome to this improvised singing circle. \nA creative opportunity for listening\, being in the moment\, sharing your voice\, and laughing! \nContact Susanne at music@nuuc.ca for more info.
URL:https://www.nuuc.ca/event/circle-music-workshop-6/
LOCATION:Rafos Hall\, 310 Danforth Ave\, Toronto\, Ontario\, M4K 2X4\, Canada
CATEGORIES:external sponsored by NUUC,Music
ATTACH;FMTTYPE=image/jpeg:https://www.nuuc.ca/wp-content/uploads/2024/01/Circle-Music-TO-no-dates-e1710073587451.jpeg
END:VEVENT
BEGIN:VEVENT
DTSTART;TZID=America/Toronto:20250209T120000
DTEND;TZID=America/Toronto:20250209T133000
DTSTAMP:20260420T012909
CREATED:20250124T165022Z
LAST-MODIFIED:20250124T165023Z
UID:10000586-1739102400-1739107800@www.nuuc.ca
SUMMARY:Newcomer Information Session (Part II)
DESCRIPTION:Grab your snacks from the Cappuccino room and we will gather back in Rafos Hall  after the service. \n\n\n\n\n\n\n\n\n\n\n\n\n\n\nWe will plan to hold a welcoming ceremony for anyone who decides to officially become a member of the congregation\, on Sunday February 23rd.
URL:https://www.nuuc.ca/event/newcomer-information-session-part-ii/
ATTACH;FMTTYPE=image/png:https://www.nuuc.ca/wp-content/uploads/2025/01/2nd-info-session.png
END:VEVENT
BEGIN:VEVENT
DTSTART;TZID=America/Toronto:20250209T103000
DTEND;TZID=America/Toronto:20250209T120000
DTSTAMP:20260420T012909
CREATED:20250124T162929Z
LAST-MODIFIED:20250124T162929Z
UID:10000577-1739097000-1739102400@www.nuuc.ca
SUMMARY:Sunday Service
DESCRIPTION:  \n 
URL:https://www.nuuc.ca/event/sunday-service-16/
LOCATION:Rafos Hall\, 310 Danforth Ave\, Toronto\, Ontario\, M4K 2X4\, Canada
CATEGORIES:Worship Service
ATTACH;FMTTYPE=image/jpeg:https://www.nuuc.ca/wp-content/uploads/2023/11/Chalice-white-candles-scaled.jpg
END:VEVENT
BEGIN:VEVENT
DTSTART;TZID=America/Toronto:20250205T183000
DTEND;TZID=America/Toronto:20250205T203000
DTSTAMP:20260420T012909
CREATED:20250124T170513Z
LAST-MODIFIED:20250124T170513Z
UID:10000588-1738780200-1738787400@www.nuuc.ca
SUMMARY:Come to the NUUC Greeters pizza party
DESCRIPTION: 
URL:https://www.nuuc.ca/event/come-to-the-nuuc-greeters-pizza-party/
ATTACH;FMTTYPE=image/png:https://www.nuuc.ca/wp-content/uploads/2025/01/Pizza-Party.png
END:VEVENT
BEGIN:VEVENT
DTSTART;TZID=America/Toronto:20250202T123000
DTEND;TZID=America/Toronto:20250202T150000
DTSTAMP:20260420T012909
CREATED:20250124T162056Z
LAST-MODIFIED:20250124T162056Z
UID:10000573-1738499400-1738508400@www.nuuc.ca
SUMMARY:NUUC 25th Anniversary
DESCRIPTION:
URL:https://www.nuuc.ca/event/nuuc-25th-anniversary/
ATTACH;FMTTYPE=image/jpeg:https://www.nuuc.ca/wp-content/uploads/2025/01/NUUC-anniversay.jpg
END:VEVENT
BEGIN:VEVENT
DTSTART;TZID=America/Toronto:20250202T123000
DTEND;TZID=America/Toronto:20250202T133000
DTSTAMP:20260420T012909
CREATED:20250124T162451Z
LAST-MODIFIED:20250124T162451Z
UID:10000574-1738499400-1738503000@www.nuuc.ca
SUMMARY:Meet the Artists
DESCRIPTION:
URL:https://www.nuuc.ca/event/meet-the-artists/
ATTACH;FMTTYPE=image/png:https://www.nuuc.ca/wp-content/uploads/2025/01/Jan-March-Gallery-show.png
END:VEVENT
BEGIN:VEVENT
DTSTART;TZID=America/Toronto:20250202T103000
DTEND;TZID=America/Toronto:20250202T120000
DTSTAMP:20260420T012909
CREATED:20250124T162837Z
LAST-MODIFIED:20250124T162837Z
UID:10000576-1738492200-1738497600@www.nuuc.ca
SUMMARY:Sunday Service
DESCRIPTION:  \n 
URL:https://www.nuuc.ca/event/sunday-service-15/
LOCATION:Rafos Hall\, 310 Danforth Ave\, Toronto\, Ontario\, M4K 2X4\, Canada
CATEGORIES:Worship Service
ATTACH;FMTTYPE=image/jpeg:https://www.nuuc.ca/wp-content/uploads/2023/11/Chalice-white-candles-scaled.jpg
END:VEVENT
BEGIN:VEVENT
DTSTART;TZID=America/Toronto:20250201T193000
DTEND;TZID=America/Toronto:20250201T211500
DTSTAMP:20260420T012909
CREATED:20240508T203908Z
LAST-MODIFIED:20240508T203908Z
UID:10000511-1738438200-1738444500@www.nuuc.ca
SUMMARY:Talent Night
DESCRIPTION:Our 18+ years running monthly open mic.  First Saturday of the month Hosted by MC Allison.  All ages and types of performances are welcome
URL:https://www.nuuc.ca/event/talent-night-13/
LOCATION:Rafos Hall\, 310 Danforth Ave\, Toronto\, Ontario\, M4K 2X4\, Canada
CATEGORIES:Music
ATTACH;FMTTYPE=image/jpeg:https://www.nuuc.ca/wp-content/uploads/2023/12/Talent-Night.jpg
END:VEVENT
BEGIN:VEVENT
DTSTART;TZID=America/Toronto:20250201T150000
DTEND;TZID=America/Toronto:20250201T170000
DTSTAMP:20260420T012909
CREATED:20250124T165614Z
LAST-MODIFIED:20250124T165614Z
UID:10000587-1738422000-1738429200@www.nuuc.ca
SUMMARY:Comfort Choir! New members info and rehearsal 
DESCRIPTION:Interested in joining the Comfort Choir?  We sing at bedsides twice a month in Palliative Care at Michael Garron Hospital.  For more info contact our Musical Director \nSusanne for more info  music@nuuc.c
URL:https://www.nuuc.ca/event/comfort-choir-new-members-info-and-rehearsal/
ATTACH;FMTTYPE=image/jpeg:https://www.nuuc.ca/wp-content/uploads/2025/01/music-rainbow-1.jpg
END:VEVENT
BEGIN:VEVENT
DTSTART;TZID=America/Toronto:20250126T120000
DTEND;TZID=America/Toronto:20250126T160000
DTSTAMP:20260420T012909
CREATED:20240124T191221Z
LAST-MODIFIED:20250124T163511Z
UID:10000439-1737892800-1737907200@www.nuuc.ca
SUMMARY:Neighbourhood Annual Budget Meeting
DESCRIPTION:2025 Annual Budget Meeting \nRegistration at 12:00 noon / meeting starts at 12:30 pm. Voting (only Members can vote) will be in-person or by proxy only.  \nThe meeting will be shared on Zoom but there will be no voting via Zoom. \nSend completed proxy forms to: secretary@nuuc.ca
URL:https://www.nuuc.ca/event/neighbourhood-annual-budget-meeting/
CATEGORIES:meeting
ATTACH;FMTTYPE=image/jpeg:https://www.nuuc.ca/wp-content/uploads/2024/01/2025-ABM-scaled.jpg
END:VEVENT
BEGIN:VEVENT
DTSTART;TZID=America/Toronto:20250126T103000
DTEND;TZID=America/Toronto:20250126T120000
DTSTAMP:20260420T012909
CREATED:20250124T162633Z
LAST-MODIFIED:20250124T165222Z
UID:10000575-1737887400-1737892800@www.nuuc.ca
SUMMARY:Sunday Service
DESCRIPTION:  \n 
URL:https://www.nuuc.ca/event/sunday-service-14/
LOCATION:Rafos Hall\, 310 Danforth Ave\, Toronto\, Ontario\, M4K 2X4\, Canada
CATEGORIES:Worship Service
ATTACH;FMTTYPE=image/png:https://www.nuuc.ca/wp-content/uploads/2025/01/judaism-.png
END:VEVENT
BEGIN:VEVENT
DTSTART;TZID=America/Toronto:20250112T150000
DTEND;TZID=America/Toronto:20250112T170000
DTSTAMP:20260420T012909
CREATED:20240624T213941Z
LAST-MODIFIED:20240624T213941Z
UID:10000534-1736694000-1736701200@www.nuuc.ca
SUMMARY:Circle Music workshop
DESCRIPTION:Co-facilitated by Jane Lewis and Susanne Maziarz. \nAll are welcome to this improvised singing circle. \nA creative opportunity for listening\, being in the moment\, sharing your voice\, and laughing! \nContact Susanne at music@nuuc.ca for more info.
URL:https://www.nuuc.ca/event/circle-music-workshop-5/
LOCATION:Rafos Hall\, 310 Danforth Ave\, Toronto\, Ontario\, M4K 2X4\, Canada
CATEGORIES:external sponsored by NUUC,Music
ATTACH;FMTTYPE=image/jpeg:https://www.nuuc.ca/wp-content/uploads/2024/01/Circle-Music-TO-no-dates-e1710073587451.jpeg
END:VEVENT
BEGIN:VEVENT
DTSTART;TZID=America/Toronto:20250111T183000
DTEND;TZID=America/Toronto:20250111T213000
DTSTAMP:20260420T012909
CREATED:20240515T145750Z
LAST-MODIFIED:20240515T145754Z
UID:10000514-1736620200-1736631000@www.nuuc.ca
SUMMARY:Congregational Karaoke Night
DESCRIPTION:
URL:https://www.nuuc.ca/event/congregational-karaoke-night/
CATEGORIES:Music
ATTACH;FMTTYPE=image/jpeg:https://www.nuuc.ca/wp-content/uploads/2023/11/Karaoke-Night.jpeg
END:VEVENT
BEGIN:VEVENT
DTSTART;TZID=America/Toronto:20241230T210000
DTEND;TZID=America/Toronto:20241230T230000
DTSTAMP:20260420T012909
CREATED:20231204T232911Z
LAST-MODIFIED:20231204T232912Z
UID:10000313-1735592400-1735599600@www.nuuc.ca
SUMMARY:Spirit Band Rehearsal
DESCRIPTION:Space is booked for Sprit Band rehearsal – contact Susanne Maziarz  if you wish to join the Spirit Band
URL:https://www.nuuc.ca/event/spirit-band-rehearsal-3/2024-12-30/
CATEGORIES:Rehearsal only
END:VEVENT
BEGIN:VEVENT
DTSTART;TZID=America/Toronto:20241230T190000
DTEND;TZID=America/Toronto:20241230T210000
DTSTAMP:20260420T012909
CREATED:20231204T232520Z
LAST-MODIFIED:20240320T152719Z
UID:10000260-1735585200-1735592400@www.nuuc.ca
SUMMARY:Spirit Choir Rehearsals – every Monday evening
DESCRIPTION:Have you thought of singing in the choir here at Neighbourhood? Weekly Mondays’ rehearsals from  7 – 9pm. \nIf you are interested in joining the choir\, please contact Susanne at music@nuuc.ca .
URL:https://www.nuuc.ca/event/spirit-choir-rehearsals-every-monday-evening/2024-12-30/
LOCATION:Rafos Hall\, 310 Danforth Ave\, Toronto\, Ontario\, M4K 2X4\, Canada
CATEGORIES:Rehearsal only
END:VEVENT
BEGIN:VEVENT
DTSTART;TZID=America/Toronto:20241229T103000
DTEND;TZID=America/Toronto:20241229T120000
DTSTAMP:20260420T012909
CREATED:20240916T165618Z
LAST-MODIFIED:20240916T165618Z
UID:10000558-1735468200-1735473600@www.nuuc.ca
SUMMARY:Sunday Service
DESCRIPTION:  \n 
URL:https://www.nuuc.ca/event/sunday-service-13/
LOCATION:Rafos Hall\, 310 Danforth Ave\, Toronto\, Ontario\, M4K 2X4\, Canada
CATEGORIES:Worship Service
ATTACH;FMTTYPE=image/jpeg:https://www.nuuc.ca/wp-content/uploads/2023/11/Chalice-white-candles-scaled.jpg
END:VEVENT
BEGIN:VEVENT
DTSTART;TZID=America/Toronto:20241228T183000
DTEND;TZID=America/Toronto:20241228T220000
DTSTAMP:20260420T012909
CREATED:20241206T205127Z
LAST-MODIFIED:20241206T205309Z
UID:10000570-1735410600-1735423200@www.nuuc.ca
SUMMARY:MUUVment Service
DESCRIPTION:
URL:https://www.nuuc.ca/event/muuvment-service/
LOCATION:Rafos Hall\, 310 Danforth Ave\, Toronto\, Ontario\, M4K 2X4\, Canada
ATTACH;FMTTYPE=image/jpeg:https://www.nuuc.ca/wp-content/uploads/2024/12/MUUvement-Dec-28-scaled.jpeg
END:VEVENT
BEGIN:VEVENT
DTSTART;TZID=America/Toronto:20241224T170000
DTEND;TZID=America/Toronto:20241224T203000
DTSTAMP:20260420T012909
CREATED:20241206T205618Z
LAST-MODIFIED:20241206T205756Z
UID:10000571-1735059600-1735072200@www.nuuc.ca
SUMMARY:Two Christmas Eve Services
DESCRIPTION:
URL:https://www.nuuc.ca/event/christmas-eve/
CATEGORIES:service
ATTACH;FMTTYPE=image/png:https://www.nuuc.ca/wp-content/uploads/2024/12/Xmas.png
END:VEVENT
BEGIN:VEVENT
DTSTART;TZID=America/Toronto:20241223T210000
DTEND;TZID=America/Toronto:20241223T230000
DTSTAMP:20260420T012909
CREATED:20231204T232911Z
LAST-MODIFIED:20231204T232912Z
UID:10000312-1734987600-1734994800@www.nuuc.ca
SUMMARY:Spirit Band Rehearsal
DESCRIPTION:Space is booked for Sprit Band rehearsal – contact Susanne Maziarz  if you wish to join the Spirit Band
URL:https://www.nuuc.ca/event/spirit-band-rehearsal-3/2024-12-23/
CATEGORIES:Rehearsal only
END:VEVENT
BEGIN:VEVENT
DTSTART;TZID=America/Toronto:20241223T190000
DTEND;TZID=America/Toronto:20241223T210000
DTSTAMP:20260420T012909
CREATED:20231204T232520Z
LAST-MODIFIED:20240320T152719Z
UID:10000259-1734980400-1734987600@www.nuuc.ca
SUMMARY:Spirit Choir Rehearsals – every Monday evening
DESCRIPTION:Have you thought of singing in the choir here at Neighbourhood? Weekly Mondays’ rehearsals from  7 – 9pm. \nIf you are interested in joining the choir\, please contact Susanne at music@nuuc.ca .
URL:https://www.nuuc.ca/event/spirit-choir-rehearsals-every-monday-evening/2024-12-23/
LOCATION:Rafos Hall\, 310 Danforth Ave\, Toronto\, Ontario\, M4K 2X4\, Canada
CATEGORIES:Rehearsal only
END:VEVENT
BEGIN:VEVENT
DTSTART;TZID=America/Toronto:20241222T163000
DTEND;TZID=America/Toronto:20241222T213000
DTSTAMP:20260420T012909
CREATED:20241206T210345Z
LAST-MODIFIED:20241206T210345Z
UID:10000572-1734885000-1734903000@www.nuuc.ca
SUMMARY:Toronto Sacred Circle Dance
DESCRIPTION:
URL:https://www.nuuc.ca/event/toronto-sacred-circle-dance/
CATEGORIES:external sponsored by NUUC
ATTACH;FMTTYPE=image/jpeg:https://www.nuuc.ca/wp-content/uploads/2024/12/2024-SCD-Winter-Solstice-flyer.jpg
END:VEVENT
BEGIN:VEVENT
DTSTART;TZID=America/Toronto:20241222T103000
DTEND;TZID=America/Toronto:20241222T120000
DTSTAMP:20260420T012909
CREATED:20240916T165414Z
LAST-MODIFIED:20240916T165414Z
UID:10000559-1734863400-1734868800@www.nuuc.ca
SUMMARY:Sunday Service
DESCRIPTION:  \n 
URL:https://www.nuuc.ca/event/sunday-service-12/
LOCATION:Rafos Hall\, 310 Danforth Ave\, Toronto\, Ontario\, M4K 2X4\, Canada
CATEGORIES:Worship Service
ATTACH;FMTTYPE=image/jpeg:https://www.nuuc.ca/wp-content/uploads/2023/11/Chalice-white-candles-scaled.jpg
END:VEVENT
BEGIN:VEVENT
DTSTART;TZID=America/Toronto:20241218T193000
DTEND;TZID=America/Toronto:20241218T210000
DTSTAMP:20260420T012909
CREATED:20240916T162546Z
LAST-MODIFIED:20240918T200741Z
UID:10000548-1734550200-1734555600@www.nuuc.ca
SUMMARY:Blue Holiday Service
DESCRIPTION:
URL:https://www.nuuc.ca/event/blue-holiday-service/
CATEGORIES:service
ATTACH;FMTTYPE=image/png:https://www.nuuc.ca/wp-content/uploads/2023/12/Blue-Christmas.png
END:VEVENT
BEGIN:VEVENT
DTSTART;TZID=America/Toronto:20241218T163000
DTEND;TZID=America/Toronto:20241218T183000
DTSTAMP:20260420T012909
CREATED:20240429T220056Z
LAST-MODIFIED:20240429T220056Z
UID:10000499-1734539400-1734546600@www.nuuc.ca
SUMMARY:NUUC Board Meeting
DESCRIPTION:
URL:https://www.nuuc.ca/event/nuuc-board-meeting-4/
CATEGORIES:Board
END:VEVENT
BEGIN:VEVENT
DTSTART;TZID=America/Toronto:20241216T210000
DTEND;TZID=America/Toronto:20241216T230000
DTSTAMP:20260420T012909
CREATED:20231204T232911Z
LAST-MODIFIED:20231204T232912Z
UID:10000311-1734382800-1734390000@www.nuuc.ca
SUMMARY:Spirit Band Rehearsal
DESCRIPTION:Space is booked for Sprit Band rehearsal – contact Susanne Maziarz  if you wish to join the Spirit Band
URL:https://www.nuuc.ca/event/spirit-band-rehearsal-3/2024-12-16/
CATEGORIES:Rehearsal only
END:VEVENT
BEGIN:VEVENT
DTSTART;TZID=America/Toronto:20241216T190000
DTEND;TZID=America/Toronto:20241216T210000
DTSTAMP:20260420T012909
CREATED:20231204T232520Z
LAST-MODIFIED:20240320T152719Z
UID:10000258-1734375600-1734382800@www.nuuc.ca
SUMMARY:Spirit Choir Rehearsals – every Monday evening
DESCRIPTION:Have you thought of singing in the choir here at Neighbourhood? Weekly Mondays’ rehearsals from  7 – 9pm. \nIf you are interested in joining the choir\, please contact Susanne at music@nuuc.ca .
URL:https://www.nuuc.ca/event/spirit-choir-rehearsals-every-monday-evening/2024-12-16/
LOCATION:Rafos Hall\, 310 Danforth Ave\, Toronto\, Ontario\, M4K 2X4\, Canada
CATEGORIES:Rehearsal only
END:VEVENT
END:VCALENDAR