BEGIN:VCALENDAR
VERSION:2.0
PRODID:-//Neighbourhood Unitarian Universalist Congregation - ECPv6.15.20//NONSGML v1.0//EN
CALSCALE:GREGORIAN
METHOD:PUBLISH
X-WR-CALNAME:Neighbourhood Unitarian Universalist Congregation
X-ORIGINAL-URL:https://www.nuuc.ca
X-WR-CALDESC:Events for Neighbourhood Unitarian Universalist Congregation
REFRESH-INTERVAL;VALUE=DURATION:PT1H
X-Robots-Tag:noindex
X-PUBLISHED-TTL:PT1H
BEGIN:VTIMEZONE
TZID:America/Toronto
BEGIN:DAYLIGHT
TZOFFSETFROM:-0500
TZOFFSETTO:-0400
TZNAME:EDT
DTSTART:20270314T070000
END:DAYLIGHT
BEGIN:STANDARD
TZOFFSETFROM:-0400
TZOFFSETTO:-0500
TZNAME:EST
DTSTART:20271107T060000
END:STANDARD
BEGIN:DAYLIGHT
TZOFFSETFROM:-0500
TZOFFSETTO:-0400
TZNAME:EDT
DTSTART:20280312T070000
END:DAYLIGHT
BEGIN:STANDARD
TZOFFSETFROM:-0400
TZOFFSETTO:-0500
TZNAME:EST
DTSTART:20281105T060000
END:STANDARD
BEGIN:DAYLIGHT
TZOFFSETFROM:-0500
TZOFFSETTO:-0400
TZNAME:EDT
DTSTART:20290311T070000
END:DAYLIGHT
BEGIN:STANDARD
TZOFFSETFROM:-0400
TZOFFSETTO:-0500
TZNAME:EST
DTSTART:20291104T060000
END:STANDARD
END:VTIMEZONE
BEGIN:VEVENT
DTSTART;TZID=America/Toronto:20280228T210000
DTEND;TZID=America/Toronto:20280228T230000
DTSTAMP:20260419T225246
CREATED:20250307T172335Z
LAST-MODIFIED:20250307T172335Z
UID:10001341-1835384400-1835391600@www.nuuc.ca
SUMMARY:Spirit Band Rehearsal
DESCRIPTION:
URL:https://www.nuuc.ca/event/spirit-band-rehearsal-4/2028-02-28/
END:VEVENT
BEGIN:VEVENT
DTSTART;TZID=America/Toronto:20280305T103000
DTEND;TZID=America/Toronto:20280305T120000
DTSTAMP:20260419T225246
CREATED:20250207T200538Z
LAST-MODIFIED:20250207T200538Z
UID:10000752-1835865000-1835870400@www.nuuc.ca
SUMMARY:Sunday Service
DESCRIPTION:  \n 
URL:https://www.nuuc.ca/event/sunday-service-19/2028-03-05/
LOCATION:Rafos Hall\, 310 Danforth Ave\, Toronto\, Ontario\, M4K 2X4\, Canada
CATEGORIES:Worship Service
ATTACH;FMTTYPE=image/jpeg:https://www.nuuc.ca/wp-content/uploads/2023/11/Chalice-white-candles-scaled.jpg
END:VEVENT
BEGIN:VEVENT
DTSTART;TZID=America/Toronto:20280306T183000
DTEND;TZID=America/Toronto:20280306T210000
DTSTAMP:20260419T225246
CREATED:20260211T163230Z
LAST-MODIFIED:20260211T163230Z
UID:10001891-1835980200-1835989200@www.nuuc.ca
SUMMARY:Spirit Choir Rehearsal
DESCRIPTION:
URL:https://www.nuuc.ca/event/spirit-choir-rehearsal-5/2028-03-06/
CATEGORIES:Rehearsal only
ATTACH;FMTTYPE=image/jpeg:https://www.nuuc.ca/wp-content/uploads/2025/01/music-rainbow-1.jpg
END:VEVENT
BEGIN:VEVENT
DTSTART;TZID=America/Toronto:20280306T210000
DTEND;TZID=America/Toronto:20280306T230000
DTSTAMP:20260419T225246
CREATED:20250307T172335Z
LAST-MODIFIED:20250307T172335Z
UID:10001342-1835989200-1835996400@www.nuuc.ca
SUMMARY:Spirit Band Rehearsal
DESCRIPTION:
URL:https://www.nuuc.ca/event/spirit-band-rehearsal-4/2028-03-06/
END:VEVENT
BEGIN:VEVENT
DTSTART;TZID=America/Toronto:20280312T103000
DTEND;TZID=America/Toronto:20280312T120000
DTSTAMP:20260419T225246
CREATED:20250207T200538Z
LAST-MODIFIED:20250207T200538Z
UID:10000753-1836469800-1836475200@www.nuuc.ca
SUMMARY:Sunday Service
DESCRIPTION:  \n 
URL:https://www.nuuc.ca/event/sunday-service-19/2028-03-12/
LOCATION:Rafos Hall\, 310 Danforth Ave\, Toronto\, Ontario\, M4K 2X4\, Canada
CATEGORIES:Worship Service
ATTACH;FMTTYPE=image/jpeg:https://www.nuuc.ca/wp-content/uploads/2023/11/Chalice-white-candles-scaled.jpg
END:VEVENT
BEGIN:VEVENT
DTSTART;TZID=America/Toronto:20280313T183000
DTEND;TZID=America/Toronto:20280313T210000
DTSTAMP:20260419T225246
CREATED:20260211T163230Z
LAST-MODIFIED:20260211T163230Z
UID:10001892-1836585000-1836594000@www.nuuc.ca
SUMMARY:Spirit Choir Rehearsal
DESCRIPTION:
URL:https://www.nuuc.ca/event/spirit-choir-rehearsal-5/2028-03-13/
CATEGORIES:Rehearsal only
ATTACH;FMTTYPE=image/jpeg:https://www.nuuc.ca/wp-content/uploads/2025/01/music-rainbow-1.jpg
END:VEVENT
BEGIN:VEVENT
DTSTART;TZID=America/Toronto:20280313T210000
DTEND;TZID=America/Toronto:20280313T230000
DTSTAMP:20260419T225246
CREATED:20250307T172335Z
LAST-MODIFIED:20250307T172335Z
UID:10001343-1836594000-1836601200@www.nuuc.ca
SUMMARY:Spirit Band Rehearsal
DESCRIPTION:
URL:https://www.nuuc.ca/event/spirit-band-rehearsal-4/2028-03-13/
END:VEVENT
BEGIN:VEVENT
DTSTART;TZID=America/Toronto:20280319T103000
DTEND;TZID=America/Toronto:20280319T120000
DTSTAMP:20260419T225246
CREATED:20250207T200538Z
LAST-MODIFIED:20250207T200538Z
UID:10000754-1837074600-1837080000@www.nuuc.ca
SUMMARY:Sunday Service
DESCRIPTION:  \n 
URL:https://www.nuuc.ca/event/sunday-service-19/2028-03-19/
LOCATION:Rafos Hall\, 310 Danforth Ave\, Toronto\, Ontario\, M4K 2X4\, Canada
CATEGORIES:Worship Service
ATTACH;FMTTYPE=image/jpeg:https://www.nuuc.ca/wp-content/uploads/2023/11/Chalice-white-candles-scaled.jpg
END:VEVENT
BEGIN:VEVENT
DTSTART;TZID=America/Toronto:20280320T183000
DTEND;TZID=America/Toronto:20280320T210000
DTSTAMP:20260419T225246
CREATED:20260211T163230Z
LAST-MODIFIED:20260211T163230Z
UID:10001893-1837189800-1837198800@www.nuuc.ca
SUMMARY:Spirit Choir Rehearsal
DESCRIPTION:
URL:https://www.nuuc.ca/event/spirit-choir-rehearsal-5/2028-03-20/
CATEGORIES:Rehearsal only
ATTACH;FMTTYPE=image/jpeg:https://www.nuuc.ca/wp-content/uploads/2025/01/music-rainbow-1.jpg
END:VEVENT
BEGIN:VEVENT
DTSTART;TZID=America/Toronto:20280320T210000
DTEND;TZID=America/Toronto:20280320T230000
DTSTAMP:20260419T225246
CREATED:20250307T172335Z
LAST-MODIFIED:20250307T172335Z
UID:10001344-1837198800-1837206000@www.nuuc.ca
SUMMARY:Spirit Band Rehearsal
DESCRIPTION:
URL:https://www.nuuc.ca/event/spirit-band-rehearsal-4/2028-03-20/
END:VEVENT
BEGIN:VEVENT
DTSTART;TZID=America/Toronto:20280326T103000
DTEND;TZID=America/Toronto:20280326T120000
DTSTAMP:20260419T225246
CREATED:20250207T200538Z
LAST-MODIFIED:20250207T200538Z
UID:10000755-1837679400-1837684800@www.nuuc.ca
SUMMARY:Sunday Service
DESCRIPTION:  \n 
URL:https://www.nuuc.ca/event/sunday-service-19/2028-03-26/
LOCATION:Rafos Hall\, 310 Danforth Ave\, Toronto\, Ontario\, M4K 2X4\, Canada
CATEGORIES:Worship Service
ATTACH;FMTTYPE=image/jpeg:https://www.nuuc.ca/wp-content/uploads/2023/11/Chalice-white-candles-scaled.jpg
END:VEVENT
BEGIN:VEVENT
DTSTART;TZID=America/Toronto:20280327T183000
DTEND;TZID=America/Toronto:20280327T210000
DTSTAMP:20260419T225246
CREATED:20260211T163230Z
LAST-MODIFIED:20260211T163230Z
UID:10001894-1837794600-1837803600@www.nuuc.ca
SUMMARY:Spirit Choir Rehearsal
DESCRIPTION:
URL:https://www.nuuc.ca/event/spirit-choir-rehearsal-5/2028-03-27/
CATEGORIES:Rehearsal only
ATTACH;FMTTYPE=image/jpeg:https://www.nuuc.ca/wp-content/uploads/2025/01/music-rainbow-1.jpg
END:VEVENT
BEGIN:VEVENT
DTSTART;TZID=America/Toronto:20280327T210000
DTEND;TZID=America/Toronto:20280327T230000
DTSTAMP:20260419T225246
CREATED:20250307T172335Z
LAST-MODIFIED:20250307T172335Z
UID:10001345-1837803600-1837810800@www.nuuc.ca
SUMMARY:Spirit Band Rehearsal
DESCRIPTION:
URL:https://www.nuuc.ca/event/spirit-band-rehearsal-4/2028-03-27/
END:VEVENT
BEGIN:VEVENT
DTSTART;TZID=America/Toronto:20280402T103000
DTEND;TZID=America/Toronto:20280402T120000
DTSTAMP:20260419T225246
CREATED:20250207T200538Z
LAST-MODIFIED:20250207T200538Z
UID:10000756-1838284200-1838289600@www.nuuc.ca
SUMMARY:Sunday Service
DESCRIPTION:  \n 
URL:https://www.nuuc.ca/event/sunday-service-19/2028-04-02/
LOCATION:Rafos Hall\, 310 Danforth Ave\, Toronto\, Ontario\, M4K 2X4\, Canada
CATEGORIES:Worship Service
ATTACH;FMTTYPE=image/jpeg:https://www.nuuc.ca/wp-content/uploads/2023/11/Chalice-white-candles-scaled.jpg
END:VEVENT
BEGIN:VEVENT
DTSTART;TZID=America/Toronto:20280403T183000
DTEND;TZID=America/Toronto:20280403T210000
DTSTAMP:20260419T225246
CREATED:20260211T163230Z
LAST-MODIFIED:20260211T163230Z
UID:10001895-1838399400-1838408400@www.nuuc.ca
SUMMARY:Spirit Choir Rehearsal
DESCRIPTION:
URL:https://www.nuuc.ca/event/spirit-choir-rehearsal-5/2028-04-03/
CATEGORIES:Rehearsal only
ATTACH;FMTTYPE=image/jpeg:https://www.nuuc.ca/wp-content/uploads/2025/01/music-rainbow-1.jpg
END:VEVENT
BEGIN:VEVENT
DTSTART;TZID=America/Toronto:20280403T210000
DTEND;TZID=America/Toronto:20280403T230000
DTSTAMP:20260419T225246
CREATED:20250307T172335Z
LAST-MODIFIED:20250307T172335Z
UID:10001346-1838408400-1838415600@www.nuuc.ca
SUMMARY:Spirit Band Rehearsal
DESCRIPTION:
URL:https://www.nuuc.ca/event/spirit-band-rehearsal-4/2028-04-03/
END:VEVENT
BEGIN:VEVENT
DTSTART;TZID=America/Toronto:20280409T103000
DTEND;TZID=America/Toronto:20280409T120000
DTSTAMP:20260419T225246
CREATED:20250207T200538Z
LAST-MODIFIED:20250207T200538Z
UID:10000757-1838889000-1838894400@www.nuuc.ca
SUMMARY:Sunday Service
DESCRIPTION:  \n 
URL:https://www.nuuc.ca/event/sunday-service-19/2028-04-09/
LOCATION:Rafos Hall\, 310 Danforth Ave\, Toronto\, Ontario\, M4K 2X4\, Canada
CATEGORIES:Worship Service
ATTACH;FMTTYPE=image/jpeg:https://www.nuuc.ca/wp-content/uploads/2023/11/Chalice-white-candles-scaled.jpg
END:VEVENT
BEGIN:VEVENT
DTSTART;TZID=America/Toronto:20280410T183000
DTEND;TZID=America/Toronto:20280410T210000
DTSTAMP:20260419T225246
CREATED:20260211T163230Z
LAST-MODIFIED:20260211T163230Z
UID:10001896-1839004200-1839013200@www.nuuc.ca
SUMMARY:Spirit Choir Rehearsal
DESCRIPTION:
URL:https://www.nuuc.ca/event/spirit-choir-rehearsal-5/2028-04-10/
CATEGORIES:Rehearsal only
ATTACH;FMTTYPE=image/jpeg:https://www.nuuc.ca/wp-content/uploads/2025/01/music-rainbow-1.jpg
END:VEVENT
BEGIN:VEVENT
DTSTART;TZID=America/Toronto:20280410T210000
DTEND;TZID=America/Toronto:20280410T230000
DTSTAMP:20260419T225246
CREATED:20250307T172335Z
LAST-MODIFIED:20250307T172335Z
UID:10001347-1839013200-1839020400@www.nuuc.ca
SUMMARY:Spirit Band Rehearsal
DESCRIPTION:
URL:https://www.nuuc.ca/event/spirit-band-rehearsal-4/2028-04-10/
END:VEVENT
BEGIN:VEVENT
DTSTART;TZID=America/Toronto:20280416T103000
DTEND;TZID=America/Toronto:20280416T120000
DTSTAMP:20260419T225246
CREATED:20250207T200538Z
LAST-MODIFIED:20250207T200538Z
UID:10000758-1839493800-1839499200@www.nuuc.ca
SUMMARY:Sunday Service
DESCRIPTION:  \n 
URL:https://www.nuuc.ca/event/sunday-service-19/2028-04-16/
LOCATION:Rafos Hall\, 310 Danforth Ave\, Toronto\, Ontario\, M4K 2X4\, Canada
CATEGORIES:Worship Service
ATTACH;FMTTYPE=image/jpeg:https://www.nuuc.ca/wp-content/uploads/2023/11/Chalice-white-candles-scaled.jpg
END:VEVENT
BEGIN:VEVENT
DTSTART;TZID=America/Toronto:20280417T183000
DTEND;TZID=America/Toronto:20280417T210000
DTSTAMP:20260419T225246
CREATED:20260211T163230Z
LAST-MODIFIED:20260211T163230Z
UID:10001897-1839609000-1839618000@www.nuuc.ca
SUMMARY:Spirit Choir Rehearsal
DESCRIPTION:
URL:https://www.nuuc.ca/event/spirit-choir-rehearsal-5/2028-04-17/
CATEGORIES:Rehearsal only
ATTACH;FMTTYPE=image/jpeg:https://www.nuuc.ca/wp-content/uploads/2025/01/music-rainbow-1.jpg
END:VEVENT
BEGIN:VEVENT
DTSTART;TZID=America/Toronto:20280417T210000
DTEND;TZID=America/Toronto:20280417T230000
DTSTAMP:20260419T225246
CREATED:20250307T172335Z
LAST-MODIFIED:20250307T172335Z
UID:10001348-1839618000-1839625200@www.nuuc.ca
SUMMARY:Spirit Band Rehearsal
DESCRIPTION:
URL:https://www.nuuc.ca/event/spirit-band-rehearsal-4/2028-04-17/
END:VEVENT
BEGIN:VEVENT
DTSTART;TZID=America/Toronto:20280423T103000
DTEND;TZID=America/Toronto:20280423T120000
DTSTAMP:20260419T225246
CREATED:20250207T200538Z
LAST-MODIFIED:20250207T200538Z
UID:10000759-1840098600-1840104000@www.nuuc.ca
SUMMARY:Sunday Service
DESCRIPTION:  \n 
URL:https://www.nuuc.ca/event/sunday-service-19/2028-04-23/
LOCATION:Rafos Hall\, 310 Danforth Ave\, Toronto\, Ontario\, M4K 2X4\, Canada
CATEGORIES:Worship Service
ATTACH;FMTTYPE=image/jpeg:https://www.nuuc.ca/wp-content/uploads/2023/11/Chalice-white-candles-scaled.jpg
END:VEVENT
BEGIN:VEVENT
DTSTART;TZID=America/Toronto:20280424T183000
DTEND;TZID=America/Toronto:20280424T210000
DTSTAMP:20260419T225246
CREATED:20260211T163230Z
LAST-MODIFIED:20260211T163230Z
UID:10001898-1840213800-1840222800@www.nuuc.ca
SUMMARY:Spirit Choir Rehearsal
DESCRIPTION:
URL:https://www.nuuc.ca/event/spirit-choir-rehearsal-5/2028-04-24/
CATEGORIES:Rehearsal only
ATTACH;FMTTYPE=image/jpeg:https://www.nuuc.ca/wp-content/uploads/2025/01/music-rainbow-1.jpg
END:VEVENT
BEGIN:VEVENT
DTSTART;TZID=America/Toronto:20280424T210000
DTEND;TZID=America/Toronto:20280424T230000
DTSTAMP:20260419T225246
CREATED:20250307T172335Z
LAST-MODIFIED:20250307T172335Z
UID:10001349-1840222800-1840230000@www.nuuc.ca
SUMMARY:Spirit Band Rehearsal
DESCRIPTION:
URL:https://www.nuuc.ca/event/spirit-band-rehearsal-4/2028-04-24/
END:VEVENT
BEGIN:VEVENT
DTSTART;TZID=America/Toronto:20280430T103000
DTEND;TZID=America/Toronto:20280430T120000
DTSTAMP:20260419T225246
CREATED:20250207T200538Z
LAST-MODIFIED:20250207T200538Z
UID:10000760-1840703400-1840708800@www.nuuc.ca
SUMMARY:Sunday Service
DESCRIPTION:  \n 
URL:https://www.nuuc.ca/event/sunday-service-19/2028-04-30/
LOCATION:Rafos Hall\, 310 Danforth Ave\, Toronto\, Ontario\, M4K 2X4\, Canada
CATEGORIES:Worship Service
ATTACH;FMTTYPE=image/jpeg:https://www.nuuc.ca/wp-content/uploads/2023/11/Chalice-white-candles-scaled.jpg
END:VEVENT
BEGIN:VEVENT
DTSTART;TZID=America/Toronto:20280501T183000
DTEND;TZID=America/Toronto:20280501T210000
DTSTAMP:20260419T225246
CREATED:20260211T163230Z
LAST-MODIFIED:20260211T163230Z
UID:10001899-1840818600-1840827600@www.nuuc.ca
SUMMARY:Spirit Choir Rehearsal
DESCRIPTION:
URL:https://www.nuuc.ca/event/spirit-choir-rehearsal-5/2028-05-01/
CATEGORIES:Rehearsal only
ATTACH;FMTTYPE=image/jpeg:https://www.nuuc.ca/wp-content/uploads/2025/01/music-rainbow-1.jpg
END:VEVENT
BEGIN:VEVENT
DTSTART;TZID=America/Toronto:20280501T210000
DTEND;TZID=America/Toronto:20280501T230000
DTSTAMP:20260419T225246
CREATED:20250307T172335Z
LAST-MODIFIED:20250307T172335Z
UID:10001350-1840827600-1840834800@www.nuuc.ca
SUMMARY:Spirit Band Rehearsal
DESCRIPTION:
URL:https://www.nuuc.ca/event/spirit-band-rehearsal-4/2028-05-01/
END:VEVENT
BEGIN:VEVENT
DTSTART;TZID=America/Toronto:20280507T103000
DTEND;TZID=America/Toronto:20280507T120000
DTSTAMP:20260419T225246
CREATED:20250207T200538Z
LAST-MODIFIED:20250207T200538Z
UID:10000761-1841308200-1841313600@www.nuuc.ca
SUMMARY:Sunday Service
DESCRIPTION:  \n 
URL:https://www.nuuc.ca/event/sunday-service-19/2028-05-07/
LOCATION:Rafos Hall\, 310 Danforth Ave\, Toronto\, Ontario\, M4K 2X4\, Canada
CATEGORIES:Worship Service
ATTACH;FMTTYPE=image/jpeg:https://www.nuuc.ca/wp-content/uploads/2023/11/Chalice-white-candles-scaled.jpg
END:VEVENT
BEGIN:VEVENT
DTSTART;TZID=America/Toronto:20280508T183000
DTEND;TZID=America/Toronto:20280508T210000
DTSTAMP:20260419T225246
CREATED:20260211T163230Z
LAST-MODIFIED:20260211T163230Z
UID:10001900-1841423400-1841432400@www.nuuc.ca
SUMMARY:Spirit Choir Rehearsal
DESCRIPTION:
URL:https://www.nuuc.ca/event/spirit-choir-rehearsal-5/2028-05-08/
CATEGORIES:Rehearsal only
ATTACH;FMTTYPE=image/jpeg:https://www.nuuc.ca/wp-content/uploads/2025/01/music-rainbow-1.jpg
END:VEVENT
END:VCALENDAR