BEGIN:VCALENDAR
VERSION:2.0
PRODID:-//Neighbourhood Unitarian Universalist Congregation - ECPv6.15.20//NONSGML v1.0//EN
CALSCALE:GREGORIAN
METHOD:PUBLISH
X-WR-CALNAME:Neighbourhood Unitarian Universalist Congregation
X-ORIGINAL-URL:https://www.nuuc.ca
X-WR-CALDESC:Events for Neighbourhood Unitarian Universalist Congregation
REFRESH-INTERVAL;VALUE=DURATION:PT1H
X-Robots-Tag:noindex
X-PUBLISHED-TTL:PT1H
BEGIN:VTIMEZONE
TZID:America/Toronto
BEGIN:DAYLIGHT
TZOFFSETFROM:-0500
TZOFFSETTO:-0400
TZNAME:EDT
DTSTART:20270314T070000
END:DAYLIGHT
BEGIN:STANDARD
TZOFFSETFROM:-0400
TZOFFSETTO:-0500
TZNAME:EST
DTSTART:20271107T060000
END:STANDARD
BEGIN:DAYLIGHT
TZOFFSETFROM:-0500
TZOFFSETTO:-0400
TZNAME:EDT
DTSTART:20280312T070000
END:DAYLIGHT
BEGIN:STANDARD
TZOFFSETFROM:-0400
TZOFFSETTO:-0500
TZNAME:EST
DTSTART:20281105T060000
END:STANDARD
BEGIN:DAYLIGHT
TZOFFSETFROM:-0500
TZOFFSETTO:-0400
TZNAME:EDT
DTSTART:20290311T070000
END:DAYLIGHT
BEGIN:STANDARD
TZOFFSETFROM:-0400
TZOFFSETTO:-0500
TZNAME:EST
DTSTART:20291104T060000
END:STANDARD
END:VTIMEZONE
BEGIN:VEVENT
DTSTART;TZID=America/Toronto:20280110T210000
DTEND;TZID=America/Toronto:20280110T230000
DTSTAMP:20260419T215004
CREATED:20250307T172335Z
LAST-MODIFIED:20250307T172335Z
UID:10001334-1831150800-1831158000@www.nuuc.ca
SUMMARY:Spirit Band Rehearsal
DESCRIPTION:
URL:https://www.nuuc.ca/event/spirit-band-rehearsal-4/2028-01-10/
END:VEVENT
BEGIN:VEVENT
DTSTART;TZID=America/Toronto:20280116T103000
DTEND;TZID=America/Toronto:20280116T120000
DTSTAMP:20260419T215004
CREATED:20250207T200538Z
LAST-MODIFIED:20250207T200538Z
UID:10000745-1831631400-1831636800@www.nuuc.ca
SUMMARY:Sunday Service
DESCRIPTION:  \n 
URL:https://www.nuuc.ca/event/sunday-service-19/2028-01-16/
LOCATION:Rafos Hall\, 310 Danforth Ave\, Toronto\, Ontario\, M4K 2X4\, Canada
CATEGORIES:Worship Service
ATTACH;FMTTYPE=image/jpeg:https://www.nuuc.ca/wp-content/uploads/2023/11/Chalice-white-candles-scaled.jpg
END:VEVENT
BEGIN:VEVENT
DTSTART;TZID=America/Toronto:20280117T183000
DTEND;TZID=America/Toronto:20280117T210000
DTSTAMP:20260419T215004
CREATED:20260211T163230Z
LAST-MODIFIED:20260211T163230Z
UID:10001884-1831746600-1831755600@www.nuuc.ca
SUMMARY:Spirit Choir Rehearsal
DESCRIPTION:
URL:https://www.nuuc.ca/event/spirit-choir-rehearsal-5/2028-01-17/
CATEGORIES:Rehearsal only
ATTACH;FMTTYPE=image/jpeg:https://www.nuuc.ca/wp-content/uploads/2025/01/music-rainbow-1.jpg
END:VEVENT
BEGIN:VEVENT
DTSTART;TZID=America/Toronto:20280117T210000
DTEND;TZID=America/Toronto:20280117T230000
DTSTAMP:20260419T215004
CREATED:20250307T172335Z
LAST-MODIFIED:20250307T172335Z
UID:10001335-1831755600-1831762800@www.nuuc.ca
SUMMARY:Spirit Band Rehearsal
DESCRIPTION:
URL:https://www.nuuc.ca/event/spirit-band-rehearsal-4/2028-01-17/
END:VEVENT
BEGIN:VEVENT
DTSTART;TZID=America/Toronto:20280123T103000
DTEND;TZID=America/Toronto:20280123T120000
DTSTAMP:20260419T215004
CREATED:20250207T200538Z
LAST-MODIFIED:20250207T200538Z
UID:10000746-1832236200-1832241600@www.nuuc.ca
SUMMARY:Sunday Service
DESCRIPTION:  \n 
URL:https://www.nuuc.ca/event/sunday-service-19/2028-01-23/
LOCATION:Rafos Hall\, 310 Danforth Ave\, Toronto\, Ontario\, M4K 2X4\, Canada
CATEGORIES:Worship Service
ATTACH;FMTTYPE=image/jpeg:https://www.nuuc.ca/wp-content/uploads/2023/11/Chalice-white-candles-scaled.jpg
END:VEVENT
BEGIN:VEVENT
DTSTART;TZID=America/Toronto:20280124T183000
DTEND;TZID=America/Toronto:20280124T210000
DTSTAMP:20260419T215004
CREATED:20260211T163230Z
LAST-MODIFIED:20260211T163230Z
UID:10001885-1832351400-1832360400@www.nuuc.ca
SUMMARY:Spirit Choir Rehearsal
DESCRIPTION:
URL:https://www.nuuc.ca/event/spirit-choir-rehearsal-5/2028-01-24/
CATEGORIES:Rehearsal only
ATTACH;FMTTYPE=image/jpeg:https://www.nuuc.ca/wp-content/uploads/2025/01/music-rainbow-1.jpg
END:VEVENT
BEGIN:VEVENT
DTSTART;TZID=America/Toronto:20280124T210000
DTEND;TZID=America/Toronto:20280124T230000
DTSTAMP:20260419T215004
CREATED:20250307T172335Z
LAST-MODIFIED:20250307T172335Z
UID:10001336-1832360400-1832367600@www.nuuc.ca
SUMMARY:Spirit Band Rehearsal
DESCRIPTION:
URL:https://www.nuuc.ca/event/spirit-band-rehearsal-4/2028-01-24/
END:VEVENT
BEGIN:VEVENT
DTSTART;TZID=America/Toronto:20280130T103000
DTEND;TZID=America/Toronto:20280130T120000
DTSTAMP:20260419T215004
CREATED:20250207T200538Z
LAST-MODIFIED:20250207T200538Z
UID:10000747-1832841000-1832846400@www.nuuc.ca
SUMMARY:Sunday Service
DESCRIPTION:  \n 
URL:https://www.nuuc.ca/event/sunday-service-19/2028-01-30/
LOCATION:Rafos Hall\, 310 Danforth Ave\, Toronto\, Ontario\, M4K 2X4\, Canada
CATEGORIES:Worship Service
ATTACH;FMTTYPE=image/jpeg:https://www.nuuc.ca/wp-content/uploads/2023/11/Chalice-white-candles-scaled.jpg
END:VEVENT
BEGIN:VEVENT
DTSTART;TZID=America/Toronto:20280131T183000
DTEND;TZID=America/Toronto:20280131T210000
DTSTAMP:20260419T215004
CREATED:20260211T163230Z
LAST-MODIFIED:20260211T163230Z
UID:10001886-1832956200-1832965200@www.nuuc.ca
SUMMARY:Spirit Choir Rehearsal
DESCRIPTION:
URL:https://www.nuuc.ca/event/spirit-choir-rehearsal-5/2028-01-31/
CATEGORIES:Rehearsal only
ATTACH;FMTTYPE=image/jpeg:https://www.nuuc.ca/wp-content/uploads/2025/01/music-rainbow-1.jpg
END:VEVENT
BEGIN:VEVENT
DTSTART;TZID=America/Toronto:20280131T210000
DTEND;TZID=America/Toronto:20280131T230000
DTSTAMP:20260419T215004
CREATED:20250307T172335Z
LAST-MODIFIED:20250307T172335Z
UID:10001337-1832965200-1832972400@www.nuuc.ca
SUMMARY:Spirit Band Rehearsal
DESCRIPTION:
URL:https://www.nuuc.ca/event/spirit-band-rehearsal-4/2028-01-31/
END:VEVENT
BEGIN:VEVENT
DTSTART;TZID=America/Toronto:20280206T103000
DTEND;TZID=America/Toronto:20280206T120000
DTSTAMP:20260419T215004
CREATED:20250207T200538Z
LAST-MODIFIED:20250207T200538Z
UID:10000748-1833445800-1833451200@www.nuuc.ca
SUMMARY:Sunday Service
DESCRIPTION:  \n 
URL:https://www.nuuc.ca/event/sunday-service-19/2028-02-06/
LOCATION:Rafos Hall\, 310 Danforth Ave\, Toronto\, Ontario\, M4K 2X4\, Canada
CATEGORIES:Worship Service
ATTACH;FMTTYPE=image/jpeg:https://www.nuuc.ca/wp-content/uploads/2023/11/Chalice-white-candles-scaled.jpg
END:VEVENT
BEGIN:VEVENT
DTSTART;TZID=America/Toronto:20280207T183000
DTEND;TZID=America/Toronto:20280207T210000
DTSTAMP:20260419T215004
CREATED:20260211T163230Z
LAST-MODIFIED:20260211T163230Z
UID:10001887-1833561000-1833570000@www.nuuc.ca
SUMMARY:Spirit Choir Rehearsal
DESCRIPTION:
URL:https://www.nuuc.ca/event/spirit-choir-rehearsal-5/2028-02-07/
CATEGORIES:Rehearsal only
ATTACH;FMTTYPE=image/jpeg:https://www.nuuc.ca/wp-content/uploads/2025/01/music-rainbow-1.jpg
END:VEVENT
BEGIN:VEVENT
DTSTART;TZID=America/Toronto:20280207T210000
DTEND;TZID=America/Toronto:20280207T230000
DTSTAMP:20260419T215004
CREATED:20250307T172335Z
LAST-MODIFIED:20250307T172335Z
UID:10001338-1833570000-1833577200@www.nuuc.ca
SUMMARY:Spirit Band Rehearsal
DESCRIPTION:
URL:https://www.nuuc.ca/event/spirit-band-rehearsal-4/2028-02-07/
END:VEVENT
BEGIN:VEVENT
DTSTART;TZID=America/Toronto:20280213T103000
DTEND;TZID=America/Toronto:20280213T120000
DTSTAMP:20260419T215004
CREATED:20250207T200538Z
LAST-MODIFIED:20250207T200538Z
UID:10000749-1834050600-1834056000@www.nuuc.ca
SUMMARY:Sunday Service
DESCRIPTION:  \n 
URL:https://www.nuuc.ca/event/sunday-service-19/2028-02-13/
LOCATION:Rafos Hall\, 310 Danforth Ave\, Toronto\, Ontario\, M4K 2X4\, Canada
CATEGORIES:Worship Service
ATTACH;FMTTYPE=image/jpeg:https://www.nuuc.ca/wp-content/uploads/2023/11/Chalice-white-candles-scaled.jpg
END:VEVENT
BEGIN:VEVENT
DTSTART;TZID=America/Toronto:20280214T183000
DTEND;TZID=America/Toronto:20280214T210000
DTSTAMP:20260419T215004
CREATED:20260211T163230Z
LAST-MODIFIED:20260211T163230Z
UID:10001888-1834165800-1834174800@www.nuuc.ca
SUMMARY:Spirit Choir Rehearsal
DESCRIPTION:
URL:https://www.nuuc.ca/event/spirit-choir-rehearsal-5/2028-02-14/
CATEGORIES:Rehearsal only
ATTACH;FMTTYPE=image/jpeg:https://www.nuuc.ca/wp-content/uploads/2025/01/music-rainbow-1.jpg
END:VEVENT
BEGIN:VEVENT
DTSTART;TZID=America/Toronto:20280214T210000
DTEND;TZID=America/Toronto:20280214T230000
DTSTAMP:20260419T215004
CREATED:20250307T172335Z
LAST-MODIFIED:20250307T172335Z
UID:10001339-1834174800-1834182000@www.nuuc.ca
SUMMARY:Spirit Band Rehearsal
DESCRIPTION:
URL:https://www.nuuc.ca/event/spirit-band-rehearsal-4/2028-02-14/
END:VEVENT
BEGIN:VEVENT
DTSTART;TZID=America/Toronto:20280220T103000
DTEND;TZID=America/Toronto:20280220T120000
DTSTAMP:20260419T215004
CREATED:20250207T200538Z
LAST-MODIFIED:20250207T200538Z
UID:10000750-1834655400-1834660800@www.nuuc.ca
SUMMARY:Sunday Service
DESCRIPTION:  \n 
URL:https://www.nuuc.ca/event/sunday-service-19/2028-02-20/
LOCATION:Rafos Hall\, 310 Danforth Ave\, Toronto\, Ontario\, M4K 2X4\, Canada
CATEGORIES:Worship Service
ATTACH;FMTTYPE=image/jpeg:https://www.nuuc.ca/wp-content/uploads/2023/11/Chalice-white-candles-scaled.jpg
END:VEVENT
BEGIN:VEVENT
DTSTART;TZID=America/Toronto:20280221T183000
DTEND;TZID=America/Toronto:20280221T210000
DTSTAMP:20260419T215004
CREATED:20260211T163230Z
LAST-MODIFIED:20260211T163230Z
UID:10001889-1834770600-1834779600@www.nuuc.ca
SUMMARY:Spirit Choir Rehearsal
DESCRIPTION:
URL:https://www.nuuc.ca/event/spirit-choir-rehearsal-5/2028-02-21/
CATEGORIES:Rehearsal only
ATTACH;FMTTYPE=image/jpeg:https://www.nuuc.ca/wp-content/uploads/2025/01/music-rainbow-1.jpg
END:VEVENT
BEGIN:VEVENT
DTSTART;TZID=America/Toronto:20280221T210000
DTEND;TZID=America/Toronto:20280221T230000
DTSTAMP:20260419T215004
CREATED:20250307T172335Z
LAST-MODIFIED:20250307T172335Z
UID:10001340-1834779600-1834786800@www.nuuc.ca
SUMMARY:Spirit Band Rehearsal
DESCRIPTION:
URL:https://www.nuuc.ca/event/spirit-band-rehearsal-4/2028-02-21/
END:VEVENT
BEGIN:VEVENT
DTSTART;TZID=America/Toronto:20280227T103000
DTEND;TZID=America/Toronto:20280227T120000
DTSTAMP:20260419T215004
CREATED:20250207T200538Z
LAST-MODIFIED:20250207T200538Z
UID:10000751-1835260200-1835265600@www.nuuc.ca
SUMMARY:Sunday Service
DESCRIPTION:  \n 
URL:https://www.nuuc.ca/event/sunday-service-19/2028-02-27/
LOCATION:Rafos Hall\, 310 Danforth Ave\, Toronto\, Ontario\, M4K 2X4\, Canada
CATEGORIES:Worship Service
ATTACH;FMTTYPE=image/jpeg:https://www.nuuc.ca/wp-content/uploads/2023/11/Chalice-white-candles-scaled.jpg
END:VEVENT
BEGIN:VEVENT
DTSTART;TZID=America/Toronto:20280228T183000
DTEND;TZID=America/Toronto:20280228T210000
DTSTAMP:20260419T215004
CREATED:20260211T163230Z
LAST-MODIFIED:20260211T163230Z
UID:10001890-1835375400-1835384400@www.nuuc.ca
SUMMARY:Spirit Choir Rehearsal
DESCRIPTION:
URL:https://www.nuuc.ca/event/spirit-choir-rehearsal-5/2028-02-28/
CATEGORIES:Rehearsal only
ATTACH;FMTTYPE=image/jpeg:https://www.nuuc.ca/wp-content/uploads/2025/01/music-rainbow-1.jpg
END:VEVENT
BEGIN:VEVENT
DTSTART;TZID=America/Toronto:20280228T210000
DTEND;TZID=America/Toronto:20280228T230000
DTSTAMP:20260419T215004
CREATED:20250307T172335Z
LAST-MODIFIED:20250307T172335Z
UID:10001341-1835384400-1835391600@www.nuuc.ca
SUMMARY:Spirit Band Rehearsal
DESCRIPTION:
URL:https://www.nuuc.ca/event/spirit-band-rehearsal-4/2028-02-28/
END:VEVENT
BEGIN:VEVENT
DTSTART;TZID=America/Toronto:20280305T103000
DTEND;TZID=America/Toronto:20280305T120000
DTSTAMP:20260419T215004
CREATED:20250207T200538Z
LAST-MODIFIED:20250207T200538Z
UID:10000752-1835865000-1835870400@www.nuuc.ca
SUMMARY:Sunday Service
DESCRIPTION:  \n 
URL:https://www.nuuc.ca/event/sunday-service-19/2028-03-05/
LOCATION:Rafos Hall\, 310 Danforth Ave\, Toronto\, Ontario\, M4K 2X4\, Canada
CATEGORIES:Worship Service
ATTACH;FMTTYPE=image/jpeg:https://www.nuuc.ca/wp-content/uploads/2023/11/Chalice-white-candles-scaled.jpg
END:VEVENT
BEGIN:VEVENT
DTSTART;TZID=America/Toronto:20280306T183000
DTEND;TZID=America/Toronto:20280306T210000
DTSTAMP:20260419T215004
CREATED:20260211T163230Z
LAST-MODIFIED:20260211T163230Z
UID:10001891-1835980200-1835989200@www.nuuc.ca
SUMMARY:Spirit Choir Rehearsal
DESCRIPTION:
URL:https://www.nuuc.ca/event/spirit-choir-rehearsal-5/2028-03-06/
CATEGORIES:Rehearsal only
ATTACH;FMTTYPE=image/jpeg:https://www.nuuc.ca/wp-content/uploads/2025/01/music-rainbow-1.jpg
END:VEVENT
BEGIN:VEVENT
DTSTART;TZID=America/Toronto:20280306T210000
DTEND;TZID=America/Toronto:20280306T230000
DTSTAMP:20260419T215004
CREATED:20250307T172335Z
LAST-MODIFIED:20250307T172335Z
UID:10001342-1835989200-1835996400@www.nuuc.ca
SUMMARY:Spirit Band Rehearsal
DESCRIPTION:
URL:https://www.nuuc.ca/event/spirit-band-rehearsal-4/2028-03-06/
END:VEVENT
BEGIN:VEVENT
DTSTART;TZID=America/Toronto:20280312T103000
DTEND;TZID=America/Toronto:20280312T120000
DTSTAMP:20260419T215004
CREATED:20250207T200538Z
LAST-MODIFIED:20250207T200538Z
UID:10000753-1836469800-1836475200@www.nuuc.ca
SUMMARY:Sunday Service
DESCRIPTION:  \n 
URL:https://www.nuuc.ca/event/sunday-service-19/2028-03-12/
LOCATION:Rafos Hall\, 310 Danforth Ave\, Toronto\, Ontario\, M4K 2X4\, Canada
CATEGORIES:Worship Service
ATTACH;FMTTYPE=image/jpeg:https://www.nuuc.ca/wp-content/uploads/2023/11/Chalice-white-candles-scaled.jpg
END:VEVENT
BEGIN:VEVENT
DTSTART;TZID=America/Toronto:20280313T183000
DTEND;TZID=America/Toronto:20280313T210000
DTSTAMP:20260419T215004
CREATED:20260211T163230Z
LAST-MODIFIED:20260211T163230Z
UID:10001892-1836585000-1836594000@www.nuuc.ca
SUMMARY:Spirit Choir Rehearsal
DESCRIPTION:
URL:https://www.nuuc.ca/event/spirit-choir-rehearsal-5/2028-03-13/
CATEGORIES:Rehearsal only
ATTACH;FMTTYPE=image/jpeg:https://www.nuuc.ca/wp-content/uploads/2025/01/music-rainbow-1.jpg
END:VEVENT
BEGIN:VEVENT
DTSTART;TZID=America/Toronto:20280313T210000
DTEND;TZID=America/Toronto:20280313T230000
DTSTAMP:20260419T215004
CREATED:20250307T172335Z
LAST-MODIFIED:20250307T172335Z
UID:10001343-1836594000-1836601200@www.nuuc.ca
SUMMARY:Spirit Band Rehearsal
DESCRIPTION:
URL:https://www.nuuc.ca/event/spirit-band-rehearsal-4/2028-03-13/
END:VEVENT
BEGIN:VEVENT
DTSTART;TZID=America/Toronto:20280319T103000
DTEND;TZID=America/Toronto:20280319T120000
DTSTAMP:20260419T215004
CREATED:20250207T200538Z
LAST-MODIFIED:20250207T200538Z
UID:10000754-1837074600-1837080000@www.nuuc.ca
SUMMARY:Sunday Service
DESCRIPTION:  \n 
URL:https://www.nuuc.ca/event/sunday-service-19/2028-03-19/
LOCATION:Rafos Hall\, 310 Danforth Ave\, Toronto\, Ontario\, M4K 2X4\, Canada
CATEGORIES:Worship Service
ATTACH;FMTTYPE=image/jpeg:https://www.nuuc.ca/wp-content/uploads/2023/11/Chalice-white-candles-scaled.jpg
END:VEVENT
BEGIN:VEVENT
DTSTART;TZID=America/Toronto:20280320T183000
DTEND;TZID=America/Toronto:20280320T210000
DTSTAMP:20260419T215004
CREATED:20260211T163230Z
LAST-MODIFIED:20260211T163230Z
UID:10001893-1837189800-1837198800@www.nuuc.ca
SUMMARY:Spirit Choir Rehearsal
DESCRIPTION:
URL:https://www.nuuc.ca/event/spirit-choir-rehearsal-5/2028-03-20/
CATEGORIES:Rehearsal only
ATTACH;FMTTYPE=image/jpeg:https://www.nuuc.ca/wp-content/uploads/2025/01/music-rainbow-1.jpg
END:VEVENT
END:VCALENDAR