BEGIN:VCALENDAR
VERSION:2.0
PRODID:-//Neighbourhood Unitarian Universalist Congregation - ECPv6.15.20//NONSGML v1.0//EN
CALSCALE:GREGORIAN
METHOD:PUBLISH
X-WR-CALNAME:Neighbourhood Unitarian Universalist Congregation
X-ORIGINAL-URL:https://www.nuuc.ca
X-WR-CALDESC:Events for Neighbourhood Unitarian Universalist Congregation
REFRESH-INTERVAL;VALUE=DURATION:PT1H
X-Robots-Tag:noindex
X-PUBLISHED-TTL:PT1H
BEGIN:VTIMEZONE
TZID:America/Toronto
BEGIN:DAYLIGHT
TZOFFSETFROM:-0500
TZOFFSETTO:-0400
TZNAME:EDT
DTSTART:20260308T070000
END:DAYLIGHT
BEGIN:STANDARD
TZOFFSETFROM:-0400
TZOFFSETTO:-0500
TZNAME:EST
DTSTART:20261101T060000
END:STANDARD
BEGIN:DAYLIGHT
TZOFFSETFROM:-0500
TZOFFSETTO:-0400
TZNAME:EDT
DTSTART:20270314T070000
END:DAYLIGHT
BEGIN:STANDARD
TZOFFSETFROM:-0400
TZOFFSETTO:-0500
TZNAME:EST
DTSTART:20271107T060000
END:STANDARD
BEGIN:DAYLIGHT
TZOFFSETFROM:-0500
TZOFFSETTO:-0400
TZNAME:EDT
DTSTART:20280312T070000
END:DAYLIGHT
BEGIN:STANDARD
TZOFFSETFROM:-0400
TZOFFSETTO:-0500
TZNAME:EST
DTSTART:20281105T060000
END:STANDARD
END:VTIMEZONE
BEGIN:VEVENT
DTSTART;TZID=America/Toronto:20270816T210000
DTEND;TZID=America/Toronto:20270816T230000
DTSTAMP:20260419T120612
CREATED:20250307T172335Z
LAST-MODIFIED:20250307T172335Z
UID:10001313-1818450000-1818457200@www.nuuc.ca
SUMMARY:Spirit Band Rehearsal
DESCRIPTION:
URL:https://www.nuuc.ca/event/spirit-band-rehearsal-4/2027-08-16/
END:VEVENT
BEGIN:VEVENT
DTSTART;TZID=America/Toronto:20270822T103000
DTEND;TZID=America/Toronto:20270822T120000
DTSTAMP:20260419T120612
CREATED:20250207T200538Z
LAST-MODIFIED:20250207T200538Z
UID:10000724-1818930600-1818936000@www.nuuc.ca
SUMMARY:Sunday Service
DESCRIPTION:  \n 
URL:https://www.nuuc.ca/event/sunday-service-19/2027-08-22/
LOCATION:Rafos Hall\, 310 Danforth Ave\, Toronto\, Ontario\, M4K 2X4\, Canada
CATEGORIES:Worship Service
ATTACH;FMTTYPE=image/jpeg:https://www.nuuc.ca/wp-content/uploads/2023/11/Chalice-white-candles-scaled.jpg
END:VEVENT
BEGIN:VEVENT
DTSTART;TZID=America/Toronto:20270823T183000
DTEND;TZID=America/Toronto:20270823T210000
DTSTAMP:20260419T120612
CREATED:20260211T163230Z
LAST-MODIFIED:20260211T163230Z
UID:10001863-1819045800-1819054800@www.nuuc.ca
SUMMARY:Spirit Choir Rehearsal
DESCRIPTION:
URL:https://www.nuuc.ca/event/spirit-choir-rehearsal-5/2027-08-23/
CATEGORIES:Rehearsal only
ATTACH;FMTTYPE=image/jpeg:https://www.nuuc.ca/wp-content/uploads/2025/01/music-rainbow-1.jpg
END:VEVENT
BEGIN:VEVENT
DTSTART;TZID=America/Toronto:20270823T210000
DTEND;TZID=America/Toronto:20270823T230000
DTSTAMP:20260419T120612
CREATED:20250307T172335Z
LAST-MODIFIED:20250307T172335Z
UID:10001314-1819054800-1819062000@www.nuuc.ca
SUMMARY:Spirit Band Rehearsal
DESCRIPTION:
URL:https://www.nuuc.ca/event/spirit-band-rehearsal-4/2027-08-23/
END:VEVENT
BEGIN:VEVENT
DTSTART;TZID=America/Toronto:20270829T103000
DTEND;TZID=America/Toronto:20270829T120000
DTSTAMP:20260419T120612
CREATED:20250207T200538Z
LAST-MODIFIED:20250207T200538Z
UID:10000725-1819535400-1819540800@www.nuuc.ca
SUMMARY:Sunday Service
DESCRIPTION:  \n 
URL:https://www.nuuc.ca/event/sunday-service-19/2027-08-29/
LOCATION:Rafos Hall\, 310 Danforth Ave\, Toronto\, Ontario\, M4K 2X4\, Canada
CATEGORIES:Worship Service
ATTACH;FMTTYPE=image/jpeg:https://www.nuuc.ca/wp-content/uploads/2023/11/Chalice-white-candles-scaled.jpg
END:VEVENT
BEGIN:VEVENT
DTSTART;TZID=America/Toronto:20270830T183000
DTEND;TZID=America/Toronto:20270830T210000
DTSTAMP:20260419T120612
CREATED:20260211T163230Z
LAST-MODIFIED:20260211T163230Z
UID:10001864-1819650600-1819659600@www.nuuc.ca
SUMMARY:Spirit Choir Rehearsal
DESCRIPTION:
URL:https://www.nuuc.ca/event/spirit-choir-rehearsal-5/2027-08-30/
CATEGORIES:Rehearsal only
ATTACH;FMTTYPE=image/jpeg:https://www.nuuc.ca/wp-content/uploads/2025/01/music-rainbow-1.jpg
END:VEVENT
BEGIN:VEVENT
DTSTART;TZID=America/Toronto:20270830T210000
DTEND;TZID=America/Toronto:20270830T230000
DTSTAMP:20260419T120612
CREATED:20250307T172335Z
LAST-MODIFIED:20250307T172335Z
UID:10001315-1819659600-1819666800@www.nuuc.ca
SUMMARY:Spirit Band Rehearsal
DESCRIPTION:
URL:https://www.nuuc.ca/event/spirit-band-rehearsal-4/2027-08-30/
END:VEVENT
BEGIN:VEVENT
DTSTART;TZID=America/Toronto:20270905T103000
DTEND;TZID=America/Toronto:20270905T120000
DTSTAMP:20260419T120612
CREATED:20250207T200538Z
LAST-MODIFIED:20250207T200538Z
UID:10000726-1820140200-1820145600@www.nuuc.ca
SUMMARY:Sunday Service
DESCRIPTION:  \n 
URL:https://www.nuuc.ca/event/sunday-service-19/2027-09-05/
LOCATION:Rafos Hall\, 310 Danforth Ave\, Toronto\, Ontario\, M4K 2X4\, Canada
CATEGORIES:Worship Service
ATTACH;FMTTYPE=image/jpeg:https://www.nuuc.ca/wp-content/uploads/2023/11/Chalice-white-candles-scaled.jpg
END:VEVENT
BEGIN:VEVENT
DTSTART;TZID=America/Toronto:20270906T183000
DTEND;TZID=America/Toronto:20270906T210000
DTSTAMP:20260419T120612
CREATED:20260211T163230Z
LAST-MODIFIED:20260211T163230Z
UID:10001865-1820255400-1820264400@www.nuuc.ca
SUMMARY:Spirit Choir Rehearsal
DESCRIPTION:
URL:https://www.nuuc.ca/event/spirit-choir-rehearsal-5/2027-09-06/
CATEGORIES:Rehearsal only
ATTACH;FMTTYPE=image/jpeg:https://www.nuuc.ca/wp-content/uploads/2025/01/music-rainbow-1.jpg
END:VEVENT
BEGIN:VEVENT
DTSTART;TZID=America/Toronto:20270906T210000
DTEND;TZID=America/Toronto:20270906T230000
DTSTAMP:20260419T120612
CREATED:20250307T172335Z
LAST-MODIFIED:20250307T172335Z
UID:10001316-1820264400-1820271600@www.nuuc.ca
SUMMARY:Spirit Band Rehearsal
DESCRIPTION:
URL:https://www.nuuc.ca/event/spirit-band-rehearsal-4/2027-09-06/
END:VEVENT
BEGIN:VEVENT
DTSTART;TZID=America/Toronto:20270912T103000
DTEND;TZID=America/Toronto:20270912T120000
DTSTAMP:20260419T120612
CREATED:20250207T200538Z
LAST-MODIFIED:20250207T200538Z
UID:10000727-1820745000-1820750400@www.nuuc.ca
SUMMARY:Sunday Service
DESCRIPTION:  \n 
URL:https://www.nuuc.ca/event/sunday-service-19/2027-09-12/
LOCATION:Rafos Hall\, 310 Danforth Ave\, Toronto\, Ontario\, M4K 2X4\, Canada
CATEGORIES:Worship Service
ATTACH;FMTTYPE=image/jpeg:https://www.nuuc.ca/wp-content/uploads/2023/11/Chalice-white-candles-scaled.jpg
END:VEVENT
BEGIN:VEVENT
DTSTART;TZID=America/Toronto:20270913T183000
DTEND;TZID=America/Toronto:20270913T210000
DTSTAMP:20260419T120612
CREATED:20260211T163230Z
LAST-MODIFIED:20260211T163230Z
UID:10001866-1820860200-1820869200@www.nuuc.ca
SUMMARY:Spirit Choir Rehearsal
DESCRIPTION:
URL:https://www.nuuc.ca/event/spirit-choir-rehearsal-5/2027-09-13/
CATEGORIES:Rehearsal only
ATTACH;FMTTYPE=image/jpeg:https://www.nuuc.ca/wp-content/uploads/2025/01/music-rainbow-1.jpg
END:VEVENT
BEGIN:VEVENT
DTSTART;TZID=America/Toronto:20270913T210000
DTEND;TZID=America/Toronto:20270913T230000
DTSTAMP:20260419T120612
CREATED:20250307T172335Z
LAST-MODIFIED:20250307T172335Z
UID:10001317-1820869200-1820876400@www.nuuc.ca
SUMMARY:Spirit Band Rehearsal
DESCRIPTION:
URL:https://www.nuuc.ca/event/spirit-band-rehearsal-4/2027-09-13/
END:VEVENT
BEGIN:VEVENT
DTSTART;TZID=America/Toronto:20270919T103000
DTEND;TZID=America/Toronto:20270919T120000
DTSTAMP:20260419T120612
CREATED:20250207T200538Z
LAST-MODIFIED:20250207T200538Z
UID:10000728-1821349800-1821355200@www.nuuc.ca
SUMMARY:Sunday Service
DESCRIPTION:  \n 
URL:https://www.nuuc.ca/event/sunday-service-19/2027-09-19/
LOCATION:Rafos Hall\, 310 Danforth Ave\, Toronto\, Ontario\, M4K 2X4\, Canada
CATEGORIES:Worship Service
ATTACH;FMTTYPE=image/jpeg:https://www.nuuc.ca/wp-content/uploads/2023/11/Chalice-white-candles-scaled.jpg
END:VEVENT
BEGIN:VEVENT
DTSTART;TZID=America/Toronto:20270920T183000
DTEND;TZID=America/Toronto:20270920T210000
DTSTAMP:20260419T120612
CREATED:20260211T163230Z
LAST-MODIFIED:20260211T163230Z
UID:10001867-1821465000-1821474000@www.nuuc.ca
SUMMARY:Spirit Choir Rehearsal
DESCRIPTION:
URL:https://www.nuuc.ca/event/spirit-choir-rehearsal-5/2027-09-20/
CATEGORIES:Rehearsal only
ATTACH;FMTTYPE=image/jpeg:https://www.nuuc.ca/wp-content/uploads/2025/01/music-rainbow-1.jpg
END:VEVENT
BEGIN:VEVENT
DTSTART;TZID=America/Toronto:20270920T210000
DTEND;TZID=America/Toronto:20270920T230000
DTSTAMP:20260419T120612
CREATED:20250307T172335Z
LAST-MODIFIED:20250307T172335Z
UID:10001318-1821474000-1821481200@www.nuuc.ca
SUMMARY:Spirit Band Rehearsal
DESCRIPTION:
URL:https://www.nuuc.ca/event/spirit-band-rehearsal-4/2027-09-20/
END:VEVENT
BEGIN:VEVENT
DTSTART;TZID=America/Toronto:20270926T103000
DTEND;TZID=America/Toronto:20270926T120000
DTSTAMP:20260419T120612
CREATED:20250207T200538Z
LAST-MODIFIED:20250207T200538Z
UID:10000729-1821954600-1821960000@www.nuuc.ca
SUMMARY:Sunday Service
DESCRIPTION:  \n 
URL:https://www.nuuc.ca/event/sunday-service-19/2027-09-26/
LOCATION:Rafos Hall\, 310 Danforth Ave\, Toronto\, Ontario\, M4K 2X4\, Canada
CATEGORIES:Worship Service
ATTACH;FMTTYPE=image/jpeg:https://www.nuuc.ca/wp-content/uploads/2023/11/Chalice-white-candles-scaled.jpg
END:VEVENT
BEGIN:VEVENT
DTSTART;TZID=America/Toronto:20270927T183000
DTEND;TZID=America/Toronto:20270927T210000
DTSTAMP:20260419T120612
CREATED:20260211T163230Z
LAST-MODIFIED:20260211T163230Z
UID:10001868-1822069800-1822078800@www.nuuc.ca
SUMMARY:Spirit Choir Rehearsal
DESCRIPTION:
URL:https://www.nuuc.ca/event/spirit-choir-rehearsal-5/2027-09-27/
CATEGORIES:Rehearsal only
ATTACH;FMTTYPE=image/jpeg:https://www.nuuc.ca/wp-content/uploads/2025/01/music-rainbow-1.jpg
END:VEVENT
BEGIN:VEVENT
DTSTART;TZID=America/Toronto:20270927T210000
DTEND;TZID=America/Toronto:20270927T230000
DTSTAMP:20260419T120612
CREATED:20250307T172335Z
LAST-MODIFIED:20250307T172335Z
UID:10001319-1822078800-1822086000@www.nuuc.ca
SUMMARY:Spirit Band Rehearsal
DESCRIPTION:
URL:https://www.nuuc.ca/event/spirit-band-rehearsal-4/2027-09-27/
END:VEVENT
BEGIN:VEVENT
DTSTART;TZID=America/Toronto:20271003T103000
DTEND;TZID=America/Toronto:20271003T120000
DTSTAMP:20260419T120612
CREATED:20250207T200538Z
LAST-MODIFIED:20250207T200538Z
UID:10000730-1822559400-1822564800@www.nuuc.ca
SUMMARY:Sunday Service
DESCRIPTION:  \n 
URL:https://www.nuuc.ca/event/sunday-service-19/2027-10-03/
LOCATION:Rafos Hall\, 310 Danforth Ave\, Toronto\, Ontario\, M4K 2X4\, Canada
CATEGORIES:Worship Service
ATTACH;FMTTYPE=image/jpeg:https://www.nuuc.ca/wp-content/uploads/2023/11/Chalice-white-candles-scaled.jpg
END:VEVENT
BEGIN:VEVENT
DTSTART;TZID=America/Toronto:20271004T183000
DTEND;TZID=America/Toronto:20271004T210000
DTSTAMP:20260419T120612
CREATED:20260211T163230Z
LAST-MODIFIED:20260211T163230Z
UID:10001869-1822674600-1822683600@www.nuuc.ca
SUMMARY:Spirit Choir Rehearsal
DESCRIPTION:
URL:https://www.nuuc.ca/event/spirit-choir-rehearsal-5/2027-10-04/
CATEGORIES:Rehearsal only
ATTACH;FMTTYPE=image/jpeg:https://www.nuuc.ca/wp-content/uploads/2025/01/music-rainbow-1.jpg
END:VEVENT
BEGIN:VEVENT
DTSTART;TZID=America/Toronto:20271004T210000
DTEND;TZID=America/Toronto:20271004T230000
DTSTAMP:20260419T120612
CREATED:20250307T172335Z
LAST-MODIFIED:20250307T172335Z
UID:10001320-1822683600-1822690800@www.nuuc.ca
SUMMARY:Spirit Band Rehearsal
DESCRIPTION:
URL:https://www.nuuc.ca/event/spirit-band-rehearsal-4/2027-10-04/
END:VEVENT
BEGIN:VEVENT
DTSTART;TZID=America/Toronto:20271010T103000
DTEND;TZID=America/Toronto:20271010T120000
DTSTAMP:20260419T120612
CREATED:20250207T200538Z
LAST-MODIFIED:20250207T200538Z
UID:10000731-1823164200-1823169600@www.nuuc.ca
SUMMARY:Sunday Service
DESCRIPTION:  \n 
URL:https://www.nuuc.ca/event/sunday-service-19/2027-10-10/
LOCATION:Rafos Hall\, 310 Danforth Ave\, Toronto\, Ontario\, M4K 2X4\, Canada
CATEGORIES:Worship Service
ATTACH;FMTTYPE=image/jpeg:https://www.nuuc.ca/wp-content/uploads/2023/11/Chalice-white-candles-scaled.jpg
END:VEVENT
BEGIN:VEVENT
DTSTART;TZID=America/Toronto:20271011T183000
DTEND;TZID=America/Toronto:20271011T210000
DTSTAMP:20260419T120612
CREATED:20260211T163230Z
LAST-MODIFIED:20260211T163230Z
UID:10001870-1823279400-1823288400@www.nuuc.ca
SUMMARY:Spirit Choir Rehearsal
DESCRIPTION:
URL:https://www.nuuc.ca/event/spirit-choir-rehearsal-5/2027-10-11/
CATEGORIES:Rehearsal only
ATTACH;FMTTYPE=image/jpeg:https://www.nuuc.ca/wp-content/uploads/2025/01/music-rainbow-1.jpg
END:VEVENT
BEGIN:VEVENT
DTSTART;TZID=America/Toronto:20271011T210000
DTEND;TZID=America/Toronto:20271011T230000
DTSTAMP:20260419T120612
CREATED:20250307T172335Z
LAST-MODIFIED:20250307T172335Z
UID:10001321-1823288400-1823295600@www.nuuc.ca
SUMMARY:Spirit Band Rehearsal
DESCRIPTION:
URL:https://www.nuuc.ca/event/spirit-band-rehearsal-4/2027-10-11/
END:VEVENT
BEGIN:VEVENT
DTSTART;TZID=America/Toronto:20271017T103000
DTEND;TZID=America/Toronto:20271017T120000
DTSTAMP:20260419T120612
CREATED:20250207T200538Z
LAST-MODIFIED:20250207T200538Z
UID:10000732-1823769000-1823774400@www.nuuc.ca
SUMMARY:Sunday Service
DESCRIPTION:  \n 
URL:https://www.nuuc.ca/event/sunday-service-19/2027-10-17/
LOCATION:Rafos Hall\, 310 Danforth Ave\, Toronto\, Ontario\, M4K 2X4\, Canada
CATEGORIES:Worship Service
ATTACH;FMTTYPE=image/jpeg:https://www.nuuc.ca/wp-content/uploads/2023/11/Chalice-white-candles-scaled.jpg
END:VEVENT
BEGIN:VEVENT
DTSTART;TZID=America/Toronto:20271018T183000
DTEND;TZID=America/Toronto:20271018T210000
DTSTAMP:20260419T120612
CREATED:20260211T163230Z
LAST-MODIFIED:20260211T163230Z
UID:10001871-1823884200-1823893200@www.nuuc.ca
SUMMARY:Spirit Choir Rehearsal
DESCRIPTION:
URL:https://www.nuuc.ca/event/spirit-choir-rehearsal-5/2027-10-18/
CATEGORIES:Rehearsal only
ATTACH;FMTTYPE=image/jpeg:https://www.nuuc.ca/wp-content/uploads/2025/01/music-rainbow-1.jpg
END:VEVENT
BEGIN:VEVENT
DTSTART;TZID=America/Toronto:20271018T210000
DTEND;TZID=America/Toronto:20271018T230000
DTSTAMP:20260419T120612
CREATED:20250307T172335Z
LAST-MODIFIED:20250307T172335Z
UID:10001322-1823893200-1823900400@www.nuuc.ca
SUMMARY:Spirit Band Rehearsal
DESCRIPTION:
URL:https://www.nuuc.ca/event/spirit-band-rehearsal-4/2027-10-18/
END:VEVENT
BEGIN:VEVENT
DTSTART;TZID=America/Toronto:20271024T103000
DTEND;TZID=America/Toronto:20271024T120000
DTSTAMP:20260419T120612
CREATED:20250207T200538Z
LAST-MODIFIED:20250207T200538Z
UID:10000733-1824373800-1824379200@www.nuuc.ca
SUMMARY:Sunday Service
DESCRIPTION:  \n 
URL:https://www.nuuc.ca/event/sunday-service-19/2027-10-24/
LOCATION:Rafos Hall\, 310 Danforth Ave\, Toronto\, Ontario\, M4K 2X4\, Canada
CATEGORIES:Worship Service
ATTACH;FMTTYPE=image/jpeg:https://www.nuuc.ca/wp-content/uploads/2023/11/Chalice-white-candles-scaled.jpg
END:VEVENT
BEGIN:VEVENT
DTSTART;TZID=America/Toronto:20271025T183000
DTEND;TZID=America/Toronto:20271025T210000
DTSTAMP:20260419T120612
CREATED:20260211T163230Z
LAST-MODIFIED:20260211T163230Z
UID:10001872-1824489000-1824498000@www.nuuc.ca
SUMMARY:Spirit Choir Rehearsal
DESCRIPTION:
URL:https://www.nuuc.ca/event/spirit-choir-rehearsal-5/2027-10-25/
CATEGORIES:Rehearsal only
ATTACH;FMTTYPE=image/jpeg:https://www.nuuc.ca/wp-content/uploads/2025/01/music-rainbow-1.jpg
END:VEVENT
END:VCALENDAR