BEGIN:VCALENDAR
VERSION:2.0
PRODID:-//Neighbourhood Unitarian Universalist Congregation - ECPv6.15.20//NONSGML v1.0//EN
CALSCALE:GREGORIAN
METHOD:PUBLISH
X-WR-CALNAME:Neighbourhood Unitarian Universalist Congregation
X-ORIGINAL-URL:https://www.nuuc.ca
X-WR-CALDESC:Events for Neighbourhood Unitarian Universalist Congregation
REFRESH-INTERVAL;VALUE=DURATION:PT1H
X-Robots-Tag:noindex
X-PUBLISHED-TTL:PT1H
BEGIN:VTIMEZONE
TZID:America/Toronto
BEGIN:DAYLIGHT
TZOFFSETFROM:-0500
TZOFFSETTO:-0400
TZNAME:EDT
DTSTART:20240310T070000
END:DAYLIGHT
BEGIN:STANDARD
TZOFFSETFROM:-0400
TZOFFSETTO:-0500
TZNAME:EST
DTSTART:20241103T060000
END:STANDARD
BEGIN:DAYLIGHT
TZOFFSETFROM:-0500
TZOFFSETTO:-0400
TZNAME:EDT
DTSTART:20250309T070000
END:DAYLIGHT
BEGIN:STANDARD
TZOFFSETFROM:-0400
TZOFFSETTO:-0500
TZNAME:EST
DTSTART:20251102T060000
END:STANDARD
BEGIN:DAYLIGHT
TZOFFSETFROM:-0500
TZOFFSETTO:-0400
TZNAME:EDT
DTSTART:20260308T070000
END:DAYLIGHT
BEGIN:STANDARD
TZOFFSETFROM:-0400
TZOFFSETTO:-0500
TZNAME:EST
DTSTART:20261101T060000
END:STANDARD
END:VTIMEZONE
BEGIN:VEVENT
DTSTART;TZID=America/Toronto:20250914T120000
DTEND;TZID=America/Toronto:20250914T130000
DTSTAMP:20260419T105850
CREATED:20250829T212036Z
LAST-MODIFIED:20250829T212113Z
UID:10001639-1757851200-1757854800@www.nuuc.ca
SUMMARY:Art Show Opening
DESCRIPTION:
URL:https://www.nuuc.ca/event/art-show-opening-2/
ATTACH;FMTTYPE=image/png:https://www.nuuc.ca/wp-content/uploads/2025/08/25-09-Art-Show-1.png
END:VEVENT
BEGIN:VEVENT
DTSTART;TZID=America/Toronto:20250914T103000
DTEND;TZID=America/Toronto:20250914T120000
DTSTAMP:20260419T105850
CREATED:20250207T200538Z
LAST-MODIFIED:20250207T200538Z
UID:10000623-1757845800-1757851200@www.nuuc.ca
SUMMARY:Sunday Service
DESCRIPTION:  \n 
URL:https://www.nuuc.ca/event/sunday-service-19/2025-09-14/
LOCATION:Rafos Hall\, 310 Danforth Ave\, Toronto\, Ontario\, M4K 2X4\, Canada
CATEGORIES:Worship Service
ATTACH;FMTTYPE=image/jpeg:https://www.nuuc.ca/wp-content/uploads/2023/11/Chalice-white-candles-scaled.jpg
END:VEVENT
BEGIN:VEVENT
DTSTART;TZID=America/Toronto:20250913T193000
DTEND;TZID=America/Toronto:20250913T213000
DTSTAMP:20260419T105850
CREATED:20250815T203636Z
LAST-MODIFIED:20250815T203858Z
UID:10001509-1757791800-1757799000@www.nuuc.ca
SUMMARY:Karaoke Night
DESCRIPTION:Neighbourhood invites you to Karaoke Night \nHosted by MC Allison
URL:https://www.nuuc.ca/event/karaoke-night-3/
CATEGORIES:Music
ATTACH;FMTTYPE=image/jpeg:https://www.nuuc.ca/wp-content/uploads/2023/11/Karaoke-Night.jpeg
END:VEVENT
BEGIN:VEVENT
DTSTART;TZID=America/Toronto:20250910T190000
DTEND;TZID=America/Toronto:20250910T210000
DTSTAMP:20260419T105850
CREATED:20250829T151708Z
LAST-MODIFIED:20250829T151708Z
UID:10001574-1757530800-1757538000@www.nuuc.ca
SUMMARY:Active Hope Group
DESCRIPTION:
URL:https://www.nuuc.ca/event/active-hope-group/2025-09-10/
CATEGORIES:Small Group
END:VEVENT
BEGIN:VEVENT
DTSTART;TZID=America/Toronto:20250908T210000
DTEND;TZID=America/Toronto:20250908T230000
DTSTAMP:20260419T105850
CREATED:20250307T172335Z
LAST-MODIFIED:20250307T172335Z
UID:10001212-1757365200-1757372400@www.nuuc.ca
SUMMARY:Spirit Band Rehearsal
DESCRIPTION:
URL:https://www.nuuc.ca/event/spirit-band-rehearsal-4/2025-09-08/
END:VEVENT
BEGIN:VEVENT
DTSTART;TZID=America/Toronto:20250907T183000
DTEND;TZID=America/Toronto:20250907T210000
DTSTAMP:20260419T105850
CREATED:20250829T144028Z
LAST-MODIFIED:20250829T144028Z
UID:10001511-1757269800-1757278800@www.nuuc.ca
SUMMARY:DREW THE LINE
DESCRIPTION:Neighbourhood has endorsed Draw the Line\, a global initiative “for people\, for peace\, for the planet\,” which will culminate in events on six continents Saturday September 20. You can learn more about the Canada campaign here: https://drawtheline.world/canada. There are lots of ways we can join in as a community. If you’d like to help\, join our Draw the Line Working Group. No minimum time commitment! Just take on tasks as you’re moved to\, and stay in touch with the group online. For more info\, or to join\, email Tony at president@nuuc.ca.
URL:https://www.nuuc.ca/event/drew-the-line/
CATEGORIES:external sponsored by NUUC
ATTACH;FMTTYPE=image/jpeg:https://www.nuuc.ca/wp-content/uploads/2025/08/DTL-NUUC_poster1.jpg
END:VEVENT
BEGIN:VEVENT
DTSTART;TZID=America/Toronto:20250907T123000
DTEND;TZID=America/Toronto:20250907T140000
DTSTAMP:20260419T105850
CREATED:20250829T211914Z
LAST-MODIFIED:20250829T211914Z
UID:10001638-1757248200-1757253600@www.nuuc.ca
SUMMARY:Art Installation
DESCRIPTION:
URL:https://www.nuuc.ca/event/art-installation/
ATTACH;FMTTYPE=image/png:https://www.nuuc.ca/wp-content/uploads/2025/08/25-09-Art-Show-1.png
END:VEVENT
BEGIN:VEVENT
DTSTART;TZID=America/Toronto:20250907T103000
DTEND;TZID=America/Toronto:20250907T120000
DTSTAMP:20260419T105850
CREATED:20250829T162233Z
LAST-MODIFIED:20250903T203501Z
UID:10000622-1757241000-1757246400@www.nuuc.ca
SUMMARY:Sunday Service
DESCRIPTION:Activism as Spiritual Practice \nUnitarian-Universalism has a long history of taking action for justice. There are many ways to engage in taking action that embody personal and collective principles\, values\, comfort\, and pleasure. Lifelong activist and member of our neighbour congregation First Unitarian\, Leslie Solomonia will share some of her own experiences\, and lead us in reflecting on how various forms of activism might fit into our own spiritual journeys. \nTo watch the service on Zoom: tinyurl.com/serviceatnuuc \n 
URL:https://www.nuuc.ca/event/sunday-service-19-2/
LOCATION:Rafos Hall\, 310 Danforth Ave\, Toronto\, Ontario\, M4K 2X4\, Canada
CATEGORIES:Worship Service
ATTACH;FMTTYPE=image/jpeg:https://www.nuuc.ca/wp-content/uploads/2023/11/Chalice-white-candles-scaled.jpg
END:VEVENT
BEGIN:VEVENT
DTSTART;TZID=America/Toronto:20250903T190000
DTEND;TZID=America/Toronto:20250903T210000
DTSTAMP:20260419T105850
CREATED:20250829T151708Z
LAST-MODIFIED:20250829T151708Z
UID:10001573-1756926000-1756933200@www.nuuc.ca
SUMMARY:Active Hope Group
DESCRIPTION:
URL:https://www.nuuc.ca/event/active-hope-group/2025-09-03/
CATEGORIES:Small Group
END:VEVENT
BEGIN:VEVENT
DTSTART;TZID=America/Toronto:20250901T210000
DTEND;TZID=America/Toronto:20250901T230000
DTSTAMP:20260419T105850
CREATED:20250307T172335Z
LAST-MODIFIED:20250307T172335Z
UID:10001211-1756760400-1756767600@www.nuuc.ca
SUMMARY:Spirit Band Rehearsal
DESCRIPTION:
URL:https://www.nuuc.ca/event/spirit-band-rehearsal-4/2025-09-01/
END:VEVENT
BEGIN:VEVENT
DTSTART;TZID=America/Toronto:20250830T130000
DTEND;TZID=America/Toronto:20250830T150000
DTSTAMP:20260419T105850
CREATED:20250820T170219Z
LAST-MODIFIED:20250820T170219Z
UID:10001510-1756558800-1756566000@www.nuuc.ca
SUMMARY:For NUUC's Families
DESCRIPTION:
URL:https://www.nuuc.ca/event/for-nuucs-families/
CATEGORIES:LL Program
ATTACH;FMTTYPE=image/png:https://www.nuuc.ca/wp-content/uploads/2025/08/25-08-30-pool-.png
END:VEVENT
BEGIN:VEVENT
DTSTART;TZID=America/Toronto:20250825T210000
DTEND;TZID=America/Toronto:20250825T230000
DTSTAMP:20260419T105850
CREATED:20250307T172335Z
LAST-MODIFIED:20250307T172335Z
UID:10001210-1756155600-1756162800@www.nuuc.ca
SUMMARY:Spirit Band Rehearsal
DESCRIPTION:
URL:https://www.nuuc.ca/event/spirit-band-rehearsal-4/2025-08-25/
END:VEVENT
BEGIN:VEVENT
DTSTART;TZID=America/Toronto:20250824T123000
DTEND;TZID=America/Toronto:20250824T143000
DTSTAMP:20260419T105850
CREATED:20250815T203048Z
LAST-MODIFIED:20250815T203048Z
UID:10001508-1756038600-1756045800@www.nuuc.ca
SUMMARY:NUUC Potluck Picnic
DESCRIPTION:
URL:https://www.nuuc.ca/event/nuuc-potluck-picnic/
ATTACH;FMTTYPE=image/png:https://www.nuuc.ca/wp-content/uploads/2025/08/updated-potluck-picnic.png
END:VEVENT
BEGIN:VEVENT
DTSTART;TZID=America/Toronto:20250824T103000
DTEND;TZID=America/Toronto:20250824T120000
DTSTAMP:20260419T105850
CREATED:20250630T164529Z
LAST-MODIFIED:20250630T164529Z
UID:10001503-1756031400-1756036800@www.nuuc.ca
SUMMARY:Sunday Service
DESCRIPTION:  \n 
URL:https://www.nuuc.ca/event/sunday-service-23/
LOCATION:Rafos Hall\, 310 Danforth Ave\, Toronto\, Ontario\, M4K 2X4\, Canada
CATEGORIES:Worship Service
ATTACH;FMTTYPE=image/jpeg:https://www.nuuc.ca/wp-content/uploads/2023/11/Chalice-white-candles-scaled.jpg
END:VEVENT
BEGIN:VEVENT
DTSTART;TZID=America/Toronto:20250824T103000
DTEND;TZID=America/Toronto:20250824T120000
DTSTAMP:20260419T105850
CREATED:20250207T200538Z
LAST-MODIFIED:20250207T200538Z
UID:10000620-1756031400-1756036800@www.nuuc.ca
SUMMARY:Sunday Service
DESCRIPTION:  \n 
URL:https://www.nuuc.ca/event/sunday-service-19/2025-08-24/
LOCATION:Rafos Hall\, 310 Danforth Ave\, Toronto\, Ontario\, M4K 2X4\, Canada
CATEGORIES:Worship Service
ATTACH;FMTTYPE=image/jpeg:https://www.nuuc.ca/wp-content/uploads/2023/11/Chalice-white-candles-scaled.jpg
END:VEVENT
BEGIN:VEVENT
DTSTART;TZID=America/Toronto:20250820T183000
DTEND;TZID=America/Toronto:20250820T203000
DTSTAMP:20260419T105850
CREATED:20250815T202409Z
LAST-MODIFIED:20250815T202534Z
UID:10001507-1755714600-1755721800@www.nuuc.ca
SUMMARY:Ashbridges Bay: Walk ‘n’ Roll
DESCRIPTION:oin Steve Koller on Wednesday August 20th at 6:30pm to explore Ashbridges Bay! This event location has been changed from Tommy Thompson park. Meet at 6:30 pm near the main parking lot at Boardwalk Cafe (Lakeshore E at Northern Dancer).
URL:https://www.nuuc.ca/event/ashbridges-bay-walk-n-roll/
CATEGORIES:Open Community event
ATTACH;FMTTYPE=image/jpeg:https://www.nuuc.ca/wp-content/uploads/2025/08/Ashbridge-Bay.jpg
END:VEVENT
BEGIN:VEVENT
DTSTART;TZID=America/Toronto:20250818T210000
DTEND;TZID=America/Toronto:20250818T230000
DTSTAMP:20260419T105850
CREATED:20250307T172335Z
LAST-MODIFIED:20250307T172335Z
UID:10001209-1755550800-1755558000@www.nuuc.ca
SUMMARY:Spirit Band Rehearsal
DESCRIPTION:
URL:https://www.nuuc.ca/event/spirit-band-rehearsal-4/2025-08-18/
END:VEVENT
BEGIN:VEVENT
DTSTART;TZID=America/Toronto:20250817T103000
DTEND;TZID=America/Toronto:20250817T120000
DTSTAMP:20260419T105850
CREATED:20250207T200538Z
LAST-MODIFIED:20250207T200538Z
UID:10000619-1755426600-1755432000@www.nuuc.ca
SUMMARY:Sunday Service
DESCRIPTION:  \n 
URL:https://www.nuuc.ca/event/sunday-service-19/2025-08-17/
LOCATION:Rafos Hall\, 310 Danforth Ave\, Toronto\, Ontario\, M4K 2X4\, Canada
CATEGORIES:Worship Service
ATTACH;FMTTYPE=image/jpeg:https://www.nuuc.ca/wp-content/uploads/2023/11/Chalice-white-candles-scaled.jpg
END:VEVENT
BEGIN:VEVENT
DTSTART;TZID=America/Toronto:20250811T210000
DTEND;TZID=America/Toronto:20250811T230000
DTSTAMP:20260419T105850
CREATED:20250307T172335Z
LAST-MODIFIED:20250307T172335Z
UID:10001208-1754946000-1754953200@www.nuuc.ca
SUMMARY:Spirit Band Rehearsal
DESCRIPTION:
URL:https://www.nuuc.ca/event/spirit-band-rehearsal-4/2025-08-11/
END:VEVENT
BEGIN:VEVENT
DTSTART;TZID=America/Toronto:20250810T103000
DTEND;TZID=America/Toronto:20250810T120000
DTSTAMP:20260419T105850
CREATED:20250630T164438Z
LAST-MODIFIED:20250630T164438Z
UID:10001504-1754821800-1754827200@www.nuuc.ca
SUMMARY:Sunday Service
DESCRIPTION:  \n 
URL:https://www.nuuc.ca/event/sunday-service-22/
LOCATION:Rafos Hall\, 310 Danforth Ave\, Toronto\, Ontario\, M4K 2X4\, Canada
CATEGORIES:Worship Service
ATTACH;FMTTYPE=image/jpeg:https://www.nuuc.ca/wp-content/uploads/2023/11/Chalice-white-candles-scaled.jpg
END:VEVENT
BEGIN:VEVENT
DTSTART;TZID=America/Toronto:20250810T103000
DTEND;TZID=America/Toronto:20250810T120000
DTSTAMP:20260419T105850
CREATED:20250207T200538Z
LAST-MODIFIED:20250207T200538Z
UID:10000618-1754821800-1754827200@www.nuuc.ca
SUMMARY:Sunday Service
DESCRIPTION:  \n 
URL:https://www.nuuc.ca/event/sunday-service-19/2025-08-10/
LOCATION:Rafos Hall\, 310 Danforth Ave\, Toronto\, Ontario\, M4K 2X4\, Canada
CATEGORIES:Worship Service
ATTACH;FMTTYPE=image/jpeg:https://www.nuuc.ca/wp-content/uploads/2023/11/Chalice-white-candles-scaled.jpg
END:VEVENT
BEGIN:VEVENT
DTSTART;TZID=America/Toronto:20250804T210000
DTEND;TZID=America/Toronto:20250804T230000
DTSTAMP:20260419T105850
CREATED:20250307T172335Z
LAST-MODIFIED:20250307T172335Z
UID:10001207-1754341200-1754348400@www.nuuc.ca
SUMMARY:Spirit Band Rehearsal
DESCRIPTION:
URL:https://www.nuuc.ca/event/spirit-band-rehearsal-4/2025-08-04/
END:VEVENT
BEGIN:VEVENT
DTSTART;TZID=America/Toronto:20250803T103000
DTEND;TZID=America/Toronto:20250803T120000
DTSTAMP:20260419T105850
CREATED:20250207T200538Z
LAST-MODIFIED:20250207T200538Z
UID:10000617-1754217000-1754222400@www.nuuc.ca
SUMMARY:Sunday Service
DESCRIPTION:  \n 
URL:https://www.nuuc.ca/event/sunday-service-19/2025-08-03/
LOCATION:Rafos Hall\, 310 Danforth Ave\, Toronto\, Ontario\, M4K 2X4\, Canada
CATEGORIES:Worship Service
ATTACH;FMTTYPE=image/jpeg:https://www.nuuc.ca/wp-content/uploads/2023/11/Chalice-white-candles-scaled.jpg
END:VEVENT
BEGIN:VEVENT
DTSTART;TZID=America/Toronto:20250728T210000
DTEND;TZID=America/Toronto:20250728T230000
DTSTAMP:20260419T105850
CREATED:20250307T172335Z
LAST-MODIFIED:20250307T172335Z
UID:10001206-1753736400-1753743600@www.nuuc.ca
SUMMARY:Spirit Band Rehearsal
DESCRIPTION:
URL:https://www.nuuc.ca/event/spirit-band-rehearsal-4/2025-07-28/
END:VEVENT
BEGIN:VEVENT
DTSTART;TZID=America/Toronto:20250727T103000
DTEND;TZID=America/Toronto:20250727T120000
DTSTAMP:20260419T105850
CREATED:20250630T164337Z
LAST-MODIFIED:20250630T164337Z
UID:10001505-1753612200-1753617600@www.nuuc.ca
SUMMARY:Sunday Service
DESCRIPTION:  \n 
URL:https://www.nuuc.ca/event/sunday-service-21/
LOCATION:Rafos Hall\, 310 Danforth Ave\, Toronto\, Ontario\, M4K 2X4\, Canada
CATEGORIES:Worship Service
ATTACH;FMTTYPE=image/jpeg:https://www.nuuc.ca/wp-content/uploads/2023/11/Chalice-white-candles-scaled.jpg
END:VEVENT
BEGIN:VEVENT
DTSTART;TZID=America/Toronto:20250727T103000
DTEND;TZID=America/Toronto:20250727T120000
DTSTAMP:20260419T105850
CREATED:20250207T200538Z
LAST-MODIFIED:20250207T200538Z
UID:10000616-1753612200-1753617600@www.nuuc.ca
SUMMARY:Sunday Service
DESCRIPTION:  \n 
URL:https://www.nuuc.ca/event/sunday-service-19/2025-07-27/
LOCATION:Rafos Hall\, 310 Danforth Ave\, Toronto\, Ontario\, M4K 2X4\, Canada
CATEGORIES:Worship Service
ATTACH;FMTTYPE=image/jpeg:https://www.nuuc.ca/wp-content/uploads/2023/11/Chalice-white-candles-scaled.jpg
END:VEVENT
BEGIN:VEVENT
DTSTART;TZID=America/Toronto:20250721T210000
DTEND;TZID=America/Toronto:20250721T230000
DTSTAMP:20260419T105850
CREATED:20250307T172335Z
LAST-MODIFIED:20250307T172335Z
UID:10001205-1753131600-1753138800@www.nuuc.ca
SUMMARY:Spirit Band Rehearsal
DESCRIPTION:
URL:https://www.nuuc.ca/event/spirit-band-rehearsal-4/2025-07-21/
END:VEVENT
BEGIN:VEVENT
DTSTART;TZID=America/Toronto:20250720T103000
DTEND;TZID=America/Toronto:20250720T120000
DTSTAMP:20260419T105850
CREATED:20250207T200538Z
LAST-MODIFIED:20250207T200538Z
UID:10000615-1753007400-1753012800@www.nuuc.ca
SUMMARY:Sunday Service
DESCRIPTION:  \n 
URL:https://www.nuuc.ca/event/sunday-service-19/2025-07-20/
LOCATION:Rafos Hall\, 310 Danforth Ave\, Toronto\, Ontario\, M4K 2X4\, Canada
CATEGORIES:Worship Service
ATTACH;FMTTYPE=image/jpeg:https://www.nuuc.ca/wp-content/uploads/2023/11/Chalice-white-candles-scaled.jpg
END:VEVENT
BEGIN:VEVENT
DTSTART;TZID=America/Toronto:20250714T210000
DTEND;TZID=America/Toronto:20250714T230000
DTSTAMP:20260419T105850
CREATED:20250307T172335Z
LAST-MODIFIED:20250307T172335Z
UID:10001204-1752526800-1752534000@www.nuuc.ca
SUMMARY:Spirit Band Rehearsal
DESCRIPTION:
URL:https://www.nuuc.ca/event/spirit-band-rehearsal-4/2025-07-14/
END:VEVENT
BEGIN:VEVENT
DTSTART;TZID=America/Toronto:20250713T103000
DTEND;TZID=America/Toronto:20250713T120000
DTSTAMP:20260419T105850
CREATED:20250630T164110Z
LAST-MODIFIED:20250630T164110Z
UID:10001502-1752402600-1752408000@www.nuuc.ca
SUMMARY:Sunday Service
DESCRIPTION:  \n 
URL:https://www.nuuc.ca/event/sunday-service-20/
LOCATION:Rafos Hall\, 310 Danforth Ave\, Toronto\, Ontario\, M4K 2X4\, Canada
CATEGORIES:Worship Service
ATTACH;FMTTYPE=image/jpeg:https://www.nuuc.ca/wp-content/uploads/2023/11/Chalice-white-candles-scaled.jpg
END:VEVENT
END:VCALENDAR