BEGIN:VCALENDAR
VERSION:2.0
PRODID:-//Neighbourhood Unitarian Universalist Congregation - ECPv6.15.20//NONSGML v1.0//EN
CALSCALE:GREGORIAN
METHOD:PUBLISH
X-WR-CALNAME:Neighbourhood Unitarian Universalist Congregation
X-ORIGINAL-URL:https://www.nuuc.ca
X-WR-CALDESC:Events for Neighbourhood Unitarian Universalist Congregation
REFRESH-INTERVAL;VALUE=DURATION:PT1H
X-Robots-Tag:noindex
X-PUBLISHED-TTL:PT1H
BEGIN:VTIMEZONE
TZID:America/Toronto
BEGIN:DAYLIGHT
TZOFFSETFROM:-0500
TZOFFSETTO:-0400
TZNAME:EDT
DTSTART:20240310T070000
END:DAYLIGHT
BEGIN:STANDARD
TZOFFSETFROM:-0400
TZOFFSETTO:-0500
TZNAME:EST
DTSTART:20241103T060000
END:STANDARD
BEGIN:DAYLIGHT
TZOFFSETFROM:-0500
TZOFFSETTO:-0400
TZNAME:EDT
DTSTART:20250309T070000
END:DAYLIGHT
BEGIN:STANDARD
TZOFFSETFROM:-0400
TZOFFSETTO:-0500
TZNAME:EST
DTSTART:20251102T060000
END:STANDARD
BEGIN:DAYLIGHT
TZOFFSETFROM:-0500
TZOFFSETTO:-0400
TZNAME:EDT
DTSTART:20260308T070000
END:DAYLIGHT
BEGIN:STANDARD
TZOFFSETFROM:-0400
TZOFFSETTO:-0500
TZNAME:EST
DTSTART:20261101T060000
END:STANDARD
END:VTIMEZONE
BEGIN:VEVENT
DTSTART;TZID=America/Toronto:20251019T150000
DTEND;TZID=America/Toronto:20251019T163000
DTSTAMP:20260423T070523
CREATED:20250829T214201Z
LAST-MODIFIED:20250829T214319Z
UID:10001642-1760886000-1760891400@www.nuuc.ca
SUMMARY:Circle Music
DESCRIPTION:Facilitated by Jane Lewis and Susanne Maziarz. All are welcome to this improvised singing circle. A creative opportunity for listening\, being in the moment\, sharing your voice\, and laughing!   \nContact Susanne at music@nuuc.ca for more info.
URL:https://www.nuuc.ca/event/circle-music-2/2025-10-19/
ATTACH;FMTTYPE=image/jpeg:https://www.nuuc.ca/wp-content/uploads/2024/01/Circle-Music-TO-no-dates-e1710073587451.jpeg
END:VEVENT
BEGIN:VEVENT
DTSTART;TZID=America/Toronto:20251019T123000
DTEND;TZID=America/Toronto:20251019T133000
DTSTAMP:20260423T070523
CREATED:20251017T194300Z
LAST-MODIFIED:20251017T194301Z
UID:10001665-1760877000-1760880600@www.nuuc.ca
SUMMARY:Neighbourhood Investments
DESCRIPTION:How are our investments doing?   October 19\, 2025 from 12:30 – 1:30PM \nFind out what’s going on with Neighbourhood’s investments! Learn about our portfolio and how it performed over the last year. The Investment Committee invites everyone to join us for a pizza lunch and a presentation about our money.
URL:https://www.nuuc.ca/event/neighbourhood-investments/
ATTACH;FMTTYPE=image/png:https://www.nuuc.ca/wp-content/uploads/2025/10/Investments.png
END:VEVENT
BEGIN:VEVENT
DTSTART;TZID=America/Toronto:20251019T103000
DTEND;TZID=America/Toronto:20251019T120000
DTSTAMP:20260423T070523
CREATED:20251017T195737Z
LAST-MODIFIED:20251017T200001Z
UID:10000628-1760869800-1760875200@www.nuuc.ca
SUMMARY:Sunday Service
DESCRIPTION:  \n 
URL:https://www.nuuc.ca/event/sunday-service-19-3/
LOCATION:Rafos Hall\, 310 Danforth Ave\, Toronto\, Ontario\, M4K 2X4\, Canada
CATEGORIES:Worship Service
ATTACH;FMTTYPE=image/jpeg:https://www.nuuc.ca/wp-content/uploads/2025/10/Sunday-service.jpg
END:VEVENT
BEGIN:VEVENT
DTSTART;TZID=America/Toronto:20251015T190000
DTEND;TZID=America/Toronto:20251015T220000
DTSTAMP:20260423T070523
CREATED:20250915T175445Z
LAST-MODIFIED:20250915T175445Z
UID:10001657-1760554800-1760565600@www.nuuc.ca
SUMMARY:NUUC Writing Group
DESCRIPTION:Drop ins are not allowed! \n 
URL:https://www.nuuc.ca/event/nuuc-writing-group-2/2025-10-15/
CATEGORIES:Small Group
END:VEVENT
BEGIN:VEVENT
DTSTART;TZID=America/Toronto:20251015T190000
DTEND;TZID=America/Toronto:20251015T210000
DTSTAMP:20260423T070523
CREATED:20250829T153303Z
LAST-MODIFIED:20260119T200313Z
UID:10001595-1760554800-1760562000@www.nuuc.ca
SUMMARY:Art as a Spiritual Practice small group
DESCRIPTION:Monthly workshops with Kristina Kiil @kkiilatwork@gmail.com.  Deepen your spiritual practice by engaging in meditative artistic activities.  Wednesday evening.  No experience is necessary. \nMonthly Wednesdays evening from 7 to 9pm.  First workshop January 21.  A Sign-up sheet is available in the Cappuccino Room
URL:https://www.nuuc.ca/event/art-as-a-spiritual-practice-small-group/2025-10-15/
CATEGORIES:Small Group
END:VEVENT
BEGIN:VEVENT
DTSTART;TZID=America/Toronto:20251015T163000
DTEND;TZID=America/Toronto:20251015T183000
DTSTAMP:20260423T070523
CREATED:20250312T165635Z
LAST-MODIFIED:20250312T171555Z
UID:10001479-1760545800-1760553000@www.nuuc.ca
SUMMARY:Board Meeting
DESCRIPTION:
URL:https://www.nuuc.ca/event/board-meeting-3/2025-10-15/
CATEGORIES:Board
END:VEVENT
BEGIN:VEVENT
DTSTART;TZID=America/Toronto:20251012T103000
DTEND;TZID=America/Toronto:20251012T120000
DTSTAMP:20260423T070523
CREATED:20250207T200538Z
LAST-MODIFIED:20250207T200538Z
UID:10000627-1760265000-1760270400@www.nuuc.ca
SUMMARY:Sunday Service
DESCRIPTION:  \n 
URL:https://www.nuuc.ca/event/sunday-service-19/2025-10-12/
LOCATION:Rafos Hall\, 310 Danforth Ave\, Toronto\, Ontario\, M4K 2X4\, Canada
CATEGORIES:Worship Service
ATTACH;FMTTYPE=image/jpeg:https://www.nuuc.ca/wp-content/uploads/2023/11/Chalice-white-candles-scaled.jpg
END:VEVENT
BEGIN:VEVENT
DTSTART;TZID=America/Toronto:20251008T190000
DTEND;TZID=America/Toronto:20251008T220000
DTSTAMP:20260423T070523
CREATED:20250915T175445Z
LAST-MODIFIED:20250915T175445Z
UID:10001656-1759950000-1759960800@www.nuuc.ca
SUMMARY:NUUC Writing Group
DESCRIPTION:Drop ins are not allowed! \n 
URL:https://www.nuuc.ca/event/nuuc-writing-group-2/2025-10-08/
CATEGORIES:Small Group
END:VEVENT
BEGIN:VEVENT
DTSTART;TZID=America/Toronto:20251008T190000
DTEND;TZID=America/Toronto:20251008T210000
DTSTAMP:20260423T070523
CREATED:20250829T151708Z
LAST-MODIFIED:20250829T151708Z
UID:10001577-1759950000-1759957200@www.nuuc.ca
SUMMARY:Active Hope Group
DESCRIPTION:
URL:https://www.nuuc.ca/event/active-hope-group/2025-10-08/
CATEGORIES:Small Group
END:VEVENT
BEGIN:VEVENT
DTSTART;TZID=America/Toronto:20251006T210000
DTEND;TZID=America/Toronto:20251006T230000
DTSTAMP:20260423T070523
CREATED:20250307T172335Z
LAST-MODIFIED:20250307T172335Z
UID:10001216-1759784400-1759791600@www.nuuc.ca
SUMMARY:Spirit Band Rehearsal
DESCRIPTION:
URL:https://www.nuuc.ca/event/spirit-band-rehearsal-4/2025-10-06/
END:VEVENT
BEGIN:VEVENT
DTSTART;TZID=America/Toronto:20251005T103000
DTEND;TZID=America/Toronto:20251005T120000
DTSTAMP:20260423T070523
CREATED:20250207T200538Z
LAST-MODIFIED:20250207T200538Z
UID:10000626-1759660200-1759665600@www.nuuc.ca
SUMMARY:Sunday Service
DESCRIPTION:  \n 
URL:https://www.nuuc.ca/event/sunday-service-19/2025-10-05/
LOCATION:Rafos Hall\, 310 Danforth Ave\, Toronto\, Ontario\, M4K 2X4\, Canada
CATEGORIES:Worship Service
ATTACH;FMTTYPE=image/jpeg:https://www.nuuc.ca/wp-content/uploads/2023/11/Chalice-white-candles-scaled.jpg
END:VEVENT
BEGIN:VEVENT
DTSTART;TZID=America/Toronto:20251004T193000
DTEND;TZID=America/Toronto:20251004T211500
DTSTAMP:20260423T070523
CREATED:20250829T210941Z
LAST-MODIFIED:20250829T210941Z
UID:10001629-1759606200-1759612500@www.nuuc.ca
SUMMARY:Talent Night
DESCRIPTION:Our 18+ years running monthly open mic.  First Saturday of the month (March 1st) Hosted by MC Allison.  All ages and types of performances are welcome. Things get underway by 7:30 and wrap up around 9:15pm. Just drop in to participate or sit back and enjoy.
URL:https://www.nuuc.ca/event/talent-night-6/2025-10-04/
ATTACH;FMTTYPE=image/jpeg:https://www.nuuc.ca/wp-content/uploads/2023/12/Talent-Night.jpg
END:VEVENT
BEGIN:VEVENT
DTSTART;TZID=America/Toronto:20251004T143000
DTEND;TZID=America/Toronto:20251004T160000
DTSTAMP:20260423T070523
CREATED:20250829T205227Z
LAST-MODIFIED:20250829T210321Z
UID:10001628-1759588200-1759593600@www.nuuc.ca
SUMMARY:Clothing Swap
DESCRIPTION:Location:   \nNeighbourhood Unitarian Universalist Congregation (NUUC) \n310 Danforth Avenue\, NE entrance (corner of Hurndale & Jackman) \nOne block west of Chester subway station \nAccessible space and ramp entrance
URL:https://www.nuuc.ca/event/clothing-swap/
ATTACH;FMTTYPE=image/png:https://www.nuuc.ca/wp-content/uploads/2025/08/nuuc-clothing-swap-for-slides.png
END:VEVENT
BEGIN:VEVENT
DTSTART;TZID=America/Toronto:20251001T190000
DTEND;TZID=America/Toronto:20251001T220000
DTSTAMP:20260423T070523
CREATED:20250915T175445Z
LAST-MODIFIED:20250915T175445Z
UID:10001655-1759345200-1759356000@www.nuuc.ca
SUMMARY:NUUC Writing Group
DESCRIPTION:Drop ins are not allowed! \n 
URL:https://www.nuuc.ca/event/nuuc-writing-group-2/2025-10-01/
CATEGORIES:Small Group
END:VEVENT
BEGIN:VEVENT
DTSTART;TZID=America/Toronto:20250929T210000
DTEND;TZID=America/Toronto:20250929T230000
DTSTAMP:20260423T070523
CREATED:20250307T172335Z
LAST-MODIFIED:20250307T172335Z
UID:10001215-1759179600-1759186800@www.nuuc.ca
SUMMARY:Spirit Band Rehearsal
DESCRIPTION:
URL:https://www.nuuc.ca/event/spirit-band-rehearsal-4/2025-09-29/
END:VEVENT
BEGIN:VEVENT
DTSTART;TZID=America/Toronto:20250928T130000
DTEND;TZID=America/Toronto:20250928T160000
DTSTAMP:20260423T070523
CREATED:20250829T212812Z
LAST-MODIFIED:20250829T212812Z
UID:10001641-1759064400-1759075200@www.nuuc.ca
SUMMARY:Q & A session with HIVE organization
DESCRIPTION:
URL:https://www.nuuc.ca/event/q-a-session-with-hive-organization/
END:VEVENT
BEGIN:VEVENT
DTSTART;TZID=America/Toronto:20250928T103000
DTEND;TZID=America/Toronto:20250928T120000
DTSTAMP:20260423T070523
CREATED:20250207T200538Z
LAST-MODIFIED:20250207T200538Z
UID:10000625-1759055400-1759060800@www.nuuc.ca
SUMMARY:Sunday Service
DESCRIPTION:  \n 
URL:https://www.nuuc.ca/event/sunday-service-19/2025-09-28/
LOCATION:Rafos Hall\, 310 Danforth Ave\, Toronto\, Ontario\, M4K 2X4\, Canada
CATEGORIES:Worship Service
ATTACH;FMTTYPE=image/jpeg:https://www.nuuc.ca/wp-content/uploads/2023/11/Chalice-white-candles-scaled.jpg
END:VEVENT
BEGIN:VEVENT
DTSTART;TZID=America/Toronto:20250924T190000
DTEND;TZID=America/Toronto:20250924T220000
DTSTAMP:20260423T070524
CREATED:20250915T175445Z
LAST-MODIFIED:20250915T175445Z
UID:10001654-1758740400-1758751200@www.nuuc.ca
SUMMARY:NUUC Writing Group
DESCRIPTION:Drop ins are not allowed! \n 
URL:https://www.nuuc.ca/event/nuuc-writing-group-2/2025-09-24/
CATEGORIES:Small Group
END:VEVENT
BEGIN:VEVENT
DTSTART;TZID=America/Toronto:20250924T190000
DTEND;TZID=America/Toronto:20250924T210000
DTSTAMP:20260423T070524
CREATED:20250829T151708Z
LAST-MODIFIED:20250829T151708Z
UID:10001576-1758740400-1758747600@www.nuuc.ca
SUMMARY:Active Hope Group
DESCRIPTION:
URL:https://www.nuuc.ca/event/active-hope-group/2025-09-24/
CATEGORIES:Small Group
END:VEVENT
BEGIN:VEVENT
DTSTART;TZID=America/Toronto:20250921T123000
DTEND;TZID=America/Toronto:20250921T133000
DTSTAMP:20260423T070524
CREATED:20250829T212406Z
LAST-MODIFIED:20250829T212406Z
UID:10001640-1758457800-1758461400@www.nuuc.ca
SUMMARY:Mimosa Sunday
DESCRIPTION:
URL:https://www.nuuc.ca/event/mimosa-sunday/
END:VEVENT
BEGIN:VEVENT
DTSTART;TZID=America/Toronto:20250921T103000
DTEND;TZID=America/Toronto:20250921T120000
DTSTAMP:20260423T070524
CREATED:20250207T200538Z
LAST-MODIFIED:20250207T200538Z
UID:10000624-1758450600-1758456000@www.nuuc.ca
SUMMARY:Sunday Service
DESCRIPTION:  \n 
URL:https://www.nuuc.ca/event/sunday-service-19/2025-09-21/
LOCATION:Rafos Hall\, 310 Danforth Ave\, Toronto\, Ontario\, M4K 2X4\, Canada
CATEGORIES:Worship Service
ATTACH;FMTTYPE=image/jpeg:https://www.nuuc.ca/wp-content/uploads/2023/11/Chalice-white-candles-scaled.jpg
END:VEVENT
BEGIN:VEVENT
DTSTART;TZID=America/Toronto:20250917T190000
DTEND;TZID=America/Toronto:20250917T220000
DTSTAMP:20260423T070524
CREATED:20250915T175445Z
LAST-MODIFIED:20250915T175445Z
UID:10001653-1758135600-1758146400@www.nuuc.ca
SUMMARY:NUUC Writing Group
DESCRIPTION:Drop ins are not allowed! \n 
URL:https://www.nuuc.ca/event/nuuc-writing-group-2/2025-09-17/
CATEGORIES:Small Group
END:VEVENT
BEGIN:VEVENT
DTSTART;TZID=America/Toronto:20250917T190000
DTEND;TZID=America/Toronto:20250917T210000
DTSTAMP:20260423T070524
CREATED:20250829T153303Z
LAST-MODIFIED:20260119T200313Z
UID:10001592-1758135600-1758142800@www.nuuc.ca
SUMMARY:Art as a Spiritual Practice small group
DESCRIPTION:Monthly workshops with Kristina Kiil @kkiilatwork@gmail.com.  Deepen your spiritual practice by engaging in meditative artistic activities.  Wednesday evening.  No experience is necessary. \nMonthly Wednesdays evening from 7 to 9pm.  First workshop January 21.  A Sign-up sheet is available in the Cappuccino Room
URL:https://www.nuuc.ca/event/art-as-a-spiritual-practice-small-group/2025-09-17/
CATEGORIES:Small Group
END:VEVENT
BEGIN:VEVENT
DTSTART;TZID=America/Toronto:20250917T190000
DTEND;TZID=America/Toronto:20250917T210000
DTSTAMP:20260423T070524
CREATED:20250829T151708Z
LAST-MODIFIED:20250829T151708Z
UID:10001575-1758135600-1758142800@www.nuuc.ca
SUMMARY:Active Hope Group
DESCRIPTION:
URL:https://www.nuuc.ca/event/active-hope-group/2025-09-17/
CATEGORIES:Small Group
END:VEVENT
BEGIN:VEVENT
DTSTART;TZID=America/Toronto:20250917T163000
DTEND;TZID=America/Toronto:20250917T183000
DTSTAMP:20260423T070524
CREATED:20250312T165635Z
LAST-MODIFIED:20250312T171555Z
UID:10001478-1758126600-1758133800@www.nuuc.ca
SUMMARY:Board Meeting
DESCRIPTION:
URL:https://www.nuuc.ca/event/board-meeting-3/2025-09-17/
CATEGORIES:Board
END:VEVENT
BEGIN:VEVENT
DTSTART;TZID=America/Toronto:20250915T210000
DTEND;TZID=America/Toronto:20250915T230000
DTSTAMP:20260423T070524
CREATED:20250307T172335Z
LAST-MODIFIED:20250307T172335Z
UID:10001213-1757970000-1757977200@www.nuuc.ca
SUMMARY:Spirit Band Rehearsal
DESCRIPTION:
URL:https://www.nuuc.ca/event/spirit-band-rehearsal-4/2025-09-15/
END:VEVENT
BEGIN:VEVENT
DTSTART;TZID=America/Toronto:20250914T120000
DTEND;TZID=America/Toronto:20250914T130000
DTSTAMP:20260423T070524
CREATED:20250829T212036Z
LAST-MODIFIED:20250829T212113Z
UID:10001639-1757851200-1757854800@www.nuuc.ca
SUMMARY:Art Show Opening
DESCRIPTION:
URL:https://www.nuuc.ca/event/art-show-opening-2/
ATTACH;FMTTYPE=image/png:https://www.nuuc.ca/wp-content/uploads/2025/08/25-09-Art-Show-1.png
END:VEVENT
BEGIN:VEVENT
DTSTART;TZID=America/Toronto:20250914T103000
DTEND;TZID=America/Toronto:20250914T120000
DTSTAMP:20260423T070524
CREATED:20250207T200538Z
LAST-MODIFIED:20250207T200538Z
UID:10000623-1757845800-1757851200@www.nuuc.ca
SUMMARY:Sunday Service
DESCRIPTION:  \n 
URL:https://www.nuuc.ca/event/sunday-service-19/2025-09-14/
LOCATION:Rafos Hall\, 310 Danforth Ave\, Toronto\, Ontario\, M4K 2X4\, Canada
CATEGORIES:Worship Service
ATTACH;FMTTYPE=image/jpeg:https://www.nuuc.ca/wp-content/uploads/2023/11/Chalice-white-candles-scaled.jpg
END:VEVENT
BEGIN:VEVENT
DTSTART;TZID=America/Toronto:20250913T193000
DTEND;TZID=America/Toronto:20250913T213000
DTSTAMP:20260423T070524
CREATED:20250815T203636Z
LAST-MODIFIED:20250815T203858Z
UID:10001509-1757791800-1757799000@www.nuuc.ca
SUMMARY:Karaoke Night
DESCRIPTION:Neighbourhood invites you to Karaoke Night \nHosted by MC Allison
URL:https://www.nuuc.ca/event/karaoke-night-3/
CATEGORIES:Music
ATTACH;FMTTYPE=image/jpeg:https://www.nuuc.ca/wp-content/uploads/2023/11/Karaoke-Night.jpeg
END:VEVENT
BEGIN:VEVENT
DTSTART;TZID=America/Toronto:20250910T190000
DTEND;TZID=America/Toronto:20250910T210000
DTSTAMP:20260423T070524
CREATED:20250829T151708Z
LAST-MODIFIED:20250829T151708Z
UID:10001574-1757530800-1757538000@www.nuuc.ca
SUMMARY:Active Hope Group
DESCRIPTION:
URL:https://www.nuuc.ca/event/active-hope-group/2025-09-10/
CATEGORIES:Small Group
END:VEVENT
END:VCALENDAR