BEGIN:VCALENDAR
VERSION:2.0
PRODID:-//Neighbourhood Unitarian Universalist Congregation - ECPv6.15.20//NONSGML v1.0//EN
CALSCALE:GREGORIAN
METHOD:PUBLISH
X-ORIGINAL-URL:https://www.nuuc.ca
X-WR-CALDESC:Events for Neighbourhood Unitarian Universalist Congregation
REFRESH-INTERVAL;VALUE=DURATION:PT1H
X-Robots-Tag:noindex
X-PUBLISHED-TTL:PT1H
BEGIN:VTIMEZONE
TZID:America/Toronto
BEGIN:DAYLIGHT
TZOFFSETFROM:-0500
TZOFFSETTO:-0400
TZNAME:EDT
DTSTART:20230312T070000
END:DAYLIGHT
BEGIN:STANDARD
TZOFFSETFROM:-0400
TZOFFSETTO:-0500
TZNAME:EST
DTSTART:20231105T060000
END:STANDARD
BEGIN:DAYLIGHT
TZOFFSETFROM:-0500
TZOFFSETTO:-0400
TZNAME:EDT
DTSTART:20240310T070000
END:DAYLIGHT
BEGIN:STANDARD
TZOFFSETFROM:-0400
TZOFFSETTO:-0500
TZNAME:EST
DTSTART:20241103T060000
END:STANDARD
BEGIN:DAYLIGHT
TZOFFSETFROM:-0500
TZOFFSETTO:-0400
TZNAME:EDT
DTSTART:20250309T070000
END:DAYLIGHT
BEGIN:STANDARD
TZOFFSETFROM:-0400
TZOFFSETTO:-0500
TZNAME:EST
DTSTART:20251102T060000
END:STANDARD
END:VTIMEZONE
BEGIN:VEVENT
DTSTART;TZID=America/Toronto:20240407T103000
DTEND;TZID=America/Toronto:20240407T120000
DTSTAMP:20260423T151248
CREATED:20240113T163746Z
LAST-MODIFIED:20240406T160542Z
UID:10000411-1712485800-1712491200@www.nuuc.ca
SUMMARY:Sunday Service – Apr 7
DESCRIPTION:April’s theme: Transformation \nSpeaker: Melina Bondy \nMessage: Touching the Earth – Bowing down and touching the earth – in reverence\, humility and community – is an important part of most sacred traditions\, though often forgotten or dismissed by modern cultures. Yet as climate chaos deepens and the violence of colonial-capitalist systems becomes more and more blatant\, the importance of earth-touching practices that connect us to the living presence of the planet and an inner sense of wholeness has never been greater. Join us to explore a Buddhist form of bowing\, Touching the Earth\, that serves both as contemplation on interdependence\, earth-honouring and moving meditation. \n 
URL:https://www.nuuc.ca/event/sunday-service-apr-7/
LOCATION:Rafos Hall\, 310 Danforth Ave\, Toronto\, Ontario\, M4K 2X4\, Canada
CATEGORIES:Worship Service
ATTACH;FMTTYPE=image/jpeg:https://www.nuuc.ca/wp-content/uploads/2024/01/Touch-the-earth-1.jpeg
END:VEVENT
BEGIN:VEVENT
DTSTART;TZID=America/Toronto:20240407T120000
DTEND;TZID=America/Toronto:20240407T130000
DTSTAMP:20260423T151248
CREATED:20240328T132147Z
LAST-MODIFIED:20240328T132315Z
UID:10000487-1712491200-1712494800@www.nuuc.ca
SUMMARY:Gallery Show Opening – Apr 7
DESCRIPTION:Neighbourhood Gallery presents:\nThe Spirit of Creativity\nIncludes work by Colour Blots Creative\, Chris Emmanuel\, Amy Fitzgerald\, Peter Marmorek\, Geralyn Marion\, Meghan McKnight\, Ravinder Ruprai\, Naomi Tyrell \nShow runs Mar 31 until May 26\, 2024 \n 
URL:https://www.nuuc.ca/event/gallery-show-opening-apr-7/
LOCATION:Neighbourhood Gallery\, 310 Danforth Ave\, Toronto\, Ontario\, M4K 1N6\, Canada
CATEGORIES:Art Gallery
ATTACH;FMTTYPE=image/png:https://www.nuuc.ca/wp-content/uploads/2024/03/NUUC-Gallery-Spirit-of-Creativity-Apr-2024.png
END:VEVENT
BEGIN:VEVENT
DTSTART;TZID=America/Toronto:20240407T180000
DTEND;TZID=America/Toronto:20240407T210000
DTSTAMP:20260423T151248
CREATED:20240320T154955Z
LAST-MODIFIED:20240320T154956Z
UID:10000480-1712512800-1712523600@www.nuuc.ca
SUMMARY:Music Rehearsal
DESCRIPTION:
URL:https://www.nuuc.ca/event/music-rehearsal/
CATEGORIES:Music
END:VEVENT
BEGIN:VEVENT
DTSTART;TZID=America/Toronto:20240408T190000
DTEND;TZID=America/Toronto:20240408T210000
DTSTAMP:20260423T151248
CREATED:20231204T232520Z
LAST-MODIFIED:20240320T152719Z
UID:10000222-1712602800-1712610000@www.nuuc.ca
SUMMARY:Spirit Choir Rehearsals – every Monday evening
DESCRIPTION:Have you thought of singing in the choir here at Neighbourhood? Weekly Mondays’ rehearsals from  7 – 9pm. \nIf you are interested in joining the choir\, please contact Susanne at music@nuuc.ca .
URL:https://www.nuuc.ca/event/spirit-choir-rehearsals-every-monday-evening/2024-04-08/
LOCATION:Rafos Hall\, 310 Danforth Ave\, Toronto\, Ontario\, M4K 2X4\, Canada
CATEGORIES:Rehearsal only
END:VEVENT
BEGIN:VEVENT
DTSTART;TZID=America/Toronto:20240408T210000
DTEND;TZID=America/Toronto:20240408T230000
DTSTAMP:20260423T151248
CREATED:20231204T232911Z
LAST-MODIFIED:20231204T232912Z
UID:10000275-1712610000-1712617200@www.nuuc.ca
SUMMARY:Spirit Band Rehearsal
DESCRIPTION:Space is booked for Sprit Band rehearsal – contact Susanne Maziarz  if you wish to join the Spirit Band
URL:https://www.nuuc.ca/event/spirit-band-rehearsal-3/2024-04-08/
CATEGORIES:Rehearsal only
END:VEVENT
BEGIN:VEVENT
DTSTART;TZID=America/Toronto:20240410T193000
DTEND;TZID=America/Toronto:20240410T210000
DTSTAMP:20260423T151248
CREATED:20240320T150727Z
LAST-MODIFIED:20240320T150727Z
UID:10000465-1712777400-1712782800@www.nuuc.ca
SUMMARY:Hatha Yoga – Wed evenings
DESCRIPTION:Hatha Yoga happens on Wednesday evenings from 7:30-9:00 pm\, in Neighbourhood’s sanctuary.  This class will include basic postures\, relaxation\, and is suitable for aging bodies.  Please bring your own yoga mat.  All are welcome. \nPlease contact Kristina Kiil if you are interested.
URL:https://www.nuuc.ca/event/hatha-yoga-wed-evenings-11/
LOCATION:Rafos Hall\, 310 Danforth Ave\, Toronto\, Ontario\, M4K 2X4\, Canada
CATEGORIES:Open Community event
ATTACH;FMTTYPE=image/png:https://www.nuuc.ca/wp-content/uploads/2023/12/yoga.png
END:VEVENT
BEGIN:VEVENT
DTSTART;TZID=America/Toronto:20240413T130000
DTEND;TZID=America/Toronto:20240413T150000
DTSTAMP:20260423T151248
CREATED:20240320T111841Z
LAST-MODIFIED:20240320T111841Z
UID:10000462-1713013200-1713020400@www.nuuc.ca
SUMMARY:Memorial for Sandy Rafos – Apr 13
DESCRIPTION:For those who knew Bob and Sandy Rafos\, know they were two much beloved members of our community for many years. Rafos Hall is named in their honour. Sandy passed away a few months ago and her daughters are holding a Celebration of Life here at Neighbourhood on April 13. All are welcome.
URL:https://www.nuuc.ca/event/memorial-for-sandy-rafos-apr-13/
LOCATION:Rafos Hall\, 310 Danforth Ave\, Toronto\, Ontario\, M4K 2X4\, Canada
CATEGORIES:memorial
ATTACH;FMTTYPE=image/jpeg:https://www.nuuc.ca/wp-content/uploads/2024/03/Sandy-Rafos-Celebration-of-Life-scaled.jpg
END:VEVENT
BEGIN:VEVENT
DTSTART;TZID=America/Toronto:20240414T103000
DTEND;TZID=America/Toronto:20240414T120000
DTSTAMP:20260423T151248
CREATED:20240113T163947Z
LAST-MODIFIED:20240413T001931Z
UID:10000412-1713090600-1713096000@www.nuuc.ca
SUMMARY:Sunday Service – Apr 14
DESCRIPTION:April’s theme: Transformation \nMessage: In the City\, on the Land \nSpeaker: Doug Anderson \nMusic: Susanne and Friends \nEducator Doug Anderson shares how work on the land by urban Indigenous people in Tkaronto reflects and serves natural and sacred laws\, as well as “Gchiinaakonigewin” and “Original Instructions.” These Original Instructions relate to diverse peoples with special consideration of their religious and spiritual traditions. Come and learn more!
URL:https://www.nuuc.ca/event/sunday-service-apr-14/
LOCATION:Rafos Hall\, 310 Danforth Ave\, Toronto\, Ontario\, M4K 2X4\, Canada
CATEGORIES:Worship Service
ATTACH;FMTTYPE=image/jpeg:https://www.nuuc.ca/wp-content/uploads/2024/01/Sun-over-icy-rocks-1024x768-1.jpeg
END:VEVENT
BEGIN:VEVENT
DTSTART;TZID=America/Toronto:20240414T120000
DTEND;TZID=America/Toronto:20240414T140000
DTSTAMP:20260423T151248
CREATED:20240221T172627Z
LAST-MODIFIED:20240328T134337Z
UID:10000456-1713096000-1713103200@www.nuuc.ca
SUMMARY:Town Hall Information Session
DESCRIPTION:There will be a Town Hall meeting in advance of our AGM to discuss proposed updates to our bylaws on Sunday\, April 14 (after service) in-Person and on Zoom. Join online using our regular Sunday service Zoom link.  \nCome learn about the Spiritual Life Committee and our evolving governance model that necessitate updates to our bylaws.
URL:https://www.nuuc.ca/event/townhall-session/
LOCATION:Rafos Hall\, 310 Danforth Ave\, Toronto\, Ontario\, M4K 2X4\, Canada
CATEGORIES:Board,meeting
END:VEVENT
BEGIN:VEVENT
DTSTART;TZID=America/Toronto:20240414T150000
DTEND;TZID=America/Toronto:20240414T170000
DTSTAMP:20260423T151248
CREATED:20240124T212813Z
LAST-MODIFIED:20240407T121639Z
UID:10000448-1713106800-1713114000@www.nuuc.ca
SUMMARY:Circle Music workshop – April 14
DESCRIPTION:Co-facilitated by Jane Lewis and Susanne Maziarz. \nAll are welcome to this improvised singing circle. \nA creative opportunity for listening\, being in the moment\, sharing your voice\, and laughing! \nContact Susanne at music@nuuc.ca for more info.
URL:https://www.nuuc.ca/event/circle-music-workshop-2/
LOCATION:Rafos Hall\, 310 Danforth Ave\, Toronto\, Ontario\, M4K 2X4\, Canada
CATEGORIES:external sponsored by NUUC,Music
ATTACH;FMTTYPE=image/jpeg:https://www.nuuc.ca/wp-content/uploads/2024/01/Circle-Music-TO-no-dates-e1710073587451.jpeg
END:VEVENT
BEGIN:VEVENT
DTSTART;TZID=America/Toronto:20240415T190000
DTEND;TZID=America/Toronto:20240415T210000
DTSTAMP:20260423T151248
CREATED:20231204T232520Z
LAST-MODIFIED:20240320T152719Z
UID:10000223-1713207600-1713214800@www.nuuc.ca
SUMMARY:Spirit Choir Rehearsals – every Monday evening
DESCRIPTION:Have you thought of singing in the choir here at Neighbourhood? Weekly Mondays’ rehearsals from  7 – 9pm. \nIf you are interested in joining the choir\, please contact Susanne at music@nuuc.ca .
URL:https://www.nuuc.ca/event/spirit-choir-rehearsals-every-monday-evening/2024-04-15/
LOCATION:Rafos Hall\, 310 Danforth Ave\, Toronto\, Ontario\, M4K 2X4\, Canada
CATEGORIES:Rehearsal only
END:VEVENT
BEGIN:VEVENT
DTSTART;TZID=America/Toronto:20240415T210000
DTEND;TZID=America/Toronto:20240415T230000
DTSTAMP:20260423T151248
CREATED:20231204T232911Z
LAST-MODIFIED:20231204T232912Z
UID:10000276-1713214800-1713222000@www.nuuc.ca
SUMMARY:Spirit Band Rehearsal
DESCRIPTION:Space is booked for Sprit Band rehearsal – contact Susanne Maziarz  if you wish to join the Spirit Band
URL:https://www.nuuc.ca/event/spirit-band-rehearsal-3/2024-04-15/
CATEGORIES:Rehearsal only
END:VEVENT
BEGIN:VEVENT
DTSTART;TZID=America/Toronto:20240417T190000
DTEND;TZID=America/Toronto:20240417T213000
DTSTAMP:20260423T151248
CREATED:20240124T192258Z
LAST-MODIFIED:20240124T223931Z
UID:10000441-1713380400-1713389400@www.nuuc.ca
SUMMARY:NUUC Board Meetings
DESCRIPTION:
URL:https://www.nuuc.ca/event/nuuc-board-meetings-2/
LOCATION:Minister’s Office
CATEGORIES:meeting
END:VEVENT
BEGIN:VEVENT
DTSTART;TZID=America/Toronto:20240417T193000
DTEND;TZID=America/Toronto:20240417T210000
DTSTAMP:20260423T151248
CREATED:20240320T150901Z
LAST-MODIFIED:20240320T150901Z
UID:10000466-1713382200-1713387600@www.nuuc.ca
SUMMARY:Hatha Yoga – Wed evenings
DESCRIPTION:Hatha Yoga happens on Wednesday evenings from 7:30-9:00 pm\, in Neighbourhood’s sanctuary.  This class will include basic postures\, relaxation\, and is suitable for aging bodies.  Please bring your own yoga mat.  All are welcome. \nPlease contact Kristina Kiil if you are interested.
URL:https://www.nuuc.ca/event/hatha-yoga-wed-evenings-12/
LOCATION:Rafos Hall\, 310 Danforth Ave\, Toronto\, Ontario\, M4K 2X4\, Canada
CATEGORIES:Open Community event
ATTACH;FMTTYPE=image/png:https://www.nuuc.ca/wp-content/uploads/2023/12/yoga.png
END:VEVENT
BEGIN:VEVENT
DTSTART;TZID=America/Toronto:20240421T103000
DTEND;TZID=America/Toronto:20240421T120000
DTSTAMP:20260423T151248
CREATED:20240113T164124Z
LAST-MODIFIED:20240124T153247Z
UID:10000413-1713695400-1713700800@www.nuuc.ca
SUMMARY:Sunday Service – Apr 21
DESCRIPTION:April’s theme: Transformation \nMessage: Earth Day \nSpeaker: Rev Stephen Atkinson \nMusic: Spirit Band
URL:https://www.nuuc.ca/event/sunday-service-apr-21/
LOCATION:Rafos Hall\, 310 Danforth Ave\, Toronto\, Ontario\, M4K 2X4\, Canada
CATEGORIES:Worship Service
ATTACH;FMTTYPE=image/jpeg:https://www.nuuc.ca/wp-content/uploads/2023/11/Chalice-white-candles-scaled.jpg
END:VEVENT
BEGIN:VEVENT
DTSTART;TZID=America/Toronto:20240422T190000
DTEND;TZID=America/Toronto:20240422T210000
DTSTAMP:20260423T151248
CREATED:20231204T232520Z
LAST-MODIFIED:20240320T152719Z
UID:10000224-1713812400-1713819600@www.nuuc.ca
SUMMARY:Spirit Choir Rehearsals – every Monday evening
DESCRIPTION:Have you thought of singing in the choir here at Neighbourhood? Weekly Mondays’ rehearsals from  7 – 9pm. \nIf you are interested in joining the choir\, please contact Susanne at music@nuuc.ca .
URL:https://www.nuuc.ca/event/spirit-choir-rehearsals-every-monday-evening/2024-04-22/
LOCATION:Rafos Hall\, 310 Danforth Ave\, Toronto\, Ontario\, M4K 2X4\, Canada
CATEGORIES:Rehearsal only
END:VEVENT
BEGIN:VEVENT
DTSTART;TZID=America/Toronto:20240422T210000
DTEND;TZID=America/Toronto:20240422T230000
DTSTAMP:20260423T151248
CREATED:20231204T232911Z
LAST-MODIFIED:20231204T232912Z
UID:10000277-1713819600-1713826800@www.nuuc.ca
SUMMARY:Spirit Band Rehearsal
DESCRIPTION:Space is booked for Sprit Band rehearsal – contact Susanne Maziarz  if you wish to join the Spirit Band
URL:https://www.nuuc.ca/event/spirit-band-rehearsal-3/2024-04-22/
CATEGORIES:Rehearsal only
END:VEVENT
BEGIN:VEVENT
DTSTART;TZID=America/Toronto:20240427T180000
DTEND;TZID=America/Toronto:20240427T220000
DTSTAMP:20260423T151248
CREATED:20240422T161501Z
LAST-MODIFIED:20240422T195044Z
UID:10000494-1714240800-1714255200@www.nuuc.ca
SUMMARY:Games Night at Neighbourhood – Apr 27
DESCRIPTION:Why not come out and join your fellow congregants for a fun evening playing board games.  \nWe have lots of games at NUUC to play but bring one if you wish.  \nAs well\, you can bring along a snack and beverage. Hosted by Gail Raynard and Gordon Clee. 
URL:https://www.nuuc.ca/event/games-night-at-neighbourhood-2/
CATEGORIES:Open Community event
ATTACH;FMTTYPE=image/jpeg:https://www.nuuc.ca/wp-content/uploads/2023/12/Game-Night.jpeg
END:VEVENT
BEGIN:VEVENT
DTSTART;TZID=America/Toronto:20240428T103000
DTEND;TZID=America/Toronto:20240428T120000
DTSTAMP:20260423T151248
CREATED:20240113T164242Z
LAST-MODIFIED:20240423T195209Z
UID:10000414-1714300200-1714305600@www.nuuc.ca
SUMMARY:Sunday Service – Apr 28
DESCRIPTION:April’s theme: Transformation \nSpeaker: Rev Pat Trudeau \nWe will be holding a Joining Ceremony during this service.
URL:https://www.nuuc.ca/event/sunday-service-apr-28/
LOCATION:Rafos Hall\, 310 Danforth Ave\, Toronto\, Ontario\, M4K 2X4\, Canada
CATEGORIES:Worship Service
ATTACH;FMTTYPE=image/jpeg:https://www.nuuc.ca/wp-content/uploads/2023/11/Chalice-white-candles-scaled.jpg
END:VEVENT
BEGIN:VEVENT
DTSTART;TZID=America/Toronto:20240428T120000
DTEND;TZID=America/Toronto:20240428T160000
DTSTAMP:20260423T151248
CREATED:20240123T221725Z
LAST-MODIFIED:20240328T134241Z
UID:10000437-1714305600-1714320000@www.nuuc.ca
SUMMARY:Annual General Meeting (AGM) – Apr 28
DESCRIPTION:The NUUC Annual General Meeting will follow our Sunday service – In-person and on Zoom for information only (NO voting via Zoom).  \nMembers who are unable to attend\, please assign your vote to another member by completing a proxy form. \nAll are welcome (members and non-members) and encouraged to attend. \n 
URL:https://www.nuuc.ca/event/annual-general-meeting-agm-apr-28/
LOCATION:Rafos Hall\, 310 Danforth Ave\, Toronto\, Ontario\, M4K 2X4\, Canada
CATEGORIES:meeting
END:VEVENT
BEGIN:VEVENT
DTSTART;TZID=America/Toronto:20240429T190000
DTEND;TZID=America/Toronto:20240429T210000
DTSTAMP:20260423T151248
CREATED:20231204T232520Z
LAST-MODIFIED:20240320T152719Z
UID:10000225-1714417200-1714424400@www.nuuc.ca
SUMMARY:Spirit Choir Rehearsals – every Monday evening
DESCRIPTION:Have you thought of singing in the choir here at Neighbourhood? Weekly Mondays’ rehearsals from  7 – 9pm. \nIf you are interested in joining the choir\, please contact Susanne at music@nuuc.ca .
URL:https://www.nuuc.ca/event/spirit-choir-rehearsals-every-monday-evening/2024-04-29/
LOCATION:Rafos Hall\, 310 Danforth Ave\, Toronto\, Ontario\, M4K 2X4\, Canada
CATEGORIES:Rehearsal only
END:VEVENT
BEGIN:VEVENT
DTSTART;TZID=America/Toronto:20240429T210000
DTEND;TZID=America/Toronto:20240429T230000
DTSTAMP:20260423T151248
CREATED:20231204T232911Z
LAST-MODIFIED:20231204T232912Z
UID:10000278-1714424400-1714431600@www.nuuc.ca
SUMMARY:Spirit Band Rehearsal
DESCRIPTION:Space is booked for Sprit Band rehearsal – contact Susanne Maziarz  if you wish to join the Spirit Band
URL:https://www.nuuc.ca/event/spirit-band-rehearsal-3/2024-04-29/
CATEGORIES:Rehearsal only
END:VEVENT
BEGIN:VEVENT
DTSTART;TZID=America/Toronto:20240502T183000
DTEND;TZID=America/Toronto:20240502T210000
DTSTAMP:20260423T151248
CREATED:20240320T155836Z
LAST-MODIFIED:20240320T155836Z
UID:10000483-1714674600-1714683600@www.nuuc.ca
SUMMARY:Toronto East End Climate Collective
DESCRIPTION:Toronto East End Climate Collective meets in-person at Neighbourhood on the first Thursday of each month at 7:00p.m.\, and online all other Thursdays. \nTEECC is a climate advocacy\, education and discussion group. We help plan and attend climate actions and work on speaker series. All are welcome – snacks provided! For more information please contact Janet Nanos
URL:https://www.nuuc.ca/event/toronto-east-end-climate-collective-5/
LOCATION:Cappuccino Room
CATEGORIES:external sponsored by NUUC,meeting
ATTACH;FMTTYPE=image/jpeg:https://www.nuuc.ca/wp-content/uploads/2023/12/TEECC.jpg
END:VEVENT
BEGIN:VEVENT
DTSTART;TZID=America/Toronto:20240504T193000
DTEND;TZID=America/Toronto:20240504T211500
DTSTAMP:20260423T151248
CREATED:20240320T155217Z
LAST-MODIFIED:20240422T200127Z
UID:10000481-1714851000-1714857300@www.nuuc.ca
SUMMARY:Talent Night
DESCRIPTION:Our 18+ years running monthly open mic.  First Saturday of the month Hosted by MC Allison.  All ages and types of performances are welcome
URL:https://www.nuuc.ca/event/talent-night-5/
LOCATION:Rafos Hall\, 310 Danforth Ave\, Toronto\, Ontario\, M4K 2X4\, Canada
CATEGORIES:Music
ATTACH;FMTTYPE=image/jpeg:https://www.nuuc.ca/wp-content/uploads/2023/12/Talent-Night.jpg
END:VEVENT
BEGIN:VEVENT
DTSTART;TZID=America/Toronto:20240505T103000
DTEND;TZID=America/Toronto:20240505T120000
DTSTAMP:20260423T151248
CREATED:20240113T164639Z
LAST-MODIFIED:20240503T232556Z
UID:10000416-1714905000-1714910400@www.nuuc.ca
SUMMARY:Sunday Service – May 5
DESCRIPTION:May’s theme: The Spirit Of Creativity \nSpeakers: Rev Lynn Harrison \nMusic: Spirit Choir \nRev. Lynn Harrison reflects on the connection between spirituality and creativity\, while sharing a new song and the process that went into it. \n 
URL:https://www.nuuc.ca/event/sunday-service-may-12/
LOCATION:Rafos Hall\, 310 Danforth Ave\, Toronto\, Ontario\, M4K 2X4\, Canada
CATEGORIES:Worship Service
ATTACH;FMTTYPE=image/jpeg:https://www.nuuc.ca/wp-content/uploads/2023/11/Chalice-white-candles-scaled.jpg
END:VEVENT
BEGIN:VEVENT
DTSTART;TZID=America/Toronto:20240505T140000
DTEND;TZID=America/Toronto:20240505T160000
DTSTAMP:20260423T151248
CREATED:20240403T152016Z
LAST-MODIFIED:20240403T152023Z
UID:10000488-1714917600-1714924800@www.nuuc.ca
SUMMARY:SSPT + mUUvment meeting
DESCRIPTION:
URL:https://www.nuuc.ca/event/sspt-muuvment-meeting/
CATEGORIES:meeting
END:VEVENT
BEGIN:VEVENT
DTSTART;TZID=America/Toronto:20240506T190000
DTEND;TZID=America/Toronto:20240506T210000
DTSTAMP:20260423T151248
CREATED:20231204T232520Z
LAST-MODIFIED:20240320T152719Z
UID:10000226-1715022000-1715029200@www.nuuc.ca
SUMMARY:Spirit Choir Rehearsals – every Monday evening
DESCRIPTION:Have you thought of singing in the choir here at Neighbourhood? Weekly Mondays’ rehearsals from  7 – 9pm. \nIf you are interested in joining the choir\, please contact Susanne at music@nuuc.ca .
URL:https://www.nuuc.ca/event/spirit-choir-rehearsals-every-monday-evening/2024-05-06/
LOCATION:Rafos Hall\, 310 Danforth Ave\, Toronto\, Ontario\, M4K 2X4\, Canada
CATEGORIES:Rehearsal only
END:VEVENT
BEGIN:VEVENT
DTSTART;TZID=America/Toronto:20240506T210000
DTEND;TZID=America/Toronto:20240506T230000
DTSTAMP:20260423T151248
CREATED:20231204T232911Z
LAST-MODIFIED:20231204T232912Z
UID:10000279-1715029200-1715036400@www.nuuc.ca
SUMMARY:Spirit Band Rehearsal
DESCRIPTION:Space is booked for Sprit Band rehearsal – contact Susanne Maziarz  if you wish to join the Spirit Band
URL:https://www.nuuc.ca/event/spirit-band-rehearsal-3/2024-05-06/
CATEGORIES:Rehearsal only
END:VEVENT
BEGIN:VEVENT
DTSTART;TZID=America/Toronto:20240508T193000
DTEND;TZID=America/Toronto:20240508T210000
DTSTAMP:20260423T151248
CREATED:20240429T220413Z
LAST-MODIFIED:20240429T220413Z
UID:10000500-1715196600-1715202000@www.nuuc.ca
SUMMARY:Hatha Yoga – Wed evenings
DESCRIPTION:Hatha Yoga happens on Wednesday evenings from 7:30-9:00 pm\, in Neighbourhood’s sanctuary.  This class will include basic postures\, relaxation\, and is suitable for aging bodies.  Please bring your own yoga mat.  All are welcome. \nPlease contact Kristina Kiil if you are interested.
URL:https://www.nuuc.ca/event/hatha-yoga-wed-evenings-13/
LOCATION:Rafos Hall\, 310 Danforth Ave\, Toronto\, Ontario\, M4K 2X4\, Canada
CATEGORIES:Open Community event
ATTACH;FMTTYPE=image/png:https://www.nuuc.ca/wp-content/uploads/2023/12/yoga.png
END:VEVENT
BEGIN:VEVENT
DTSTART;TZID=America/Toronto:20240509T190000
DTEND;TZID=America/Toronto:20240509T210000
DTSTAMP:20260423T151248
CREATED:20240422T162016Z
LAST-MODIFIED:20240427T134447Z
UID:10000495-1715281200-1715288400@www.nuuc.ca
SUMMARY:DMC Social Justice Speakers Series event – May 9
DESCRIPTION:HARM REDUCTION AND THE OPIATE CRISIS\nSponsored by the Danforth Jewish Circle\, Social Justice Committee\, and brought to you by the Danforth Multifaith Commons group.\nAll are welcome.
URL:https://www.nuuc.ca/event/multifaith-meeting-2/
LOCATION:Rafos Hall\, 310 Danforth Ave\, Toronto\, Ontario\, M4K 2X4\, Canada
CATEGORIES:DMC
ATTACH;FMTTYPE=image/png:https://www.nuuc.ca/wp-content/uploads/2024/04/DMC-Social-Justice-Speaker-Series-May-9.png
END:VEVENT
END:VCALENDAR