BEGIN:VCALENDAR
VERSION:2.0
PRODID:-//Neighbourhood Unitarian Universalist Congregation - ECPv6.15.20//NONSGML v1.0//EN
CALSCALE:GREGORIAN
METHOD:PUBLISH
X-ORIGINAL-URL:https://www.nuuc.ca
X-WR-CALDESC:Events for Neighbourhood Unitarian Universalist Congregation
REFRESH-INTERVAL;VALUE=DURATION:PT1H
X-Robots-Tag:noindex
X-PUBLISHED-TTL:PT1H
BEGIN:VTIMEZONE
TZID:America/Toronto
BEGIN:DAYLIGHT
TZOFFSETFROM:-0500
TZOFFSETTO:-0400
TZNAME:EDT
DTSTART:20250309T070000
END:DAYLIGHT
BEGIN:STANDARD
TZOFFSETFROM:-0400
TZOFFSETTO:-0500
TZNAME:EST
DTSTART:20251102T060000
END:STANDARD
BEGIN:DAYLIGHT
TZOFFSETFROM:-0500
TZOFFSETTO:-0400
TZNAME:EDT
DTSTART:20260308T070000
END:DAYLIGHT
BEGIN:STANDARD
TZOFFSETFROM:-0400
TZOFFSETTO:-0500
TZNAME:EST
DTSTART:20261101T060000
END:STANDARD
BEGIN:DAYLIGHT
TZOFFSETFROM:-0500
TZOFFSETTO:-0400
TZNAME:EDT
DTSTART:20270314T070000
END:DAYLIGHT
BEGIN:STANDARD
TZOFFSETFROM:-0400
TZOFFSETTO:-0500
TZNAME:EST
DTSTART:20271107T060000
END:STANDARD
END:VTIMEZONE
BEGIN:VEVENT
DTSTART;TZID=America/Toronto:20260419T103000
DTEND;TZID=America/Toronto:20260419T120000
DTSTAMP:20260420T102437
CREATED:20260405T114231Z
LAST-MODIFIED:20260405T114231Z
UID:10000654-1776594600-1776600000@www.nuuc.ca
SUMMARY:Elm Dance - Earth Day
DESCRIPTION:The Elm Dance is a circle dance popularized by Joanna Macy and practiced by lovers of life around the world. We will hear the story behind the dance\, a remembrance of the losses produced by the Chernobyl nuclear disaster. Then we will do the Elm Dance ourselves\, as a way of expressing our solidarity and sending out our intentions for the healing of our world. \nSpeaker: Natalie Zend \nWeaver: Moira \nMusic: Cassie Norton \n 
URL:https://www.nuuc.ca/event/sunday-service-19-21/
LOCATION:Rafos Hall\, 310 Danforth Ave\, Toronto\, Ontario\, M4K 2X4\, Canada
CATEGORIES:Worship Service
ATTACH;FMTTYPE=image/png:https://www.nuuc.ca/wp-content/uploads/2025/02/gdj-nymph-7148289_640.png
END:VEVENT
END:VCALENDAR