BEGIN:VCALENDAR
VERSION:2.0
PRODID:-//Neighbourhood Unitarian Universalist Congregation - ECPv6.15.20//NONSGML v1.0//EN
CALSCALE:GREGORIAN
METHOD:PUBLISH
X-WR-CALNAME:Neighbourhood Unitarian Universalist Congregation
X-ORIGINAL-URL:https://www.nuuc.ca
X-WR-CALDESC:Events for Neighbourhood Unitarian Universalist Congregation
REFRESH-INTERVAL;VALUE=DURATION:PT1H
X-Robots-Tag:noindex
X-PUBLISHED-TTL:PT1H
BEGIN:VTIMEZONE
TZID:America/Toronto
BEGIN:DAYLIGHT
TZOFFSETFROM:-0500
TZOFFSETTO:-0400
TZNAME:EDT
DTSTART:20230312T070000
END:DAYLIGHT
BEGIN:STANDARD
TZOFFSETFROM:-0400
TZOFFSETTO:-0500
TZNAME:EST
DTSTART:20231105T060000
END:STANDARD
BEGIN:DAYLIGHT
TZOFFSETFROM:-0500
TZOFFSETTO:-0400
TZNAME:EDT
DTSTART:20240310T070000
END:DAYLIGHT
BEGIN:STANDARD
TZOFFSETFROM:-0400
TZOFFSETTO:-0500
TZNAME:EST
DTSTART:20241103T060000
END:STANDARD
BEGIN:DAYLIGHT
TZOFFSETFROM:-0500
TZOFFSETTO:-0400
TZNAME:EDT
DTSTART:20250309T070000
END:DAYLIGHT
BEGIN:STANDARD
TZOFFSETFROM:-0400
TZOFFSETTO:-0500
TZNAME:EST
DTSTART:20251102T060000
END:STANDARD
END:VTIMEZONE
BEGIN:VEVENT
DTSTART;TZID=America/Toronto:20240427T180000
DTEND;TZID=America/Toronto:20240427T220000
DTSTAMP:20260420T223401
CREATED:20240422T161501Z
LAST-MODIFIED:20240422T195044Z
UID:10000494-1714240800-1714255200@www.nuuc.ca
SUMMARY:Games Night at Neighbourhood – Apr 27
DESCRIPTION:Why not come out and join your fellow congregants for a fun evening playing board games.  \nWe have lots of games at NUUC to play but bring one if you wish.  \nAs well\, you can bring along a snack and beverage. Hosted by Gail Raynard and Gordon Clee. 
URL:https://www.nuuc.ca/event/games-night-at-neighbourhood-2/
LOCATION:Ontario
CATEGORIES:Open Community event
ATTACH;FMTTYPE=image/jpeg:https://www.nuuc.ca/wp-content/uploads/2023/12/Game-Night.jpeg
END:VEVENT
BEGIN:VEVENT
DTSTART;TZID=America/Toronto:20240417T193000
DTEND;TZID=America/Toronto:20240417T210000
DTSTAMP:20260420T223401
CREATED:20240320T150901Z
LAST-MODIFIED:20240320T150901Z
UID:10000466-1713382200-1713387600@www.nuuc.ca
SUMMARY:Hatha Yoga – Wed evenings
DESCRIPTION:Hatha Yoga happens on Wednesday evenings from 7:30-9:00 pm\, in Neighbourhood’s sanctuary.  This class will include basic postures\, relaxation\, and is suitable for aging bodies.  Please bring your own yoga mat.  All are welcome. \nPlease contact Kristina Kiil if you are interested.
URL:https://www.nuuc.ca/event/hatha-yoga-wed-evenings-12/
LOCATION:Rafos Hall\, 310 Danforth Ave\, Toronto\, Ontario\, M4K 2X4\, Canada
CATEGORIES:Open Community event
ATTACH;FMTTYPE=image/png:https://www.nuuc.ca/wp-content/uploads/2023/12/yoga.png
END:VEVENT
BEGIN:VEVENT
DTSTART;TZID=America/Toronto:20240410T193000
DTEND;TZID=America/Toronto:20240410T210000
DTSTAMP:20260420T223401
CREATED:20240320T150727Z
LAST-MODIFIED:20240320T150727Z
UID:10000465-1712777400-1712782800@www.nuuc.ca
SUMMARY:Hatha Yoga – Wed evenings
DESCRIPTION:Hatha Yoga happens on Wednesday evenings from 7:30-9:00 pm\, in Neighbourhood’s sanctuary.  This class will include basic postures\, relaxation\, and is suitable for aging bodies.  Please bring your own yoga mat.  All are welcome. \nPlease contact Kristina Kiil if you are interested.
URL:https://www.nuuc.ca/event/hatha-yoga-wed-evenings-11/
LOCATION:Rafos Hall\, 310 Danforth Ave\, Toronto\, Ontario\, M4K 2X4\, Canada
CATEGORIES:Open Community event
ATTACH;FMTTYPE=image/png:https://www.nuuc.ca/wp-content/uploads/2023/12/yoga.png
END:VEVENT
BEGIN:VEVENT
DTSTART;TZID=America/Toronto:20240406T140000
DTEND;TZID=America/Toronto:20240406T173000
DTSTAMP:20260420T223401
CREATED:20231204T223005Z
LAST-MODIFIED:20240331T182759Z
UID:10000206-1712412000-1712424600@www.nuuc.ca
SUMMARY:Seventh Generation Workshop – April 6
DESCRIPTION:Are you concerned about wildfire smoke\, war breaking out in many parts of the world\, the rise in authoritarianism? Do you need a new perspective on these troubled times\, along with a dose of inspiration and hope? \nThis Work That Reconnects workshop invites you to experience yourself as an ancestor of the more beautiful world our hearts know is possible. \nFacilitated by Bruce Lyne\, Natalie Zend and Susanne Maziarz \n(tinyurl.com/7thgenworkshop). Ticket prices vary from $10 to $30.
URL:https://www.nuuc.ca/event/seventh-generation-workshop/
LOCATION:Rafos Hall\, 310 Danforth Ave\, Toronto\, Ontario\, M4K 2X4\, Canada
CATEGORIES:external sponsored by NUUC,Open Community event
ATTACH;FMTTYPE=image/png:https://www.nuuc.ca/wp-content/uploads/2023/12/Seventh-Generation-workshop-1.png
END:VEVENT
BEGIN:VEVENT
DTSTART;TZID=America/Toronto:20240403T193000
DTEND;TZID=America/Toronto:20240403T210000
DTSTAMP:20260420T223401
CREATED:20240320T150454Z
LAST-MODIFIED:20240320T150454Z
UID:10000464-1712172600-1712178000@www.nuuc.ca
SUMMARY:Hatha Yoga – Wed evenings
DESCRIPTION:Hatha Yoga happens on Wednesday evenings from 7:30-9:00 pm\, in Neighbourhood’s sanctuary.  This class will include basic postures\, relaxation\, and is suitable for aging bodies.  Please bring your own yoga mat.  All are welcome. \nPlease contact Kristina Kiil if you are interested.
URL:https://www.nuuc.ca/event/hatha-yoga-wed-evenings-10/
LOCATION:Rafos Hall\, 310 Danforth Ave\, Toronto\, Ontario\, M4K 2X4\, Canada
CATEGORIES:Open Community event
ATTACH;FMTTYPE=image/png:https://www.nuuc.ca/wp-content/uploads/2023/12/yoga.png
END:VEVENT
BEGIN:VEVENT
DTSTART;TZID=America/Toronto:20240228T193000
DTEND;TZID=America/Toronto:20240228T210000
DTSTAMP:20260420T223401
CREATED:20240122T234006Z
LAST-MODIFIED:20240124T224925Z
UID:10000436-1709148600-1709154000@www.nuuc.ca
SUMMARY:Hatha Yoga – Wed evenings
DESCRIPTION:Hatha Yoga happens on Wednesday evenings from 7:30-9:00 pm\, in Neighbourhood’s sanctuary.  This class will include basic postures\, relaxation\, and is suitable for aging bodies.  Please bring your own yoga mat.  All are welcome. \nPlease contact Kristina Kiil if you are interested.
URL:https://www.nuuc.ca/event/hatha-yoga-wed-evenings-9/
LOCATION:Rafos Hall\, 310 Danforth Ave\, Toronto\, Ontario\, M4K 2X4\, Canada
CATEGORIES:Open Community event
ATTACH;FMTTYPE=image/png:https://www.nuuc.ca/wp-content/uploads/2023/12/yoga.png
END:VEVENT
BEGIN:VEVENT
DTSTART;TZID=America/Toronto:20240221T193000
DTEND;TZID=America/Toronto:20240221T210000
DTSTAMP:20260420T223401
CREATED:20240122T233826Z
LAST-MODIFIED:20240124T225331Z
UID:10000435-1708543800-1708549200@www.nuuc.ca
SUMMARY:Hatha Yoga – Wed evenings
DESCRIPTION:Hatha Yoga happens on Wednesday evenings from 7:30-9:00 pm\, in Neighbourhood’s sanctuary.  This class will include basic postures\, relaxation\, and is suitable for aging bodies.  Please bring your own yoga mat.  All are welcome. \nPlease contact Kristina Kiil if you are interested.
URL:https://www.nuuc.ca/event/hatha-yoga-wed-evenings-8/
LOCATION:Rafos Hall\, 310 Danforth Ave\, Toronto\, Ontario\, M4K 2X4\, Canada
CATEGORIES:Open Community event
ATTACH;FMTTYPE=image/png:https://www.nuuc.ca/wp-content/uploads/2023/12/yoga.png
END:VEVENT
BEGIN:VEVENT
DTSTART;TZID=America/Toronto:20240214T193000
DTEND;TZID=America/Toronto:20240214T210000
DTSTAMP:20260420T223401
CREATED:20240122T233641Z
LAST-MODIFIED:20240124T230126Z
UID:10000434-1707939000-1707944400@www.nuuc.ca
SUMMARY:Hatha Yoga – Wed evenings
DESCRIPTION:Hatha Yoga happens on most Wednesday evenings from 7:30-9:00 pm\, in Neighbourhood’s sanctuary. \nThis class will include basic postures\, relaxation\, and is suitable for aging bodies.  Please bring your own yoga mat.  All are welcome. \nPlease contact Kristina Kiil if you are interested.
URL:https://www.nuuc.ca/event/hatha-yoga-wed-evenings-7/
LOCATION:Rafos Hall\, 310 Danforth Ave\, Toronto\, Ontario\, M4K 2X4\, Canada
CATEGORIES:Open Community event
ATTACH;FMTTYPE=image/png:https://www.nuuc.ca/wp-content/uploads/2023/12/yoga.png
END:VEVENT
BEGIN:VEVENT
DTSTART;TZID=America/Toronto:20240207T193000
DTEND;TZID=America/Toronto:20240207T210000
DTSTAMP:20260420T223401
CREATED:20240122T233129Z
LAST-MODIFIED:20240124T230716Z
UID:10000432-1707334200-1707339600@www.nuuc.ca
SUMMARY:Hatha Yoga – Wed evenings
DESCRIPTION:Hatha Yoga happens on most Wednesday evenings in Neighbourhood’s sanctuary. \nThis class will include basic postures\, relaxation\, and is suitable for aging bodies.  Please bring your own yoga mat.  All are welcome. \nPlease contact Kristina Kiil if you are interested.
URL:https://www.nuuc.ca/event/hatha-yoga-wed-evenings-6/
LOCATION:Rafos Hall\, 310 Danforth Ave\, Toronto\, Ontario\, M4K 2X4\, Canada
CATEGORIES:Open Community event
ATTACH;FMTTYPE=image/png:https://www.nuuc.ca/wp-content/uploads/2023/12/yoga.png
END:VEVENT
BEGIN:VEVENT
DTSTART;TZID=America/Toronto:20240206T190000
DTEND;TZID=America/Toronto:20240206T210000
DTSTAMP:20260420T223401
CREATED:20240124T133922Z
LAST-MODIFIED:20240124T231040Z
UID:10000438-1707246000-1707253200@www.nuuc.ca
SUMMARY:DMC Social Justice Speakers event – Feb 6
DESCRIPTION:Join our Danforth Multifaith Commons partners for this informative discussion: \nForum on Youth Mental Health \nLocation – East End United Eastminster campus sanctuary at 310 Danforth Ave beginning at 7pm. \nAll are welcome.
URL:https://www.nuuc.ca/event/dmc-social-justice-speakers-event-feb-6/
LOCATION:Eastminster Sanctuary at 310 Danforth Ave.
CATEGORIES:DMC,Open Community event
ATTACH;FMTTYPE=image/png:https://www.nuuc.ca/wp-content/uploads/2024/01/Danforth-Multifaith-Commons-Forum-on-Youth-Mental-Health.png
END:VEVENT
BEGIN:VEVENT
DTSTART;TZID=America/Toronto:20240131T193000
DTEND;TZID=America/Toronto:20240131T210000
DTSTAMP:20260420T223401
CREATED:20231204T234418Z
LAST-MODIFIED:20240131T192746Z
UID:10000378-1706729400-1706734800@www.nuuc.ca
SUMMARY:CANCELLED TODAY – Hatha Yoga
DESCRIPTION:Hatha Yoga happens on most Wednesday evenings in Neighbourhood’s sanctuary. \nThis class will include basic postures\, relaxation\, and is suitable for aging bodies.  Please bring your own yoga mat.  All are welcome. \nPlease contact Kristina Kiil if you are interested.
URL:https://www.nuuc.ca/event/hatha-yoga-wed-evenings-3/
LOCATION:Rafos Hall\, 310 Danforth Ave\, Toronto\, Ontario\, M4K 2X4\, Canada
CATEGORIES:Open Community event
ATTACH;FMTTYPE=image/png:https://www.nuuc.ca/wp-content/uploads/2023/12/yoga.png
END:VEVENT
BEGIN:VEVENT
DTSTART;TZID=America/Toronto:20240124T193000
DTEND;TZID=America/Toronto:20240124T210000
DTSTAMP:20260420T223401
CREATED:20240103T182126Z
LAST-MODIFIED:20240124T234103Z
UID:10000399-1706124600-1706130000@www.nuuc.ca
SUMMARY:Hatha Yoga – Wed evenings
DESCRIPTION:Hatha Yoga happens on most Wednesday evenings in Neighbourhood’s sanctuary. \nThis class will include basic postures\, relaxation\, and is suitable for aging bodies.  Please bring your own yoga mat.  All are welcome. \nPlease contact Kristina Kiil if you are interested.
URL:https://www.nuuc.ca/event/hatha-yoga-wed-evenings-5/
LOCATION:Rafos Hall\, 310 Danforth Ave\, Toronto\, Ontario\, M4K 2X4\, Canada
CATEGORIES:Open Community event
ATTACH;FMTTYPE=image/png:https://www.nuuc.ca/wp-content/uploads/2023/12/yoga.png
END:VEVENT
END:VCALENDAR