BEGIN:VCALENDAR
VERSION:2.0
PRODID:-//Neighbourhood Unitarian Universalist Congregation - ECPv6.15.20//NONSGML v1.0//EN
CALSCALE:GREGORIAN
METHOD:PUBLISH
X-ORIGINAL-URL:https://www.nuuc.ca
X-WR-CALDESC:Events for Neighbourhood Unitarian Universalist Congregation
REFRESH-INTERVAL;VALUE=DURATION:PT1H
X-Robots-Tag:noindex
X-PUBLISHED-TTL:PT1H
BEGIN:VTIMEZONE
TZID:America/Toronto
BEGIN:DAYLIGHT
TZOFFSETFROM:-0500
TZOFFSETTO:-0400
TZNAME:EDT
DTSTART:20250309T070000
END:DAYLIGHT
BEGIN:STANDARD
TZOFFSETFROM:-0400
TZOFFSETTO:-0500
TZNAME:EST
DTSTART:20251102T060000
END:STANDARD
BEGIN:DAYLIGHT
TZOFFSETFROM:-0500
TZOFFSETTO:-0400
TZNAME:EDT
DTSTART:20260308T070000
END:DAYLIGHT
BEGIN:STANDARD
TZOFFSETFROM:-0400
TZOFFSETTO:-0500
TZNAME:EST
DTSTART:20261101T060000
END:STANDARD
BEGIN:DAYLIGHT
TZOFFSETFROM:-0500
TZOFFSETTO:-0400
TZNAME:EDT
DTSTART:20270314T070000
END:DAYLIGHT
BEGIN:STANDARD
TZOFFSETFROM:-0400
TZOFFSETTO:-0500
TZNAME:EST
DTSTART:20271107T060000
END:STANDARD
END:VTIMEZONE
BEGIN:VEVENT
DTSTART;TZID=America/Toronto:20260110T130000
DTEND;TZID=America/Toronto:20260110T180000
DTSTAMP:20260421T001505
CREATED:20251222T192811Z
LAST-MODIFIED:20260107T133508Z
UID:10001704-1768050000-1768068000@www.nuuc.ca
SUMMARY:Good Karma of Cleaning our Spiritual Home Day!
DESCRIPTION:Please give your ideas and suggestions and join other members in taking care of our Space!  Dinner will be provided
URL:https://www.nuuc.ca/event/good-karma-of-cleaning-our-spiritual-home-day/
LOCATION:Ontario
CATEGORIES:Open Community event
ATTACH;FMTTYPE=image/jpeg:https://www.nuuc.ca/wp-content/uploads/2025/12/cleaning-day.jpg
END:VEVENT
BEGIN:VEVENT
DTSTART;TZID=America/Toronto:20260110T193000
DTEND;TZID=America/Toronto:20260110T213000
DTSTAMP:20260421T001505
CREATED:20251128T203638Z
LAST-MODIFIED:20260107T133555Z
UID:10001683-1768073400-1768080600@www.nuuc.ca
SUMMARY:Karaoke Night
DESCRIPTION:Bring your voice\, a snack to share and your beverage of choice!
URL:https://www.nuuc.ca/event/karaoke-night-4/
LOCATION:Ontario
CATEGORIES:Music,Open Community event
ATTACH;FMTTYPE=image/jpeg:https://www.nuuc.ca/wp-content/uploads/2025/09/karoake-night.jpg
END:VEVENT
END:VCALENDAR