BEGIN:VCALENDAR
VERSION:2.0
PRODID:-//Neighbourhood Unitarian Universalist Congregation - ECPv6.15.20//NONSGML v1.0//EN
CALSCALE:GREGORIAN
METHOD:PUBLISH
X-WR-CALNAME:Neighbourhood Unitarian Universalist Congregation
X-ORIGINAL-URL:https://www.nuuc.ca
X-WR-CALDESC:Events for Neighbourhood Unitarian Universalist Congregation
REFRESH-INTERVAL;VALUE=DURATION:PT1H
X-Robots-Tag:noindex
X-PUBLISHED-TTL:PT1H
BEGIN:VTIMEZONE
TZID:America/Toronto
BEGIN:DAYLIGHT
TZOFFSETFROM:-0500
TZOFFSETTO:-0400
TZNAME:EDT
DTSTART:20240310T070000
END:DAYLIGHT
BEGIN:STANDARD
TZOFFSETFROM:-0400
TZOFFSETTO:-0500
TZNAME:EST
DTSTART:20241103T060000
END:STANDARD
BEGIN:DAYLIGHT
TZOFFSETFROM:-0500
TZOFFSETTO:-0400
TZNAME:EDT
DTSTART:20250309T070000
END:DAYLIGHT
BEGIN:STANDARD
TZOFFSETFROM:-0400
TZOFFSETTO:-0500
TZNAME:EST
DTSTART:20251102T060000
END:STANDARD
BEGIN:DAYLIGHT
TZOFFSETFROM:-0500
TZOFFSETTO:-0400
TZNAME:EDT
DTSTART:20260308T070000
END:DAYLIGHT
BEGIN:STANDARD
TZOFFSETFROM:-0400
TZOFFSETTO:-0500
TZNAME:EST
DTSTART:20261101T060000
END:STANDARD
END:VTIMEZONE
BEGIN:VEVENT
DTSTART;TZID=America/Toronto:20251206T130000
DTEND;TZID=America/Toronto:20251206T160000
DTSTAMP:20260421T001116
CREATED:20251121T193036Z
LAST-MODIFIED:20251209T194753Z
UID:10001675-1765026000-1765036800@www.nuuc.ca
SUMMARY:Multifaith Market Place and Fair
DESCRIPTION:This event was a huge success! Over 30 vendors!\nArtisans • Food • Henna • Face painting \n   \nPartners: \n\nDanforth Jewish Circle\nEast End United Regional Ministry\nNeighbourhood Unitarian Universalist Congregation\nPakistani Community Centre\n\nWheelchair accessible \nwww.facebook.com/EastTorontoMultifaith
URL:https://www.nuuc.ca/event/multifaith-market-place-and-fair/
LOCATION:Ontario
CATEGORIES:Multifaith,Open Community event
END:VEVENT
END:VCALENDAR