BEGIN:VCALENDAR
VERSION:2.0
PRODID:-//Neighbourhood Unitarian Universalist Congregation - ECPv6.15.20//NONSGML v1.0//EN
CALSCALE:GREGORIAN
METHOD:PUBLISH
X-ORIGINAL-URL:https://www.nuuc.ca
X-WR-CALDESC:Events for Neighbourhood Unitarian Universalist Congregation
REFRESH-INTERVAL;VALUE=DURATION:PT1H
X-Robots-Tag:noindex
X-PUBLISHED-TTL:PT1H
BEGIN:VTIMEZONE
TZID:America/Toronto
BEGIN:DAYLIGHT
TZOFFSETFROM:-0500
TZOFFSETTO:-0400
TZNAME:EDT
DTSTART:20250309T070000
END:DAYLIGHT
BEGIN:STANDARD
TZOFFSETFROM:-0400
TZOFFSETTO:-0500
TZNAME:EST
DTSTART:20251102T060000
END:STANDARD
BEGIN:DAYLIGHT
TZOFFSETFROM:-0500
TZOFFSETTO:-0400
TZNAME:EDT
DTSTART:20260308T070000
END:DAYLIGHT
BEGIN:STANDARD
TZOFFSETFROM:-0400
TZOFFSETTO:-0500
TZNAME:EST
DTSTART:20261101T060000
END:STANDARD
BEGIN:DAYLIGHT
TZOFFSETFROM:-0500
TZOFFSETTO:-0400
TZNAME:EDT
DTSTART:20270314T070000
END:DAYLIGHT
BEGIN:STANDARD
TZOFFSETFROM:-0400
TZOFFSETTO:-0500
TZNAME:EST
DTSTART:20271107T060000
END:STANDARD
END:VTIMEZONE
BEGIN:VEVENT
DTSTART;TZID=America/Toronto:20260420T163000
DTEND;TZID=America/Toronto:20260420T183000
DTSTAMP:20260420T062206
CREATED:20251124T191452Z
LAST-MODIFIED:20251124T191452Z
UID:10001244-1776702600-1776709800@www.nuuc.ca
SUMMARY:Spirit Band Rehearsal
DESCRIPTION:Rafos Hall
URL:https://www.nuuc.ca/event/spirit-band-rehearsal-4-14/
LOCATION:Ontario
END:VEVENT
BEGIN:VEVENT
DTSTART;TZID=America/Toronto:20260420T183000
DTEND;TZID=America/Toronto:20260420T210000
DTSTAMP:20260420T062206
CREATED:20260211T163230Z
LAST-MODIFIED:20260211T163230Z
UID:10001793-1776709800-1776718800@www.nuuc.ca
SUMMARY:Spirit Choir Rehearsal
DESCRIPTION:
URL:https://www.nuuc.ca/event/spirit-choir-rehearsal-5/2026-04-20/
LOCATION:Ontario
CATEGORIES:Rehearsal only
ATTACH;FMTTYPE=image/jpeg:https://www.nuuc.ca/wp-content/uploads/2025/01/music-rainbow-1.jpg
END:VEVENT
BEGIN:VEVENT
DTSTART;TZID=America/Toronto:20260422T190000
DTEND;TZID=America/Toronto:20260422T211500
DTSTAMP:20260420T062206
CREATED:20260102T174150Z
LAST-MODIFIED:20260119T200908Z
UID:10001712-1776884400-1776892500@www.nuuc.ca
SUMMARY:Active Hope Small Group
DESCRIPTION:Concerned about wildfires? Multiple International Crises? AI taking over our future? \nJoin Dr Nate Charach and Neighbourhood’s Gwen Schauerte in a small group that empowers you to take meaningful action to address the challenges of our time. \nBased on Joanna Macy’s Work That Reconnects while integrating land-based healing practices and psychotherapeutic principles.  You will connect to your inner self\, to others in the group and to the greater natural world\, deepening your experience of community. \nLocation: Neighbourhood Unitarian Universalist Congregation (310 Danforth Ave) \nTiming: Wednesday Evenings (7:00pm to 9:15pm) on dates below \nCost: Free. Donations to Neighbourhood are welcome \nFeb 25: The Stories Of Our Time                                                Apr 22: Shifting Our Perceptions Part I \nMar 11: Coming From Gratitude                                                 May 6: Shifting Our Perceptions Part II \nMar 25: Honouring Our Pain                                                       May 20: Going Forth                           . \nApr 15 Truth Mandala (6:30pm-9:30pm)                                                                                                 . \nTo Register\, use the sign up sheet or email info@psychiatree.ca to meet with Nate and Gwen to set your intentions and learn more about the group.
URL:https://www.nuuc.ca/event/active-hope-small-group/2026-04-22/
LOCATION:Ontario
CATEGORIES:Small Group
ATTACH;FMTTYPE=image/png:https://www.nuuc.ca/wp-content/uploads/2026/01/Mushroom-Photo.png
END:VEVENT
BEGIN:VEVENT
DTSTART;TZID=America/Toronto:20260425T103000
DTEND;TZID=America/Toronto:20260425T153000
DTSTAMP:20260420T062206
CREATED:20251217T203005Z
LAST-MODIFIED:20260325T175642Z
UID:10001701-1777113000-1777131000@www.nuuc.ca
SUMMARY:Pathway to Membership all-day class
DESCRIPTION:If you are new to NUUC and thinking about joining\, or just wondering how your own unique path might fit into this community\, you can register here to participate in our one-day “Pathways to Membership” class led by Rev. Sally Fritsche with our fabulous membership volunteer team. \nNewcomers and visitors are invited to gather in-person on Saturday April 25th\, tour through our space\, get to know others new to the community\, and learn about what it means to get connected to this congregation and UUism as a whole. \nWe will eat lunch together (vegan chili provided)\, and our focus will be on building connections and answering as many of your questions as possible. Taking part in our Pathways to Membership does not mean you are committing to officially joining NUUC as a member; it is a way to get to know Neighbourhood more deeply as you figure out your own journey.
URL:https://www.nuuc.ca/event/pathway-to-membership-all-day-class/
LOCATION:Ontario
ATTACH;FMTTYPE=image/jpeg:https://www.nuuc.ca/wp-content/uploads/2025/09/Pathways-to-Membership-scaled.jpg
END:VEVENT
BEGIN:VEVENT
DTSTART;TZID=America/Toronto:20260426T103000
DTEND;TZID=America/Toronto:20260426T120000
DTSTAMP:20260420T062206
CREATED:20260406T135317Z
LAST-MODIFIED:20260406T135317Z
UID:10000655-1777199400-1777204800@www.nuuc.ca
SUMMARY:Science Fiction\, Spiritual Fact
DESCRIPTION:Speaker: Rev. Sally \nWeaver: Kurt \nMusic: Spirit Band \n 
URL:https://www.nuuc.ca/event/sunday-service-19-22/
LOCATION:Rafos Hall\, 310 Danforth Ave\, Toronto\, Ontario\, M4K 2X4\, Canada
CATEGORIES:Worship Service
ATTACH;FMTTYPE=image/png:https://www.nuuc.ca/wp-content/uploads/2025/02/geralt-ai-generated-8181281_640.png
END:VEVENT
BEGIN:VEVENT
DTSTART;TZID=America/Toronto:20260426T120000
DTEND;TZID=America/Toronto:20260426T150000
DTSTAMP:20260420T062206
CREATED:20251208T190028Z
LAST-MODIFIED:20251208T190028Z
UID:10001693-1777204800-1777215600@www.nuuc.ca
SUMMARY:Annual General Meeting
DESCRIPTION:
URL:https://www.nuuc.ca/event/annual-general-meeting/
LOCATION:Ontario
END:VEVENT
BEGIN:VEVENT
DTSTART;TZID=America/Toronto:20260427T183000
DTEND;TZID=America/Toronto:20260427T210000
DTSTAMP:20260420T062206
CREATED:20260211T163230Z
LAST-MODIFIED:20260211T163230Z
UID:10001794-1777314600-1777323600@www.nuuc.ca
SUMMARY:Spirit Choir Rehearsal
DESCRIPTION:
URL:https://www.nuuc.ca/event/spirit-choir-rehearsal-5/2026-04-27/
LOCATION:Ontario
CATEGORIES:Rehearsal only
ATTACH;FMTTYPE=image/jpeg:https://www.nuuc.ca/wp-content/uploads/2025/01/music-rainbow-1.jpg
END:VEVENT
BEGIN:VEVENT
DTSTART;TZID=America/Toronto:20260427T210000
DTEND;TZID=America/Toronto:20260427T230000
DTSTAMP:20260420T062206
CREATED:20250307T172335Z
LAST-MODIFIED:20250307T172335Z
UID:10001245-1777323600-1777330800@www.nuuc.ca
SUMMARY:Spirit Band Rehearsal
DESCRIPTION:
URL:https://www.nuuc.ca/event/spirit-band-rehearsal-4/2026-04-27/
LOCATION:Ontario
END:VEVENT
BEGIN:VEVENT
DTSTART;TZID=America/Toronto:20260429T190000
DTEND;TZID=America/Toronto:20260429T213000
DTSTAMP:20260420T062206
CREATED:20260105T174854Z
LAST-MODIFIED:20260105T174855Z
UID:10001721-1777489200-1777498200@www.nuuc.ca
SUMMARY:Writing from Four Direction Small Group
DESCRIPTION:It’s Back by Popular Demand! Peter Marmorek will facilitate a small group to help you deepen and expand your writing. We’ll write and (optionally) share our writing together. There will be 8 sessions\, every 2nd Wed from Jan. 28th. We’ll meet between 7 and 9:30.To join\, sign up in Cappuccino room\, or email Peter (marmorek@mac.com). If more than 12 people sign up\, a Jan 21 lottery will decide\, with first priority given to those who haven’t previously been in the group.
URL:https://www.nuuc.ca/event/writing-from-four-direction-small-group-2/
LOCATION:Ontario
CATEGORIES:Small Group
ATTACH;FMTTYPE=image/jpeg:https://www.nuuc.ca/wp-content/uploads/2026/01/four-directions.jpg
END:VEVENT
BEGIN:VEVENT
DTSTART;TZID=America/Toronto:20260430T123000
DTEND;TZID=America/Toronto:20260430T150000
DTSTAMP:20260420T062206
CREATED:20260410T200639Z
LAST-MODIFIED:20260410T200639Z
UID:10002131-1777552200-1777561200@www.nuuc.ca
SUMMARY:Stitch to Enrich  Gather * Create * Share
DESCRIPTION:Join us for afternoons of crafting\, conversation\, and fun. \nTime: 12:30PM – 3:30PM \nDates:      ★  Thursday\, April 16th and 30th \nLocation: The Cappuccino Room (non members please enter by center doors) \nBring your favourite crafts to work on and a lunch to keep you going! \nCome for the crafting\, stay for the company! \nPlease contact Lou Ann for more information \nshipplou@gmail.com
URL:https://www.nuuc.ca/event/stitch-to-enrich-gather-create-share/2026-04-30/
LOCATION:Ontario
ATTACH;FMTTYPE=image/png:https://www.nuuc.ca/wp-content/uploads/2026/04/stitch-to.png
END:VEVENT
END:VCALENDAR